Workbook
Name BASE2025: Tabla1[#All]
Name BASE2026: 'BASE DE DATOS 2026'!$B$2:$Q$799
Name CATEGORIAS: CATEGORIAS!$A$3:$F$169
Name CAUCA: VALIDA!$C$12:$D$12,VALIDA!$C$18:$D$18,VALIDA!$C$29:$D$29,VALIDA!#REF!,VALIDA!$C$38:$D$38,VALIDA!#REF!
Name NH: CATEGORIAS!$H$3:$I$13
Name NIVEL: CATEGORIAS!$H$3:$H$13
Name NIVELES: CATEGORIAS!$H$3:$I$12
Name VALORES: CATEGORIAS!$M$3:$P$13

Sheet BASE DE DATOS 2026
B1: SUPERCOPA 2026 - BASE DE DATOS
B2: ID | C2: NOMBRES | D2: APELLIDOS | E2: DOCUMENTO IDENTIDAD | F2: SEXO | G2: FECHA DE NACIMIENTO | H2: EDAD | I2: NIVEL DE HABILIDAD | J2: SNH | K2: SCAT | L2: CATEGORIA | M2: CLUB | N2: TABLERO | O2: VALOR INSCRIPCION | P2: OBSERVACIONES | Q2: APODO
A3: =SUBTOTAL(103,$B$3:B3) -> 1 | B3: 10 | C3: MATIAS | D3: FORERO ALDANA | E3: 1010849944 | F3: M | G3: 44243 | H3: =IF('BASE DE DATOS 2026'!$G3="","",YEAR(NOW())-YEAR(G3)) -> 5 | I3: STRIDERS | J3: =VLOOKUP(I3,NH,2,0) -> S | K3: =YEAR('BASE DE DATOS 2026'!$G3)&J3 -> 2021S | L3: =IFERROR(VLOOKUP(K3,CATEGORIAS,2,0),"") -> STRIDERS 5 AÑOS | M3: POWERBIKE | N3: 10 | O3: =IFERROR(VLOOKUP('BASE DE DATOS 2026'!$I3,CATEGORIAS!$M$3:$O$13,2,FALSE),"") -> 85000
A4: =SUBTOTAL(103,$B$3:B4) -> 2 | B4: 13 | C4: CHARLOTTE VALENTINA | D4: BELALCAZAR OSORIO | E4: 1144112260 | F4: F | G4: 44515 | H4: =IF('BASE DE DATOS 2026'!$G4="","",YEAR(NOW())-YEAR(G4)) -> 5 | I4: STRIDERS | J4: =VLOOKUP(I4,NH,2,0) -> S | K4: =YEAR('BASE DE DATOS 2026'!$G4)&J4 -> 2021S | L4: =IFERROR(VLOOKUP(K4,CATEGORIAS,2,0),"") -> STRIDERS 5 AÑOS | M4: SHAKA RACING | N4: 13 | O4: =IFERROR(VLOOKUP('BASE DE DATOS 2026'!$I4,CATEGORIAS!$M$3:$O$13,2,FALSE),"") -> 85000
A5: =SUBTOTAL(103,$B$3:B5) -> 3 | B5: 14 | C5: MAXIMILIANO | D5: HOYOS TORO | E5: 1059251369 | F5: M | G5: 44312 | H5: =IF('BASE DE DATOS 2026'!$G5="","",YEAR(NOW())-YEAR(G5)) -> 5 | I5: MINIRIDERS | J5: =VLOOKUP(I5,NH,2,0) -> E | K5: =YEAR('BASE DE DATOS 2026'!$G5)&J5 -> 2021E | L5: =IFERROR(VLOOKUP(K5,CATEGORIAS,2,0),"") -> MINIRIDERS 4 Y 5 AÑOS | M5: REAL RIDERS POPAYAN | N5: 14 | O5: =IFERROR(VLOOKUP('BASE DE DATOS 2026'!$I5,CATEGORIAS!$M$3:$O$13,2,FALSE),"") -> 85000 | Q5: LA PULGUITA HOYOS
A6: =SUBTOTAL(103,$B$3:B6) -> 4 | B6: 15 | C6: EZEQUIEL | D6: ALVARDO ASTORQUIZA | E6: 1059250630 | F6: M | G6: 43891 | H6: =IF('BASE DE DATOS 2026'!$G6="","",YEAR(NOW())-YEAR(G6)) -> 6 | I6: MINIRIDERS | J6: =VLOOKUP(I6,NH,2,0) -> E | K6: =YEAR('BASE DE DATOS 2026'!$G6)&J6 -> 2020E | L6: =IFERROR(VLOOKUP(K6,CATEGORIAS,2,0),"") -> MINIRIDERS 6 AÑOS | M6: REAL RIDERS POPAYAN | N6: 15 | O6: =IFERROR(VLOOKUP('BASE DE DATOS 2026'!$I6,CATEGORIAS!$M$3:$O$13,2,FALSE),"") -> 85000
A7: =SUBTOTAL(103,$B$3:B7) -> 5 | B7: 16 | C7: LIAM SANTIAGO | D7: MORENO CHITO | E7: 1059251408 | F7: M | G7: 44340 | H7: =IF('BASE DE DATOS 2026'!$G7="","",YEAR(NOW())-YEAR(G7)) -> 5 | I7: STRIDERS | J7: =VLOOKUP(I7,NH,2,0) -> S | K7: =YEAR('BASE DE DATOS 2026'!$G7)&J7 -> 2021S | L7: =IFERROR(VLOOKUP(K7,CATEGORIAS,2,0),"") -> STRIDERS 5 AÑOS | M7: REAL RIDERS POPAYAN | N7: 16 | O7: =IFERROR(VLOOKUP('BASE DE DATOS 2026'!$I7,CATEGORIAS!$M$3:$O$13,2,FALSE),"") -> 85000 | Q7: EL MONO DEL CAUCA
A8: =SUBTOTAL(103,$B$3:B8) -> 6 | B8: 17 | C8: JOSUÉ ALEXANDER | D8: MONTOYA OROZCO | E8: 1232812815 | F8: M | G8: 43994 | H8: =IF('BASE DE DATOS 2026'!$G8="","",YEAR(NOW())-YEAR(G8)) -> 6 | I8: MINIRIDERS | J8: =VLOOKUP(I8,NH,2,0) -> E | K8: =YEAR('BASE DE DATOS 2026'!$G8)&J8 -> 2020E | L8: =IFERROR(VLOOKUP(K8,CATEGORIAS,2,0),"") -> MINIRIDERS 6 AÑOS | M8: XTREMO BMX | N8: 17 | O8: =IFERROR(VLOOKUP('BASE DE DATOS 2026'!$I8,CATEGORIAS!$M$3:$O$13,2,FALSE),"") -> 85000 | Q8: EL MONO
A9: =SUBTOTAL(103,$B$3:B9) -> 7 | B9: 18 | C9: VALENTINO | D9: VALENCIA BETANCOURT | E9: 1111572364 | F9: M | G9: 44220 | H9: =IF('BASE DE DATOS 2026'!$G9="","",YEAR(NOW())-YEAR(G9)) -> 5 | I9: STRIDERS | J9: =VLOOKUP(I9,NH,2,0) -> S | K9: =YEAR('BASE DE DATOS 2026'!$G9)&J9 -> 2021S | L9: =IFERROR(VLOOKUP(K9,CATEGORIAS,2,0),"") -> STRIDERS 5 AÑOS | M9: XTREMO BMX | N9: 18 | O9: =IFERROR(VLOOKUP('BASE DE DATOS 2026'!$I9,CATEGORIAS!$M$3:$O$13,2,FALSE),"") -> 85000
A10: =SUBTOTAL(103,$B$3:B10) -> 8 | B10: 19 | C10: LIAM FELIPE | D10: QUIROZ ESCOBAR | E10: 1109569655 | F10: M | G10: 43951 | H10: =IF('BASE DE DATOS 2026'!$G10="","",YEAR(NOW())-YEAR(G10)) -> 6 | I10: MINIRIDERS | J10: =VLOOKUP(I10,NH,2,0) -> E | K10: =YEAR('BASE DE DATOS 2026'!$G10)&J10 -> 2020E | L10: =IFERROR(VLOOKUP(K10,CATEGORIAS,2,0),"") -> MINIRIDERS 6 AÑOS | M10: SHAKA RACING | N10: 19 | O10: =IFERROR(VLOOKUP('BASE DE DATOS 2026'!$I10,CATEGORIAS!$M$3:$O$13,2,FALSE),"") -> 85000 | Q10: EL LEON QUIROZ
A11: =SUBTOTAL(103,$B$3:B11) -> 9 | B11: 20 | C11: CAMILO | D11: CAMPO QUINTERO | E11: 1232810806 | F11: M | G11: 43831 | H11: =IF('BASE DE DATOS 2026'!$G11="","",YEAR(NOW())-YEAR(G11)) -> 6 | I11: MINIRIDERS | J11: =VLOOKUP(I11,NH,2,0) -> E | K11: =YEAR('BASE DE DATOS 2026'!$G11)&J11 -> 2020E | L11: =IFERROR(VLOOKUP(K11,CATEGORIAS,2,0),"") -> MINIRIDERS 6 AÑOS | M11: GUEPARDOS | N11: 20 | O11: =IFERROR(VLOOKUP('BASE DE DATOS 2026'!$I11,CATEGORIAS!$M$3:$O$13,2,FALSE),"") -> 85000
A12: =SUBTOTAL(103,$B$3:B12) -> 10 | B12: 21 | C12: MARTIN | D12: CAMPO QUINTERO | E12: 1232810807 | F12: M | G12: 43831 | H12: =IF('BASE DE DATOS 2026'!$G12="","",YEAR(NOW())-YEAR(G12)) -> 6 | I12: MINIRIDERS | J12: =VLOOKUP(I12,NH,2,0) -> E | K12: =YEAR('BASE DE DATOS 2026'!$G12)&J12 -> 2020E | L12: =IFERROR(VLOOKUP(K12,CATEGORIAS,2,0),"") -> MINIRIDERS 6 AÑOS | M12: GUEPARDOS | N12: 21 | O12: =IFERROR(VLOOKUP('BASE DE DATOS 2026'!$I12,CATEGORIAS!$M$3:$O$13,2,FALSE),"") -> 85000
A13: =SUBTOTAL(103,$B$3:B13) -> 11 | B13: 22 | C13: SANTIAGO | D13: RAMIREZ CIFUENTES | E13: 1110379478 | F13: M | G13: 43877 | H13: =IF('BASE DE DATOS 2026'!$G13="","",YEAR(NOW())-YEAR(G13)) -> 6 | I13: MINIRIDERS | J13: =VLOOKUP(I13,NH,2,0) -> E | K13: =YEAR('BASE DE DATOS 2026'!$G13)&J13 -> 2020E | L13: =IFERROR(VLOOKUP(K13,CATEGORIAS,2,0),"") -> MINIRIDERS 6 AÑOS | M13: XTREMO BMX | N13: 22 | O13: =IFERROR(VLOOKUP('BASE DE DATOS 2026'!$I13,CATEGORIAS!$M$3:$O$13,2,FALSE),"") -> 85000
A14: =SUBTOTAL(103,$B$3:B14) -> 12 | B14: 23 | C14: JERONIMO | D14: PERALTA MORIANO | E14: 1109572622 | F14: M | G14: 44427 | H14: =IF('BASE DE DATOS 2026'!$G14="","",YEAR(NOW())-YEAR(G14)) -> 5 | I14: STRIDERS | J14: =VLOOKUP(I14,NH,2,0) -> S | K14: =YEAR('BASE DE DATOS 2026'!$G14)&J14 -> 2021S | L14: =IFERROR(VLOOKUP(K14,CATEGORIAS,2,0),"") -> STRIDERS 5 AÑOS | M14: XTREMO BMX | N14: 23 | O14: =IFERROR(VLOOKUP('BASE DE DATOS 2026'!$I14,CATEGORIAS!$M$3:$O$13,2,FALSE),"") -> 85000
A15: =SUBTOTAL(103,$B$3:B15) -> 13 | B15: 25 | C15: VALENTINO | D15: FRANCO MUÑOZ | E15: 1109569542 | F15: M | G15: 43910 | H15: =IF('BASE DE DATOS 2026'!$G15="","",YEAR(NOW())-YEAR(G15)) -> 6 | I15: MINIRIDERS | J15: =VLOOKUP(I15,NH,2,0) -> E | K15: =YEAR('BASE DE DATOS 2026'!$G15)&J15 -> 2020E | L15: =IFERROR(VLOOKUP(K15,CATEGORIAS,2,0),"") -> MINIRIDERS 6 AÑOS | M15: XTREMO BMX | N15: 25 | O15: =IFERROR(VLOOKUP('BASE DE DATOS 2026'!$I15,CATEGORIAS!$M$3:$O$13,2,FALSE),"") -> 85000 | Q15: TIGRE FRANCO
A16: =SUBTOTAL(103,$B$3:B16) -> 14 | B16: 26 | C16: LUCCA | D16: DIAZ DEL CHIARO | E16: 1232815236 | F16: M | G16: 44247 | H16: =IF('BASE DE DATOS 2026'!$G16="","",YEAR(NOW())-YEAR(G16)) -> 5 | I16: STRIDERS | J16: =VLOOKUP(I16,NH,2,0) -> S | K16: =YEAR('BASE DE DATOS 2026'!$G16)&J16 -> 2021S | L16: =IFERROR(VLOOKUP(K16,CATEGORIAS,2,0),"") -> STRIDERS 5 AÑOS | M16: XTREMO BMX | N16: 26 | O16: =IFERROR(VLOOKUP('BASE DE DATOS 2026'!$I16,CATEGORIAS!$M$3:$O$13,2,FALSE),"") -> 85000
A17: =SUBTOTAL(103,$B$3:B17) -> 15 | B17: 28 | C17: MAXIMILIANO | D17: MONTENEGRO RESTREPO | E17: 1058554558 | F17: M | G17: 44281 | H17: =IF('BASE DE DATOS 2026'!$G17="","",YEAR(NOW())-YEAR(G17)) -> 5 | I17: STRIDERS | J17: =VLOOKUP(I17,NH,2,0) -> S | K17: =YEAR('BASE DE DATOS 2026'!$G17)&J17 -> 2021S | L17: =IFERROR(VLOOKUP(K17,CATEGORIAS,2,0),"") -> STRIDERS 5 AÑOS | M17: CHAMPION FACTORY | N17: 28 | O17: =IFERROR(VLOOKUP('BASE DE DATOS 2026'!$I17,CATEGORIAS!$M$3:$O$13,2,FALSE),"") -> 85000 | Q17: EL TORITO DEL CAUCA
A18: =SUBTOTAL(103,$B$3:B18) -> 16 | B18: 30 | C18: AGUSTIN | D18: JARAMILLO GUEVARA | E18: 1109938537 | F18: M | G18: 43975 | H18: =IF('BASE DE DATOS 2026'!$G18="","",YEAR(NOW())-YEAR(G18)) -> 6 | I18: MINIRIDERS | J18: =VLOOKUP(I18,NH,2,0) -> E | K18: =YEAR('BASE DE DATOS 2026'!$G18)&J18 -> 2020E | L18: =IFERROR(VLOOKUP(K18,CATEGORIAS,2,0),"") -> MINIRIDERS 6 AÑOS | M18: CICLON BMX | N18: 30 | O18: =IFERROR(VLOOKUP('BASE DE DATOS 2026'!$I18,CATEGORIAS!$M$3:$O$13,2,FALSE),"") -> 85000
A19: =SUBTOTAL(103,$B$3:B19) -> 17 | B19: 31 | C19: ISAAC | D19: VELASCO ARISTIZABAL | E19: 1109121860 | F19: M | G19: 43931 | H19: =IF('BASE DE DATOS 2026'!$G19="","",YEAR(NOW())-YEAR(G19)) -> 6 | I19: MINIRIDERS | J19: =VLOOKUP(I19,NH,2,0) -> E | K19: =YEAR('BASE DE DATOS 2026'!$G19)&J19 -> 2020E | L19: =IFERROR(VLOOKUP(K19,CATEGORIAS,2,0),"") -> MINIRIDERS 6 AÑOS | M19: CICLON BMX | N19: 31 | O19: =IFERROR(VLOOKUP('BASE DE DATOS 2026'!$I19,CATEGORIAS!$M$3:$O$13,2,FALSE),"") -> 85000
A20: =SUBTOTAL(103,$B$3:B20) -> 18 | B20: 36 | C20: MAXIMILIANO | D20: VELASCO ARISTIZABAL | E20: 1109121861 | F20: M | G20: 43931 | H20: =IF('BASE DE DATOS 2026'!$G20="","",YEAR(NOW())-YEAR(G20)) -> 6 | I20: MINIRIDERS | J20: =VLOOKUP(I20,NH,2,0) -> E | K20: =YEAR('BASE DE DATOS 2026'!$G20)&J20 -> 2020E | L20: =IFERROR(VLOOKUP(K20,CATEGORIAS,2,0),"") -> MINIRIDERS 6 AÑOS | M20: CICLON BMX | N20: 36 | O20: =IFERROR(VLOOKUP('BASE DE DATOS 2026'!$I20,CATEGORIAS!$M$3:$O$13,2,FALSE),"") -> 85000
A21: =SUBTOTAL(103,$B$3:B21) -> 19 | B21: 37 | C21: LIAM STIVEN | D21: GRAJALES VARGAS | E21: 1114012296 | F21: M | G21: 43360 | H21: =IF('BASE DE DATOS 2026'!$G21="","",YEAR(NOW())-YEAR(G21)) -> 8 | I21: MINIRIDERS | J21: =VLOOKUP(I21,NH,2,0) -> E | K21: =YEAR('BASE DE DATOS 2026'!$G21)&J21 -> 2018E | L21: =IFERROR(VLOOKUP(K21,CATEGORIAS,2,0),"") -> MINIRIDERS 7 Y 8 AÑOS | M21: BMX ATTACK | N21: 37 | O21: =IFERROR(VLOOKUP('BASE DE DATOS 2026'!$I21,CATEGORIAS!$M$3:$O$13,2,FALSE),"") -> 85000
A22: =SUBTOTAL(103,$B$3:B22) -> 20 | B22: 38 | C22: LUCIANA | D22: ACEVEDO OBANDO | E22: 1114249166 | F22: F | G22: 43539 | H22: =IF('BASE DE DATOS 2026'!$G22="","",YEAR(NOW())-YEAR(G22)) -> 7 | I22: DAMAS | J22: =VLOOKUP(I22,NH,2,0) -> D | K22: =YEAR('BASE DE DATOS 2026'!$G22)&J22 -> 2019D | L22: =IFERROR(VLOOKUP(K22,CATEGORIAS,2,0),"") -> DAMAS 7 Y 8 AÑOS | M22: BMX PALMIRA | N22: 38 | O22: =IFERROR(VLOOKUP('BASE DE DATOS 2026'!$I22,CATEGORIAS!$M$3:$O$13,2,FALSE),"") -> 85000 | Q22: LA CHISPITA ACEVEDO
A23: =SUBTOTAL(103,$B$3:B23) -> 21 | B23: 39 | C23: EITHIAN | D23: HURTADO BERMUDEZ | E23: 1114249319 | F23: M | G23: 43882 | H23: =IF('BASE DE DATOS 2026'!$G23="","",YEAR(NOW())-YEAR(G23)) -> 6 | I23: MINIRIDERS | J23: =VLOOKUP(I23,NH,2,0) -> E | K23: =YEAR('BASE DE DATOS 2026'!$G23)&J23 -> 2020E | L23: =IFERROR(VLOOKUP(K23,CATEGORIAS,2,0),"") -> MINIRIDERS 6 AÑOS | M23: BMX ATTACK | N23: 39 | O23: =IFERROR(VLOOKUP('BASE DE DATOS 2026'!$I23,CATEGORIAS!$M$3:$O$13,2,FALSE),"") -> 85000
A24: =SUBTOTAL(103,$B$3:B24) -> 22 | B24: 41 | C24: MARIA PAUALA | D24: CHILITO FAJARDO | E24: 1061546676 | F24: F | G24: 43466 | H24: =IF('BASE DE DATOS 2026'!$G24="","",YEAR(NOW())-YEAR(G24)) -> 7 | I24: DAMAS | J24: =VLOOKUP(I24,NH,2,0) -> D | K24: =YEAR('BASE DE DATOS 2026'!$G24)&J24 -> 2019D | L24: =IFERROR(VLOOKUP(K24,CATEGORIAS,2,0),"") -> DAMAS 7 Y 8 AÑOS | M24: DREAM TEAM BMX CAUCA | N24: 41 | O24: =IFERROR(VLOOKUP('BASE DE DATOS 2026'!$I24,CATEGORIAS!$M$3:$O$13,2,FALSE),"") -> 85000
A25: =SUBTOTAL(103,$B$3:B25) -> 23 | B25: 42 | C25: DYLAN SANTIAGO | D25: CAMPO SUAREZ | E25: 1104837479 | F25: M | G25: 42269 | H25: =IF('BASE DE DATOS 2026'!$G25="","",YEAR(NOW())-YEAR(G25)) -> 11 | I25: PRINCIPIANTES | J25: =VLOOKUP(I25,NH,2,0) -> P | K25: =YEAR('BASE DE DATOS 2026'!$G25)&J25 -> 2015P | L25: =IFERROR(VLOOKUP(K25,CATEGORIAS,2,0),"") -> PRINCIPIANTES 11 Y 12 AÑOS | M25: MANUBRIOS DE ORO | N25: 42 | O25: =IFERROR(VLOOKUP('BASE DE DATOS 2026'!$I25,CATEGORIAS!$M$3:$O$13,2,FALSE),"") -> 85000
A26: =SUBTOTAL(103,$B$3:B26) -> 24 | B26: 45 | C26: EMILIANO | D26: ERAZO | E26: 1150692727 | F26: M | G26: 42055 | H26: =IF('BASE DE DATOS 2026'!$G26="","",YEAR(NOW())-YEAR(G26)) -> 11 | I26: PRINCIPIANTES | J26: =VLOOKUP(I26,NH,2,0) -> P | K26: =YEAR('BASE DE DATOS 2026'!$G26)&J26 -> 2015P | L26: =IFERROR(VLOOKUP(K26,CATEGORIAS,2,0),"") -> PRINCIPIANTES 11 Y 12 AÑOS | M26: SANTAMARIA RACING | N26: 45 | O26: =IFERROR(VLOOKUP('BASE DE DATOS 2026'!$I26,CATEGORIAS!$M$3:$O$13,2,FALSE),"") -> 85000
A27: =SUBTOTAL(103,$B$3:B27) -> 25 | B27: 46 | C27: JACOBO | D27: VELASCO ASTAIZA | E27: 1058554342 | F27: M | G27: 43977 | H27: =IF('BASE DE DATOS 2026'!$G27="","",YEAR(NOW())-YEAR(G27)) -> 6 | I27: NOVATOS | J27: =VLOOKUP(I27,NH,2,0) -> N | K27: =YEAR('BASE DE DATOS 2026'!$G27)&J27 -> 2020N | L27: =IFERROR(VLOOKUP(K27,CATEGORIAS,2,0),"") -> NOVATOS 6 AÑOS Y MENOS | M27: REAL RIDERS POPAYAN | N27: 46 | O27: =IFERROR(VLOOKUP('BASE DE DATOS 2026'!$I27,CATEGORIAS!$M$3:$O$13,2,FALSE),"") -> 85000 | P27: SE SUBE DE NIVEL POR NAL
A28: =SUBTOTAL(103,$B$3:B28) -> 26 | B28: 47 | C28: JERONIMO | D28: VELASCO ASTAIZA | E28: 1058554341 | F28: M | G28: 43977 | H28: =IF('BASE DE DATOS 2026'!$G28="","",YEAR(NOW())-YEAR(G28)) -> 6 | I28: NOVATOS | J28: =VLOOKUP(I28,NH,2,0) -> N | K28: =YEAR('BASE DE DATOS 2026'!$G28)&J28 -> 2020N | L28: =IFERROR(VLOOKUP(K28,CATEGORIAS,2,0),"") -> NOVATOS 6 AÑOS Y MENOS | M28: REAL RIDERS POPAYAN | N28: 47 | O28: =IFERROR(VLOOKUP('BASE DE DATOS 2026'!$I28,CATEGORIAS!$M$3:$O$13,2,FALSE),"") -> 85000 | P28: SE SUBE DE NIVEL POR NAL
A29: =SUBTOTAL(103,$B$3:B29) -> 27 | B29: 48 | C29: ISAAC | D29: VASQUEZ BECERRA | E29: 1114319153 | F29: M | G29: 43373 | H29: =IF('BASE DE DATOS 2026'!$G29="","",YEAR(NOW())-YEAR(G29)) -> 8 | I29: PRINCIPIANTES | J29: =VLOOKUP(I29,NH,2,0) -> P | K29: =YEAR('BASE DE DATOS 2026'!$G29)&J29 -> 2018P | L29: =IFERROR(VLOOKUP(K29,CATEGORIAS,2,0),"") -> PRINCIPIANTES 7 Y 8 AÑOS | M29: BMX PALMIRA | N29: 48 | O29: =IFERROR(VLOOKUP('BASE DE DATOS 2026'!$I29,CATEGORIAS!$M$3:$O$13,2,FALSE),"") -> 85000
A30: =SUBTOTAL(103,$B$3:B30) -> 28 | B30: 49 | C30: JERONIMO | D30: VIVAS COCUY | E30: 1114558215 | F30: M | G30: 43987 | H30: =IF('BASE DE DATOS 2026'!$G30="","",YEAR(NOW())-YEAR(G30)) -> 6 | I30: PRINCIPIANTES | J30: =VLOOKUP(I30,NH,2,0) -> P | K30: =YEAR('BASE DE DATOS 2026'!$G30)&J30 -> 2020P | L30: =IFERROR(VLOOKUP(K30,CATEGORIAS,2,0),"") -> PRINCIPIANTES 6 AÑOS Y MENOS | M30: BMX PALMIRA | N30: 49 | O30: =IFERROR(VLOOKUP('BASE DE DATOS 2026'!$I30,CATEGORIAS!$M$3:$O$13,2,FALSE),"") -> 85000
A31: =SUBTOTAL(103,$B$3:B31) -> 29 | B31: 50 | C31: JOEL SANTIAGO | D31: JOVEN ERAZO | E31: 1114555506 | F31: M | G31: 43195 | H31: =IF('BASE DE DATOS 2026'!$G31="","",YEAR(NOW())-YEAR(G31)) -> 8 | I31: PRINCIPIANTES | J31: =VLOOKUP(I31,NH,2,0) -> P | K31: =YEAR('BASE DE DATOS 2026'!$G31)&J31 -> 2018P | L31: =IFERROR(VLOOKUP(K31,CATEGORIAS,2,0),"") -> PRINCIPIANTES 7 Y 8 AÑOS | M31: BMX PALMIRA | N31: 50 | O31: =IFERROR(VLOOKUP('BASE DE DATOS 2026'!$I31,CATEGORIAS!$M$3:$O$13,2,FALSE),"") -> 85000 | Q31: LA PIRAÑA DEL VALLE
A32: =SUBTOTAL(103,$B$3:B32) -> 30 | B32: 53 | C32: EMMANUEL | D32: ROMERO MEDINA | E32: 1104842612 | F32: M | G32: 43180 | H32: =IF('BASE DE DATOS 2026'!$G32="","",YEAR(NOW())-YEAR(G32)) -> 8 | I32: NOVATOS | J32: =VLOOKUP(I32,NH,2,0) -> N | K32: =YEAR('BASE DE DATOS 2026'!$G32)&J32 -> 2018N | L32: =IFERROR(VLOOKUP(K32,CATEGORIAS,2,0),"") -> NOVATOS 7 Y 8 AÑOS | M32: XTREMO BMX | N32: 53 | O32: =IFERROR(VLOOKUP('BASE DE DATOS 2026'!$I32,CATEGORIAS!$M$3:$O$13,2,FALSE),"") -> 85000 | Q32: LA MARAVILLA
A33: =SUBTOTAL(103,$B$3:B33) -> 31 | B33: 54 | C33: GERONIMO | D33: RODRIGUEZ VALLEJO | E33: 1109568418 | F33: M | G33: 43716 | H33: =IF('BASE DE DATOS 2026'!$G33="","",YEAR(NOW())-YEAR(G33)) -> 7 | I33: PRINCIPIANTES | J33: =VLOOKUP(I33,NH,2,0) -> P | K33: =YEAR('BASE DE DATOS 2026'!$G33)&J33 -> 2019P | L33: =IFERROR(VLOOKUP(K33,CATEGORIAS,2,0),"") -> PRINCIPIANTES 7 Y 8 AÑOS | M33: XTREMO BMX | N33: 54 | O33: =IFERROR(VLOOKUP('BASE DE DATOS 2026'!$I33,CATEGORIAS!$M$3:$O$13,2,FALSE),"") -> 85000 | Q33: EL TORITO
A34: =SUBTOTAL(103,$B$3:B34) -> 32 | B34: 56 | C34: MARTIN | D34: VARGAS PEREZ | E34: 1109560767 | F34: M | G34: 42526 | H34: =IF('BASE DE DATOS 2026'!$G34="","",YEAR(NOW())-YEAR(G34)) -> 10 | I34: MINIRIDERS | J34: =VLOOKUP(I34,NH,2,0) -> E | K34: =YEAR('BASE DE DATOS 2026'!$G34)&J34 -> 2016E | L34: =IFERROR(VLOOKUP(K34,CATEGORIAS,2,0),"") -> MINIRIDERS 9 Y 10 AÑOS | M34: XTREMO BMX | N34: 56 | O34: =IFERROR(VLOOKUP('BASE DE DATOS 2026'!$I34,CATEGORIAS!$M$3:$O$13,2,FALSE),"") -> 85000
A35: =SUBTOTAL(103,$B$3:B35) -> 33 | B35: 57 | C35: AARON JACK | D35: RUIZ NAVARRO | E35: 1114322662 | F35: M | G35: 44937 | H35: =IF('BASE DE DATOS 2026'!$G35="","",YEAR(NOW())-YEAR(G35)) -> 3 | I35: STRIDERS | J35: =VLOOKUP(I35,NH,2,0) -> S | K35: =YEAR('BASE DE DATOS 2026'!$G35)&J35 -> 2023S | L35: =IFERROR(VLOOKUP(K35,CATEGORIAS,2,0),"") -> STRIDERS 2 Y 3 AÑOS | M35: BMX ATTACK | N35: 57 | O35: =IFERROR(VLOOKUP('BASE DE DATOS 2026'!$I35,CATEGORIAS!$M$3:$O$13,2,FALSE),"") -> 85000
A36: =SUBTOTAL(103,$B$3:B36) -> 34 | B36: 62 | C36: LIAYAN STIVEN | D36: RIOS ROMERO | E36: 1114013078 | F36: M | G36: 43675 | H36: =IF('BASE DE DATOS 2026'!$G36="","",YEAR(NOW())-YEAR(G36)) -> 7 | I36: PRINCIPIANTES | J36: =VLOOKUP(I36,NH,2,0) -> P | K36: =YEAR('BASE DE DATOS 2026'!$G36)&J36 -> 2019P | L36: =IFERROR(VLOOKUP(K36,CATEGORIAS,2,0),"") -> PRINCIPIANTES 7 Y 8 AÑOS | M36: XTREMO BMX | N36: 62 | O36: =IFERROR(VLOOKUP('BASE DE DATOS 2026'!$I36,CATEGORIAS!$M$3:$O$13,2,FALSE),"") -> 85000
A37: =SUBTOTAL(103,$B$3:B37) -> 35 | B37: 67 | C37: EMMANUEL | D37: RIVERA JARAMILLO | E37: 1232793740 | F37: M | G37: 42227 | H37: =IF('BASE DE DATOS 2026'!$G37="","",YEAR(NOW())-YEAR(G37)) -> 11 | I37: NOVATOS | J37: =VLOOKUP(I37,NH,2,0) -> N | K37: =YEAR('BASE DE DATOS 2026'!$G37)&J37 -> 2015N | L37: =IFERROR(VLOOKUP(K37,CATEGORIAS,2,0),"") -> NOVATOS 11 Y 12 AÑOS | M37: PILOTOS BMX | N37: 67 | O37: =IFERROR(VLOOKUP('BASE DE DATOS 2026'!$I37,CATEGORIAS!$M$3:$O$13,2,FALSE),"") -> 85000
A38: =SUBTOTAL(103,$B$3:B38) -> 36 | B38: 68 | C38: THIAGO ITZAE | D38: LUNA GARCIA | E38: 1116379565 | F38: M | G38: 42357 | H38: =IF('BASE DE DATOS 2026'!$G38="","",YEAR(NOW())-YEAR(G38)) -> 11 | I38: PRINCIPIANTES | J38: =VLOOKUP(I38,NH,2,0) -> P | K38: =YEAR('BASE DE DATOS 2026'!$G38)&J38 -> 2015P | L38: =IFERROR(VLOOKUP(K38,CATEGORIAS,2,0),"") -> PRINCIPIANTES 11 Y 12 AÑOS | M38: PILOTOS BMX | N38: 68 | O38: =IFERROR(VLOOKUP('BASE DE DATOS 2026'!$I38,CATEGORIAS!$M$3:$O$13,2,FALSE),"") -> 85000 | Q38: LA BESTIA MARQUEZ
A39: =SUBTOTAL(103,$B$3:B39) -> 37 | B39: 69 | C39: EMILIANO | D39: BELALCAZAR VALLADARES | E39: 1061824772 | F39: M | G39: 43429 | H39: =IF('BASE DE DATOS 2026'!$G39="","",YEAR(NOW())-YEAR(G39)) -> 8 | I39: MINIRIDERS | J39: =VLOOKUP(I39,NH,2,0) -> E | K39: =YEAR('BASE DE DATOS 2026'!$G39)&J39 -> 2018E | L39: =IFERROR(VLOOKUP(K39,CATEGORIAS,2,0),"") -> MINIRIDERS 7 Y 8 AÑOS | M39: DREAM TEAM BMX CAUCA | N39: 69 | O39: =IFERROR(VLOOKUP('BASE DE DATOS 2026'!$I39,CATEGORIAS!$M$3:$O$13,2,FALSE),"") -> 85000 | Q39: LA MAQUINA RIVERA
A40: =SUBTOTAL(103,$B$3:B40) -> 38 | B40: 70 | C40: MIGUEL ANGEL | D40: CARDOZO ARCOS | E40: 1029626480 | F40: M | G40: 43516 | H40: =IF('BASE DE DATOS 2026'!$G40="","",YEAR(NOW())-YEAR(G40)) -> 7 | I40: PRINCIPIANTES | J40: =VLOOKUP(I40,NH,2,0) -> P | K40: =YEAR('BASE DE DATOS 2026'!$G40)&J40 -> 2019P | L40: =IFERROR(VLOOKUP(K40,CATEGORIAS,2,0),"") -> PRINCIPIANTES 7 Y 8 AÑOS | M40: DREAM TEAM BMX CAUCA | N40: 70 | O40: =IFERROR(VLOOKUP('BASE DE DATOS 2026'!$I40,CATEGORIAS!$M$3:$O$13,2,FALSE),"") -> 85000 | Q40: EL GUEPARDO
...

Sheet BASE DE DATOS (2)
B1: SUPERCOPA 2026 - BASE DE DATOS
B2: ID | C2: NOMBRES | D2: APELLIDOS | E2: DOCUMENTO IDENTIDAD | F2: SEXO | G2: FECHA DE NACIMIENTO | H2: EDAD | I2: NIVEL DE HABILIDAD | J2: SNH | K2: SCAT | L2: CATEGORIA | M2: CLUB | N2: TABLERO | O2: VALOR INSCRIPCION | P2: OBSERVACIONES | Q2: NACIONALES
B3: 10 | C3: MATIAS | D3: FORERO ALDANA | E3: 1010849944 | F3: M | G3: 44243 | H3: =IF(Tabla110[[#This Row],[FECHA DE NACIMIENTO]]="","",YEAR(NOW())-YEAR(Tabla110[[#This Row],[FECHA DE NACIMIENTO]])) -> 5 | I3: STRIDERS | J3: =VLOOKUP(I3,NH,2,0) -> S | K3: =Tabla110[[#This Row],[FECHA DE NACIMIENTO]]&J3 -> 44243S | L3: =IFERROR(VLOOKUP(K3,CATEGORIAS,2,0),"") | M3: CHAMPIONS TEAM | N3: 10 | O3: =IFERROR(VLOOKUP(Tabla110[[#This Row],[NIVEL DE HABILIDAD]],CATEGORIAS!$M$3:$O$13,2,FALSE),"") -> 85000
B4: 11 | C4: ANTONY | D4: GALICIA CLAROS | E4: 1144321051 | F4: M | G4: 2021 | H4: =IF(Tabla110[[#This Row],[FECHA DE NACIMIENTO]]="","",YEAR(NOW())-Tabla110[[#This Row],[FECHA DE NACIMIENTO]]) -> 5 | I4: STRIDERS | J4: =VLOOKUP(I4,NH,2,0) -> S | K4: =Tabla110[[#This Row],[FECHA DE NACIMIENTO]]&J4 -> 2021S | L4: =IFERROR(VLOOKUP(K4,CATEGORIAS,2,0),"") -> STRIDERS 5 AÑOS | M4: BMX ATTACK | N4: 11 | O4: =IFERROR(VLOOKUP(Tabla110[[#This Row],[NIVEL DE HABILIDAD]],CATEGORIAS!$M$3:$O$13,2,FALSE),"") -> 85000
B5: 12 | C5: LUCIANO | D5: LASSO STERLING | E5: 1114249418 | F5: M | G5: 2020 | H5: =IF(Tabla110[[#This Row],[FECHA DE NACIMIENTO]]="","",YEAR(NOW())-Tabla110[[#This Row],[FECHA DE NACIMIENTO]]) -> 6 | I5: MINIRIDERS | J5: =VLOOKUP(I5,NH,2,0) -> E | K5: =Tabla110[[#This Row],[FECHA DE NACIMIENTO]]&J5 -> 2020E | L5: =IFERROR(VLOOKUP(K5,CATEGORIAS,2,0),"") -> MINIRIDERS 6 AÑOS | M5: BMX PALMIRA | N5: 12 | O5: =IFERROR(VLOOKUP(Tabla110[[#This Row],[NIVEL DE HABILIDAD]],CATEGORIAS!$M$3:$O$13,2,FALSE),"") -> 85000
B6: 13 | C6: CHARLOTTE VALENTINA | D6: BELALCAZAR OSORIO | E6: 1144112260 | F6: F | G6: 44515 | H6: =IF(Tabla110[[#This Row],[FECHA DE NACIMIENTO]]="","",YEAR(NOW())-YEAR(Tabla110[[#This Row],[FECHA DE NACIMIENTO]])) -> 5 | I6: STRIDERS | J6: =VLOOKUP(I6,NH,2,0) -> S | K6: =Tabla110[[#This Row],[FECHA DE NACIMIENTO]]&J6 -> 44515S | L6: =IFERROR(VLOOKUP(K6,CATEGORIAS,2,0),"") | M6: SHAKA RACING | N6: 13 | O6: =IFERROR(VLOOKUP(Tabla110[[#This Row],[NIVEL DE HABILIDAD]],CATEGORIAS!$M$3:$O$13,2,FALSE),"") -> 85000
B7: 14 | C7: MAXIMILIANO | D7: HOYOS TORO | E7: 1059251369 | F7: M | G7: 44312 | H7: =IF(Tabla110[[#This Row],[FECHA DE NACIMIENTO]]="","",YEAR(NOW())-YEAR(Tabla110[[#This Row],[FECHA DE NACIMIENTO]])) -> 5 | I7: STRIDERS | J7: =VLOOKUP(I7,NH,2,0) -> S | K7: =Tabla110[[#This Row],[FECHA DE NACIMIENTO]]&J7 -> 44312S | L7: =IFERROR(VLOOKUP(K7,CATEGORIAS,2,0),"") | M7: REAL RIDERS POPAYAN | N7: 14 | O7: =IFERROR(VLOOKUP(Tabla110[[#This Row],[NIVEL DE HABILIDAD]],CATEGORIAS!$M$3:$O$13,2,FALSE),"") -> 85000 | Q7: LA PULGUITA HOYOS
B8: 15 | C8: EZEQUIEL | D8: ALVARADO ASTORQUIZA | E8: 1059250630 | F8: M | G8: 43891 | H8: =IF(Tabla110[[#This Row],[FECHA DE NACIMIENTO]]="","",YEAR(NOW())-YEAR(Tabla110[[#This Row],[FECHA DE NACIMIENTO]])) -> 6 | I8: MINIRIDERS | J8: =VLOOKUP(I8,NH,2,0) -> E | K8: =Tabla110[[#This Row],[FECHA DE NACIMIENTO]]&J8 -> 43891E | L8: =IFERROR(VLOOKUP(K8,CATEGORIAS,2,0),"") | M8: REAL RIDERS POPAYAN | N8: 15 | O8: =IFERROR(VLOOKUP(Tabla110[[#This Row],[NIVEL DE HABILIDAD]],CATEGORIAS!$M$3:$O$13,2,FALSE),"") -> 85000
B9: 16 | C9: LIAM SANTIAGO | D9: MORENO CHITO | E9: 1059251408 | F9: M | G9: 44340 | H9: =IF(Tabla110[[#This Row],[FECHA DE NACIMIENTO]]="","",YEAR(NOW())-YEAR(Tabla110[[#This Row],[FECHA DE NACIMIENTO]])) -> 5 | I9: STRIDERS | J9: =VLOOKUP(I9,NH,2,0) -> S | K9: =Tabla110[[#This Row],[FECHA DE NACIMIENTO]]&J9 -> 44340S | L9: =IFERROR(VLOOKUP(K9,CATEGORIAS,2,0),"") | M9: REAL RIDERS POPAYAN | N9: 16 | O9: =IFERROR(VLOOKUP(Tabla110[[#This Row],[NIVEL DE HABILIDAD]],CATEGORIAS!$M$3:$O$13,2,FALSE),"") -> 85000 | Q9: EL MONO DEL CAUCA
B10: 17 | C10: JOSUÉ ALEXANDER | D10: MONTOYA OROZCO | E10: 1232812815 | F10: M | G10: 2020 | H10: =IF(Tabla110[[#This Row],[FECHA DE NACIMIENTO]]="","",YEAR(NOW())-Tabla110[[#This Row],[FECHA DE NACIMIENTO]]) -> 6 | I10: MINIRIDERS | J10: =VLOOKUP(I10,NH,2,0) -> E | K10: =Tabla110[[#This Row],[FECHA DE NACIMIENTO]]&J10 -> 2020E | L10: =IFERROR(VLOOKUP(K10,CATEGORIAS,2,0),"") -> MINIRIDERS 6 AÑOS | M10: XTREMO BMX | N10: 17 | O10: =IFERROR(VLOOKUP(Tabla110[[#This Row],[NIVEL DE HABILIDAD]],CATEGORIAS!$M$3:$O$13,2,FALSE),"") -> 85000 | Q10: EL MONO
B11: 18 | C11: VALENTINO | D11: VALENCIA BETANCOURT | E11: 1111572364 | F11: M | G11: 44220 | H11: =IF(Tabla110[[#This Row],[FECHA DE NACIMIENTO]]="","",YEAR(NOW())-YEAR(Tabla110[[#This Row],[FECHA DE NACIMIENTO]])) -> 5 | I11: STRIDERS | J11: =VLOOKUP(I11,NH,2,0) -> S | K11: =Tabla110[[#This Row],[FECHA DE NACIMIENTO]]&J11 -> 44220S | L11: =IFERROR(VLOOKUP(K11,CATEGORIAS,2,0),"") | M11: XTREMO BMX | N11: 18 | O11: =IFERROR(VLOOKUP(Tabla110[[#This Row],[NIVEL DE HABILIDAD]],CATEGORIAS!$M$3:$O$13,2,FALSE),"") -> 85000
B12: 19 | C12: LIAM FELIPE | D12: QUIROZ ESCOBAR | E12: 1109569655 | F12: M | G12: 43951 | H12: =IF(Tabla110[[#This Row],[FECHA DE NACIMIENTO]]="","",YEAR(NOW())-YEAR(Tabla110[[#This Row],[FECHA DE NACIMIENTO]])) -> 6 | I12: MINIRIDERS | J12: =VLOOKUP(I12,NH,2,0) -> E | K12: =Tabla110[[#This Row],[FECHA DE NACIMIENTO]]&J12 -> 43951E | L12: =IFERROR(VLOOKUP(K12,CATEGORIAS,2,0),"") | M12: XTREMO BMX | N12: 19 | O12: =IFERROR(VLOOKUP(Tabla110[[#This Row],[NIVEL DE HABILIDAD]],CATEGORIAS!$M$3:$O$13,2,FALSE),"") -> 85000 | Q12: EL LEON QUIROZ
B13: 20 | C13: CAMILO | D13: CAMPO QUINTERO | E13: 1232810806 | F13: M | G13: 43831 | H13: =IF(Tabla110[[#This Row],[FECHA DE NACIMIENTO]]="","",YEAR(NOW())-YEAR(Tabla110[[#This Row],[FECHA DE NACIMIENTO]])) -> 6 | I13: MINIRIDERS | J13: =VLOOKUP(I13,NH,2,0) -> E | K13: =Tabla110[[#This Row],[FECHA DE NACIMIENTO]]&J13 -> 43831E | L13: =IFERROR(VLOOKUP(K13,CATEGORIAS,2,0),"") | M13: XTREMO BMX | N13: 20 | O13: =IFERROR(VLOOKUP(Tabla110[[#This Row],[NIVEL DE HABILIDAD]],CATEGORIAS!$M$3:$O$13,2,FALSE),"") -> 85000
B14: 21 | C14: MARTÍN | D14: CAMPO QUINTERO | E14: 1232810807 | F14: M | G14: 43831 | H14: =IF(Tabla110[[#This Row],[FECHA DE NACIMIENTO]]="","",YEAR(NOW())-YEAR(Tabla110[[#This Row],[FECHA DE NACIMIENTO]])) -> 6 | I14: MINIRIDERS | J14: =VLOOKUP(I14,NH,2,0) -> E | K14: =Tabla110[[#This Row],[FECHA DE NACIMIENTO]]&J14 -> 43831E | L14: =IFERROR(VLOOKUP(K14,CATEGORIAS,2,0),"") | M14: XTREMO BMX | N14: 21 | O14: =IFERROR(VLOOKUP(Tabla110[[#This Row],[NIVEL DE HABILIDAD]],CATEGORIAS!$M$3:$O$13,2,FALSE),"") -> 85000
B15: 22 | C15: SANTIAGO | D15: RAMIREZ CIFUENTES | E15: 1110379478 | F15: M | G15: 2020 | H15: =IF(Tabla110[[#This Row],[FECHA DE NACIMIENTO]]="","",YEAR(NOW())-Tabla110[[#This Row],[FECHA DE NACIMIENTO]]) -> 6 | I15: MINIRIDERS | J15: =VLOOKUP(I15,NH,2,0) -> E | K15: =Tabla110[[#This Row],[FECHA DE NACIMIENTO]]&J15 -> 2020E | L15: =IFERROR(VLOOKUP(K15,CATEGORIAS,2,0),"") -> MINIRIDERS 6 AÑOS | M15: XTREMO BMX | N15: 22 | O15: =IFERROR(VLOOKUP(Tabla110[[#This Row],[NIVEL DE HABILIDAD]],CATEGORIAS!$M$3:$O$13,2,FALSE),"") -> 85000
B16: 23 | C16: JERÓNIMO | D16: PERALTA MORIANO | E16: 1109572622 | F16: M | G16: 2021 | H16: =IF(Tabla110[[#This Row],[FECHA DE NACIMIENTO]]="","",YEAR(NOW())-Tabla110[[#This Row],[FECHA DE NACIMIENTO]]) -> 5 | I16: STRIDERS | J16: =VLOOKUP(I16,NH,2,0) -> S | K16: =Tabla110[[#This Row],[FECHA DE NACIMIENTO]]&J16 -> 2021S | L16: =IFERROR(VLOOKUP(K16,CATEGORIAS,2,0),"") -> STRIDERS 5 AÑOS | M16: XTREMO BMX | N16: 23 | O16: =IFERROR(VLOOKUP(Tabla110[[#This Row],[NIVEL DE HABILIDAD]],CATEGORIAS!$M$3:$O$13,2,FALSE),"") -> 85000
B17: 24 | C17: JUAN ANTONIO | D17: LOAIZA MEJÍA | E17: 1232812077 | F17: M | G17: 2020 | H17: =IF(Tabla110[[#This Row],[FECHA DE NACIMIENTO]]="","",YEAR(NOW())-Tabla110[[#This Row],[FECHA DE NACIMIENTO]]) -> 6 | I17: MINIRIDERS | J17: =VLOOKUP(I17,NH,2,0) -> E | K17: =Tabla110[[#This Row],[FECHA DE NACIMIENTO]]&J17 -> 2020E | L17: =IFERROR(VLOOKUP(K17,CATEGORIAS,2,0),"") -> MINIRIDERS 6 AÑOS | M17: XTREMO BMX | N17: 24 | O17: =IFERROR(VLOOKUP(Tabla110[[#This Row],[NIVEL DE HABILIDAD]],CATEGORIAS!$M$3:$O$13,2,FALSE),"") -> 85000
B18: 25 | C18: VALENTINO | D18: FRANCO MUÑOZ | E18: 1109569542 | F18: 43910 | G18: 43910 | H18: =IF(Tabla110[[#This Row],[FECHA DE NACIMIENTO]]="","",YEAR(NOW())-YEAR(Tabla110[[#This Row],[FECHA DE NACIMIENTO]])) -> 6 | I18: MINIRIDERS | J18: =VLOOKUP(I18,NH,2,0) -> E | K18: =Tabla110[[#This Row],[FECHA DE NACIMIENTO]]&J18 -> 43910E | L18: =IFERROR(VLOOKUP(K18,CATEGORIAS,2,0),"") | M18: XTREMO BMX | N18: 25 | O18: =IFERROR(VLOOKUP(Tabla110[[#This Row],[NIVEL DE HABILIDAD]],CATEGORIAS!$M$3:$O$13,2,FALSE),"") -> 85000 | Q18: TIGRE FRANCO
B19: 26 | C19: LUCCA | D19: DIAZ DEL CHIARO | E19: 1232815236 | F19: 44247 | G19: 44247 | H19: =IF(Tabla110[[#This Row],[FECHA DE NACIMIENTO]]="","",YEAR(NOW())-YEAR(Tabla110[[#This Row],[FECHA DE NACIMIENTO]])) -> 5 | I19: STRIDERS | J19: =VLOOKUP(I19,NH,2,0) -> S | K19: =Tabla110[[#This Row],[FECHA DE NACIMIENTO]]&J19 -> 44247S | L19: =IFERROR(VLOOKUP(K19,CATEGORIAS,2,0),"") | M19: XTREMO BMX | N19: 26 | O19: =IFERROR(VLOOKUP(Tabla110[[#This Row],[NIVEL DE HABILIDAD]],CATEGORIAS!$M$3:$O$13,2,FALSE),"") -> 85000
B20: 27 | C20: KOHEMAN CABANI | D20: ZUÑIGA BERRIO | E20: 1063819685 | F20: 44197 | G20: 44197 | H20: =IF(Tabla110[[#This Row],[FECHA DE NACIMIENTO]]="","",YEAR(NOW())-YEAR(Tabla110[[#This Row],[FECHA DE NACIMIENTO]])) -> 5 | I20: STRIDERS | J20: =VLOOKUP(I20,NH,2,0) -> S | K20: =Tabla110[[#This Row],[FECHA DE NACIMIENTO]]&J20 -> 44197S | L20: =IFERROR(VLOOKUP(K20,CATEGORIAS,2,0),"") | M20: DREAM TEAM BMX CAUCA | N20: 27 | O20: =IFERROR(VLOOKUP(Tabla110[[#This Row],[NIVEL DE HABILIDAD]],CATEGORIAS!$M$3:$O$13,2,FALSE),"") -> 85000
B21: 28 | C21: MAXIMILIANO | D21: MONTENEGRO RESTREPO | E21: 1058554558 | F21: 44281 | G21: 44281 | H21: =IF(Tabla110[[#This Row],[FECHA DE NACIMIENTO]]="","",YEAR(NOW())-YEAR(Tabla110[[#This Row],[FECHA DE NACIMIENTO]])) -> 5 | I21: STRIDERS | J21: =VLOOKUP(I21,NH,2,0) -> S | K21: =Tabla110[[#This Row],[FECHA DE NACIMIENTO]]&J21 -> 44281S | L21: =IFERROR(VLOOKUP(K21,CATEGORIAS,2,0),"") | M21: CHAMPIONS FACTORY | N21: 28 | O21: =IFERROR(VLOOKUP(Tabla110[[#This Row],[NIVEL DE HABILIDAD]],CATEGORIAS!$M$3:$O$13,2,FALSE),"") -> 85000 | Q21: EL TORITO DEL CAUCA
B22: 29 | C22: MARTIN | D22: ESCOBAR ORTIZ | E22: 1112164681 | F22: 44452 | G22: 44452 | H22: =IF(Tabla110[[#This Row],[FECHA DE NACIMIENTO]]="","",YEAR(NOW())-YEAR(Tabla110[[#This Row],[FECHA DE NACIMIENTO]])) -> 5 | I22: MINIRIDERS | J22: =VLOOKUP(I22,NH,2,0) -> E | K22: =Tabla110[[#This Row],[FECHA DE NACIMIENTO]]&J22 -> 44452E | L22: =IFERROR(VLOOKUP(K22,CATEGORIAS,2,0),"") | M22: BMX RIDERS BUGA | N22: 29 | O22: =IFERROR(VLOOKUP(Tabla110[[#This Row],[NIVEL DE HABILIDAD]],CATEGORIAS!$M$3:$O$13,2,FALSE),"") -> 85000
B23: 30 | C23: AGUSTIN | D23: JARAMILLO GUEVARA | E23: 1109938537 | F23: 43975 | G23: 43975 | H23: =IF(Tabla110[[#This Row],[FECHA DE NACIMIENTO]]="","",YEAR(NOW())-YEAR(Tabla110[[#This Row],[FECHA DE NACIMIENTO]])) -> 6 | I23: MINIRIDERS | J23: =VLOOKUP(I23,NH,2,0) -> E | K23: =Tabla110[[#This Row],[FECHA DE NACIMIENTO]]&J23 -> 43975E | L23: =IFERROR(VLOOKUP(K23,CATEGORIAS,2,0),"") | M23: CICLON BMX | N23: 30 | O23: =IFERROR(VLOOKUP(Tabla110[[#This Row],[NIVEL DE HABILIDAD]],CATEGORIAS!$M$3:$O$13,2,FALSE),"") -> 85000
B24: 31 | C24: ISAAC | D24: VELASCO ARISTIZABAL | E24: 1109121860 | F24: #N/A | G24: 2020 | H24: =IF(Tabla110[[#This Row],[FECHA DE NACIMIENTO]]="","",YEAR(NOW())-Tabla110[[#This Row],[FECHA DE NACIMIENTO]]) -> 6 | I24: MINIRIDERS | J24: =VLOOKUP(I24,NH,2,0) -> E | K24: =Tabla110[[#This Row],[FECHA DE NACIMIENTO]]&J24 -> 2020E | L24: =IFERROR(VLOOKUP(K24,CATEGORIAS,2,0),"") -> MINIRIDERS 6 AÑOS | M24: CICLON BMX | N24: 31 | O24: =IFERROR(VLOOKUP(Tabla110[[#This Row],[NIVEL DE HABILIDAD]],CATEGORIAS!$M$3:$O$13,2,FALSE),"") -> 85000
B25: 32 | C25: JUAN SALVADOR | D25: YARA VERGARA | E25: 1105936574 | F25: #N/A | G25: 2021 | H25: =IF(Tabla110[[#This Row],[FECHA DE NACIMIENTO]]="","",YEAR(NOW())-Tabla110[[#This Row],[FECHA DE NACIMIENTO]]) -> 5 | I25: STRIDERS | J25: =VLOOKUP(I25,NH,2,0) -> S | K25: =Tabla110[[#This Row],[FECHA DE NACIMIENTO]]&J25 -> 2021S | L25: =IFERROR(VLOOKUP(K25,CATEGORIAS,2,0),"") -> STRIDERS 5 AÑOS | M25: CICLON BMX | N25: 32 | O25: =IFERROR(VLOOKUP(Tabla110[[#This Row],[NIVEL DE HABILIDAD]],CATEGORIAS!$M$3:$O$13,2,FALSE),"") -> 85000
B26: 33 | C26: MARÍA JOSÉ | D26: MORALES HINCAPIE | E26: 1232818158 | F26: #N/A | G26: 2021 | H26: =IF(Tabla110[[#This Row],[FECHA DE NACIMIENTO]]="","",YEAR(NOW())-Tabla110[[#This Row],[FECHA DE NACIMIENTO]]) -> 5 | I26: STRIDERS | J26: =VLOOKUP(I26,NH,2,0) -> S | K26: =Tabla110[[#This Row],[FECHA DE NACIMIENTO]]&J26 -> 2021S | L26: =IFERROR(VLOOKUP(K26,CATEGORIAS,2,0),"") -> STRIDERS 5 AÑOS | M26: CICLON BMX | N26: 33 | O26: =IFERROR(VLOOKUP(Tabla110[[#This Row],[NIVEL DE HABILIDAD]],CATEGORIAS!$M$3:$O$13,2,FALSE),"") -> 85000
B27: 34 | C27: MARÍA JOSÉ | D27: MOJICA PEREZ | E27: 1106524664 | F27: #N/A | G27: 2020 | H27: =IF(Tabla110[[#This Row],[FECHA DE NACIMIENTO]]="","",YEAR(NOW())-Tabla110[[#This Row],[FECHA DE NACIMIENTO]]) -> 6 | I27: MINIRIDERS | J27: =VLOOKUP(I27,NH,2,0) -> E | K27: =Tabla110[[#This Row],[FECHA DE NACIMIENTO]]&J27 -> 2020E | L27: =IFERROR(VLOOKUP(K27,CATEGORIAS,2,0),"") -> MINIRIDERS 6 AÑOS | M27: YUMBIKE | N27: 34 | O27: =IFERROR(VLOOKUP(Tabla110[[#This Row],[NIVEL DE HABILIDAD]],CATEGORIAS!$M$3:$O$13,2,FALSE),"") -> 85000 | Q27: MAJITO
B28: 35 | C28: MARTÍN | D28: SOTO VELASCO | E28: 1108572247 | F28: #N/A | G28: 2020 | H28: =IF(Tabla110[[#This Row],[FECHA DE NACIMIENTO]]="","",YEAR(NOW())-Tabla110[[#This Row],[FECHA DE NACIMIENTO]]) -> 6 | I28: MINIRIDERS | J28: =VLOOKUP(I28,NH,2,0) -> E | K28: =Tabla110[[#This Row],[FECHA DE NACIMIENTO]]&J28 -> 2020E | L28: =IFERROR(VLOOKUP(K28,CATEGORIAS,2,0),"") -> MINIRIDERS 6 AÑOS | M28: CICLON BMX | N28: 35 | O28: =IFERROR(VLOOKUP(Tabla110[[#This Row],[NIVEL DE HABILIDAD]],CATEGORIAS!$M$3:$O$13,2,FALSE),"") -> 85000
B29: 36 | C29: MAXIMILIANO | D29: VELASCO ARISTIZABAL | E29: 1109121861 | F29: #N/A | G29: 2020 | H29: =IF(Tabla110[[#This Row],[FECHA DE NACIMIENTO]]="","",YEAR(NOW())-Tabla110[[#This Row],[FECHA DE NACIMIENTO]]) -> 6 | I29: MINIRIDERS | J29: =VLOOKUP(I29,NH,2,0) -> E | K29: =Tabla110[[#This Row],[FECHA DE NACIMIENTO]]&J29 -> 2020E | L29: =IFERROR(VLOOKUP(K29,CATEGORIAS,2,0),"") -> MINIRIDERS 6 AÑOS | M29: CICLON BMX | N29: 36 | O29: =IFERROR(VLOOKUP(Tabla110[[#This Row],[NIVEL DE HABILIDAD]],CATEGORIAS!$M$3:$O$13,2,FALSE),"") -> 85000
B30: 37 | C30: LIAM ESTIVEN | D30: GRAJALES VARGAS | E30: 1114012296 | F30: 43360 | G30: 2018 | H30: =IF(Tabla110[[#This Row],[FECHA DE NACIMIENTO]]="","",YEAR(NOW())-Tabla110[[#This Row],[FECHA DE NACIMIENTO]]) -> 8 | I30: PRINCIPIANTES | J30: =VLOOKUP(I30,NH,2,0) -> P | K30: =Tabla110[[#This Row],[FECHA DE NACIMIENTO]]&J30 -> 2018P | L30: =IFERROR(VLOOKUP(K30,CATEGORIAS,2,0),"") -> PRINCIPIANTES 7 Y 8 AÑOS | M30: BMX ATTACK | N30: 37 | O30: =IFERROR(VLOOKUP(Tabla110[[#This Row],[NIVEL DE HABILIDAD]],CATEGORIAS!$M$3:$O$13,2,FALSE),"") -> 85000
B31: 38 | C31: LUCIANA | D31: ACEVEDO OBANDO | E31: 1114249166 | F31: 43539 | G31: 2019 | H31: =IF(Tabla110[[#This Row],[FECHA DE NACIMIENTO]]="","",YEAR(NOW())-Tabla110[[#This Row],[FECHA DE NACIMIENTO]]) -> 7 | I31: PRINCIPIANTES | J31: =VLOOKUP(I31,NH,2,0) -> P | K31: =Tabla110[[#This Row],[FECHA DE NACIMIENTO]]&J31 -> 2019P | L31: =IFERROR(VLOOKUP(K31,CATEGORIAS,2,0),"") -> PRINCIPIANTES 7 Y 8 AÑOS | M31: BMX ATTACK | N31: 38 | O31: =IFERROR(VLOOKUP(Tabla110[[#This Row],[NIVEL DE HABILIDAD]],CATEGORIAS!$M$3:$O$13,2,FALSE),"") -> 85000
B32: 39 | C32: EITHIAN | D32: BERMUDEZ | E32: 1114249319 | F32: 43882 | G32: 2020 | H32: =IF(Tabla110[[#This Row],[FECHA DE NACIMIENTO]]="","",YEAR(NOW())-Tabla110[[#This Row],[FECHA DE NACIMIENTO]]) -> 6 | I32: MINIRIDERS | J32: =VLOOKUP(I32,NH,2,0) -> E | K32: =Tabla110[[#This Row],[FECHA DE NACIMIENTO]]&J32 -> 2020E | L32: =IFERROR(VLOOKUP(K32,CATEGORIAS,2,0),"") -> MINIRIDERS 6 AÑOS | M32: BMX ATTACK | N32: 39 | O32: =IFERROR(VLOOKUP(Tabla110[[#This Row],[NIVEL DE HABILIDAD]],CATEGORIAS!$M$3:$O$13,2,FALSE),"") -> 85000
B33: 40 | C33: MARCUS | D33: CALERO | E33: 1114320217 | F33: #N/A | G33: 2019 | H33: =IF(Tabla110[[#This Row],[FECHA DE NACIMIENTO]]="","",YEAR(NOW())-Tabla110[[#This Row],[FECHA DE NACIMIENTO]]) -> 7 | I33: MINIRIDERS | J33: =VLOOKUP(I33,NH,2,0) -> E | K33: =Tabla110[[#This Row],[FECHA DE NACIMIENTO]]&J33 -> 2019E | L33: =IFERROR(VLOOKUP(K33,CATEGORIAS,2,0),"") -> MINIRIDERS 7 Y 8 AÑOS | M33: BMX ATTACK | N33: 40 | O33: =IFERROR(VLOOKUP(Tabla110[[#This Row],[NIVEL DE HABILIDAD]],CATEGORIAS!$M$3:$O$13,2,FALSE),"") -> 85000
B34: 41 | C34: MARIA PAULA | D34: CHILITO FAJARDO | E34: 1061546676 | F34: 43466 | G34: 2019 | H34: =IF(Tabla110[[#This Row],[FECHA DE NACIMIENTO]]="","",YEAR(NOW())-Tabla110[[#This Row],[FECHA DE NACIMIENTO]]) -> 7 | I34: PRINCIPIANTES | J34: =VLOOKUP(I34,NH,2,0) -> P | K34: =Tabla110[[#This Row],[FECHA DE NACIMIENTO]]&J34 -> 2019P | L34: =IFERROR(VLOOKUP(K34,CATEGORIAS,2,0),"") -> PRINCIPIANTES 7 Y 8 AÑOS | M34: DREAM TEAM BMX CAUCA | N34: 41 | O34: =IFERROR(VLOOKUP(Tabla110[[#This Row],[NIVEL DE HABILIDAD]],CATEGORIAS!$M$3:$O$13,2,FALSE),"") -> 85000
B35: 42 | C35: DYLAN SANTIAGO | D35: CAMPO SUAREZ | E35: 1104837479 | F35: 42269 | G35: 2015 | H35: =IF(Tabla110[[#This Row],[FECHA DE NACIMIENTO]]="","",YEAR(NOW())-Tabla110[[#This Row],[FECHA DE NACIMIENTO]]) -> 11 | I35: PRINCIPIANTES | J35: =VLOOKUP(I35,NH,2,0) -> P | K35: =Tabla110[[#This Row],[FECHA DE NACIMIENTO]]&J35 -> 2015P | L35: =IFERROR(VLOOKUP(K35,CATEGORIAS,2,0),"") -> PRINCIPIANTES 11 Y 12 AÑOS | M35: MANUBRIOS DE ORO | N35: 42 | O35: =IFERROR(VLOOKUP(Tabla110[[#This Row],[NIVEL DE HABILIDAD]],CATEGORIAS!$M$3:$O$13,2,FALSE),"") -> 85000
B36: 43 | C36: EMANUEL | D36: MORENO | E36: 1151968614 | F36: #N/A | G36: 2018 | H36: =IF(Tabla110[[#This Row],[FECHA DE NACIMIENTO]]="","",YEAR(NOW())-Tabla110[[#This Row],[FECHA DE NACIMIENTO]]) -> 8 | I36: MINIRIDERS | J36: =VLOOKUP(I36,NH,2,0) -> E | K36: =Tabla110[[#This Row],[FECHA DE NACIMIENTO]]&J36 -> 2018E | L36: =IFERROR(VLOOKUP(K36,CATEGORIAS,2,0),"") -> MINIRIDERS 7 Y 8 AÑOS | M36: SANTAMARIA RACING | N36: 43 | O36: =IFERROR(VLOOKUP(Tabla110[[#This Row],[NIVEL DE HABILIDAD]],CATEGORIAS!$M$3:$O$13,2,FALSE),"") -> 85000
B37: 44 | C37: MARIANO | D37: AREIZA GRAJALES | E37: 1112060927 | F37: #N/A | G37: 2015 | H37: =IF(Tabla110[[#This Row],[FECHA DE NACIMIENTO]]="","",YEAR(NOW())-Tabla110[[#This Row],[FECHA DE NACIMIENTO]]) -> 11 | I37: PRINCIPIANTES | J37: =VLOOKUP(I37,NH,2,0) -> P | K37: =Tabla110[[#This Row],[FECHA DE NACIMIENTO]]&J37 -> 2015P | L37: =IFERROR(VLOOKUP(K37,CATEGORIAS,2,0),"") -> PRINCIPIANTES 11 Y 12 AÑOS | M37: SANTAMARIA RACING | N37: 44 | O37: =IFERROR(VLOOKUP(Tabla110[[#This Row],[NIVEL DE HABILIDAD]],CATEGORIAS!$M$3:$O$13,2,FALSE),"") -> 85000
B38: 45 | C38: EMILIANO | D38: ERAZO | E38: 1150692727 | F38: #N/A | G38: 2015 | H38: =IF(Tabla110[[#This Row],[FECHA DE NACIMIENTO]]="","",YEAR(NOW())-Tabla110[[#This Row],[FECHA DE NACIMIENTO]]) -> 11 | I38: PRINCIPIANTES | J38: =VLOOKUP(I38,NH,2,0) -> P | K38: =Tabla110[[#This Row],[FECHA DE NACIMIENTO]]&J38 -> 2015P | L38: =IFERROR(VLOOKUP(K38,CATEGORIAS,2,0),"") -> PRINCIPIANTES 11 Y 12 AÑOS | M38: SANTAMARIA RACING | N38: 45 | O38: =IFERROR(VLOOKUP(Tabla110[[#This Row],[NIVEL DE HABILIDAD]],CATEGORIAS!$M$3:$O$13,2,FALSE),"") -> 85000
B39: 46 | C39: JACOBO | D39: VELASCO ASTAIZA | E39: 1058554342 | F39: 43977 | G39: 2020 | H39: =IF(Tabla110[[#This Row],[FECHA DE NACIMIENTO]]="","",YEAR(NOW())-Tabla110[[#This Row],[FECHA DE NACIMIENTO]]) -> 6 | I39: PRINCIPIANTES | J39: =VLOOKUP(I39,NH,2,0) -> P | K39: =Tabla110[[#This Row],[FECHA DE NACIMIENTO]]&J39 -> 2020P | L39: =IFERROR(VLOOKUP(K39,CATEGORIAS,2,0),"") -> PRINCIPIANTES 6 AÑOS Y MENOS | M39: REAL RIDERS POPAYAN | N39: 46 | O39: =IFERROR(VLOOKUP(Tabla110[[#This Row],[NIVEL DE HABILIDAD]],CATEGORIAS!$M$3:$O$13,2,FALSE),"") -> 85000
B40: 47 | C40: JERONIMO | D40: VELASCO ASTAIZA | E40: 1058554341 | F40: 43977 | G40: 2020 | H40: =IF(Tabla110[[#This Row],[FECHA DE NACIMIENTO]]="","",YEAR(NOW())-Tabla110[[#This Row],[FECHA DE NACIMIENTO]]) -> 6 | I40: PRINCIPIANTES | J40: =VLOOKUP(I40,NH,2,0) -> P | K40: =Tabla110[[#This Row],[FECHA DE NACIMIENTO]]&J40 -> 2020P | L40: =IFERROR(VLOOKUP(K40,CATEGORIAS,2,0),"") -> PRINCIPIANTES 6 AÑOS Y MENOS | M40: REAL RIDERS POPAYAN | N40: 47 | O40: =IFERROR(VLOOKUP(Tabla110[[#This Row],[NIVEL DE HABILIDAD]],CATEGORIAS!$M$3:$O$13,2,FALSE),"") -> 85000
...

Sheet BASE DE DATOS 2025
B1: SUPERCOPA 2025 - BASE DE DATOS
B2: ID | C2: NOMBRES | D2: APELLIDOS | E2: DOCUMENTO IDENTIDAD | F2: SEXO | G2: FECHA DE NACIMIENTO | H2: EDAD | I2: NIVEL DE HABILIDAD | J2: SNH | K2: SCAT | L2: CATEGORIA | M2: CLUB | N2: TABLERO | O2: VALOR INSCRIPCION | P2: OBSERVACIONES | Q2: NACIONALES
A3: =_xlfn.IFNA(_xlfn.XLOOKUP(Tabla1[[#This Row],[ID]],'BASE DE DATOS 2026'!$B$3:$B$554,'BASE DE DATOS 2026'!$N$3:$N$554),"") -> 10 | B3: 10 | C3: MATIAS | D3: FORERO ALDANA | E3: 1010849944 | G3: 2021 | H3: =IF(Tabla1[[#This Row],[FECHA DE NACIMIENTO]]="","",YEAR(NOW())-Tabla1[[#This Row],[FECHA DE NACIMIENTO]]) -> 5 | I3: STRIDERS | J3: =VLOOKUP(I3,NH,2,0) -> S | K3: =Tabla1[[#This Row],[FECHA DE NACIMIENTO]]&J3 -> 2021S | L3: =IFERROR(VLOOKUP(K3,CATEGORIAS,2,0),"") -> STRIDERS 5 AÑOS | M3: CHAMPIONS TEAM | N3: 10 | O3: =IFERROR(VLOOKUP(Tabla1[[#This Row],[NIVEL DE HABILIDAD]],CATEGORIAS!$M$3:$O$13,2,FALSE),"") -> 85000
A4: =_xlfn.IFNA(_xlfn.XLOOKUP(Tabla1[[#This Row],[ID]],'BASE DE DATOS 2026'!$B$3:$B$554,'BASE DE DATOS 2026'!$N$3:$N$554),"") | B4: 11 | C4: ANTONY | D4: GALICIA CLAROS | E4: 1144321051 | G4: 2021 | H4: =IF(Tabla1[[#This Row],[FECHA DE NACIMIENTO]]="","",YEAR(NOW())-Tabla1[[#This Row],[FECHA DE NACIMIENTO]]) -> 5 | I4: STRIDERS | J4: =VLOOKUP(I4,NH,2,0) -> S | K4: =Tabla1[[#This Row],[FECHA DE NACIMIENTO]]&J4 -> 2021S | L4: =IFERROR(VLOOKUP(K4,CATEGORIAS,2,0),"") -> STRIDERS 5 AÑOS | M4: BMX ATTACK | N4: 11 | O4: =IFERROR(VLOOKUP(Tabla1[[#This Row],[NIVEL DE HABILIDAD]],CATEGORIAS!$M$3:$O$13,2,FALSE),"") -> 85000
A5: =_xlfn.IFNA(_xlfn.XLOOKUP(Tabla1[[#This Row],[ID]],'BASE DE DATOS 2026'!$B$3:$B$554,'BASE DE DATOS 2026'!$N$3:$N$554),"") | B5: 12 | C5: LUCIANO | D5: LASSO STERLING | E5: 1114249418 | G5: 2020 | H5: =IF(Tabla1[[#This Row],[FECHA DE NACIMIENTO]]="","",YEAR(NOW())-Tabla1[[#This Row],[FECHA DE NACIMIENTO]]) -> 6 | I5: MINIRIDERS | J5: =VLOOKUP(I5,NH,2,0) -> E | K5: =Tabla1[[#This Row],[FECHA DE NACIMIENTO]]&J5 -> 2020E | L5: =IFERROR(VLOOKUP(K5,CATEGORIAS,2,0),"") -> MINIRIDERS 6 AÑOS | M5: BMX PALMIRA | N5: 12 | O5: =IFERROR(VLOOKUP(Tabla1[[#This Row],[NIVEL DE HABILIDAD]],CATEGORIAS!$M$3:$O$13,2,FALSE),"") -> 85000
A6: =_xlfn.IFNA(_xlfn.XLOOKUP(Tabla1[[#This Row],[ID]],'BASE DE DATOS 2026'!$B$3:$B$554,'BASE DE DATOS 2026'!$N$3:$N$554),"") -> 13 | B6: 13 | C6: CHARLOTTE VALENTINA | D6: BELALCAZAR OSORIO | E6: 1144112260 | G6: 2021 | H6: =IF(Tabla1[[#This Row],[FECHA DE NACIMIENTO]]="","",YEAR(NOW())-Tabla1[[#This Row],[FECHA DE NACIMIENTO]]) -> 5 | I6: STRIDERS | J6: =VLOOKUP(I6,NH,2,0) -> S | K6: =Tabla1[[#This Row],[FECHA DE NACIMIENTO]]&J6 -> 2021S | L6: =IFERROR(VLOOKUP(K6,CATEGORIAS,2,0),"") -> STRIDERS 5 AÑOS | M6: SHAKA RACING | N6: 13 | O6: =IFERROR(VLOOKUP(Tabla1[[#This Row],[NIVEL DE HABILIDAD]],CATEGORIAS!$M$3:$O$13,2,FALSE),"") -> 85000
A7: =_xlfn.IFNA(_xlfn.XLOOKUP(Tabla1[[#This Row],[ID]],'BASE DE DATOS 2026'!$B$3:$B$554,'BASE DE DATOS 2026'!$N$3:$N$554),"") -> 14 | B7: 14 | C7: MAXIMILIANO | D7: HOYOS TORO | E7: 1059251369 | G7: 2021 | H7: =IF(Tabla1[[#This Row],[FECHA DE NACIMIENTO]]="","",YEAR(NOW())-Tabla1[[#This Row],[FECHA DE NACIMIENTO]]) -> 5 | I7: STRIDERS | J7: =VLOOKUP(I7,NH,2,0) -> S | K7: =Tabla1[[#This Row],[FECHA DE NACIMIENTO]]&J7 -> 2021S | L7: =IFERROR(VLOOKUP(K7,CATEGORIAS,2,0),"") -> STRIDERS 5 AÑOS | M7: REAL RIDERS POPAYAN | N7: 14 | O7: =IFERROR(VLOOKUP(Tabla1[[#This Row],[NIVEL DE HABILIDAD]],CATEGORIAS!$M$3:$O$13,2,FALSE),"") -> 85000 | Q7: LA PULGUITA HOYOS
A8: =_xlfn.IFNA(_xlfn.XLOOKUP(Tabla1[[#This Row],[ID]],'BASE DE DATOS 2026'!$B$3:$B$554,'BASE DE DATOS 2026'!$N$3:$N$554),"") -> 15 | B8: 15 | C8: EZEQUIEL | D8: ALVARADO ASTORQUIZA | E8: 1059250630 | G8: 2020 | H8: =IF(Tabla1[[#This Row],[FECHA DE NACIMIENTO]]="","",YEAR(NOW())-Tabla1[[#This Row],[FECHA DE NACIMIENTO]]) -> 6 | I8: MINIRIDERS | J8: =VLOOKUP(I8,NH,2,0) -> E | K8: =Tabla1[[#This Row],[FECHA DE NACIMIENTO]]&J8 -> 2020E | L8: =IFERROR(VLOOKUP(K8,CATEGORIAS,2,0),"") -> MINIRIDERS 6 AÑOS | M8: REAL RIDERS POPAYAN | N8: 15 | O8: =IFERROR(VLOOKUP(Tabla1[[#This Row],[NIVEL DE HABILIDAD]],CATEGORIAS!$M$3:$O$13,2,FALSE),"") -> 85000
A9: =_xlfn.IFNA(_xlfn.XLOOKUP(Tabla1[[#This Row],[ID]],'BASE DE DATOS 2026'!$B$3:$B$554,'BASE DE DATOS 2026'!$N$3:$N$554),"") -> 16 | B9: 16 | C9: LIAM SANTIAGO | D9: MORENO CHITO | E9: 1059251408 | G9: 2021 | H9: =IF(Tabla1[[#This Row],[FECHA DE NACIMIENTO]]="","",YEAR(NOW())-Tabla1[[#This Row],[FECHA DE NACIMIENTO]]) -> 5 | I9: STRIDERS | J9: =VLOOKUP(I9,NH,2,0) -> S | K9: =Tabla1[[#This Row],[FECHA DE NACIMIENTO]]&J9 -> 2021S | L9: =IFERROR(VLOOKUP(K9,CATEGORIAS,2,0),"") -> STRIDERS 5 AÑOS | M9: REAL RIDERS POPAYAN | N9: 16 | O9: =IFERROR(VLOOKUP(Tabla1[[#This Row],[NIVEL DE HABILIDAD]],CATEGORIAS!$M$3:$O$13,2,FALSE),"") -> 85000 | Q9: EL MONO DEL CAUCA
A10: =_xlfn.IFNA(_xlfn.XLOOKUP(Tabla1[[#This Row],[ID]],'BASE DE DATOS 2026'!$B$3:$B$554,'BASE DE DATOS 2026'!$N$3:$N$554),"") -> 17 | B10: 17 | C10: JOSUÉ ALEXANDER | D10: MONTOYA OROZCO | E10: 1232812815 | G10: 2020 | H10: =IF(Tabla1[[#This Row],[FECHA DE NACIMIENTO]]="","",YEAR(NOW())-Tabla1[[#This Row],[FECHA DE NACIMIENTO]]) -> 6 | I10: MINIRIDERS | J10: =VLOOKUP(I10,NH,2,0) -> E | K10: =Tabla1[[#This Row],[FECHA DE NACIMIENTO]]&J10 -> 2020E | L10: =IFERROR(VLOOKUP(K10,CATEGORIAS,2,0),"") -> MINIRIDERS 6 AÑOS | M10: XTREMO BMX | N10: 17 | O10: =IFERROR(VLOOKUP(Tabla1[[#This Row],[NIVEL DE HABILIDAD]],CATEGORIAS!$M$3:$O$13,2,FALSE),"") -> 85000 | Q10: EL MONO
A11: =_xlfn.IFNA(_xlfn.XLOOKUP(Tabla1[[#This Row],[ID]],'BASE DE DATOS 2026'!$B$3:$B$554,'BASE DE DATOS 2026'!$N$3:$N$554),"") -> 18 | B11: 18 | C11: VALENTINO | D11: VALENCIA BETANCOURT | E11: 1111572364 | G11: 2021 | H11: =IF(Tabla1[[#This Row],[FECHA DE NACIMIENTO]]="","",YEAR(NOW())-Tabla1[[#This Row],[FECHA DE NACIMIENTO]]) -> 5 | I11: STRIDERS | J11: =VLOOKUP(I11,NH,2,0) -> S | K11: =Tabla1[[#This Row],[FECHA DE NACIMIENTO]]&J11 -> 2021S | L11: =IFERROR(VLOOKUP(K11,CATEGORIAS,2,0),"") -> STRIDERS 5 AÑOS | M11: XTREMO BMX | N11: 18 | O11: =IFERROR(VLOOKUP(Tabla1[[#This Row],[NIVEL DE HABILIDAD]],CATEGORIAS!$M$3:$O$13,2,FALSE),"") -> 85000
A12: =_xlfn.IFNA(_xlfn.XLOOKUP(Tabla1[[#This Row],[ID]],'BASE DE DATOS 2026'!$B$3:$B$554,'BASE DE DATOS 2026'!$N$3:$N$554),"") -> 19 | B12: 19 | C12: LIAM FELIPE | D12: QUIROZ ESCOBAR | E12: 1109569655 | G12: 2020 | H12: =IF(Tabla1[[#This Row],[FECHA DE NACIMIENTO]]="","",YEAR(NOW())-Tabla1[[#This Row],[FECHA DE NACIMIENTO]]) -> 6 | I12: MINIRIDERS | J12: =VLOOKUP(I12,NH,2,0) -> E | K12: =Tabla1[[#This Row],[FECHA DE NACIMIENTO]]&J12 -> 2020E | L12: =IFERROR(VLOOKUP(K12,CATEGORIAS,2,0),"") -> MINIRIDERS 6 AÑOS | M12: XTREMO BMX | N12: 19 | O12: =IFERROR(VLOOKUP(Tabla1[[#This Row],[NIVEL DE HABILIDAD]],CATEGORIAS!$M$3:$O$13,2,FALSE),"") -> 85000 | Q12: EL LEON QUIROZ
A13: =_xlfn.IFNA(_xlfn.XLOOKUP(Tabla1[[#This Row],[ID]],'BASE DE DATOS 2026'!$B$3:$B$554,'BASE DE DATOS 2026'!$N$3:$N$554),"") -> 20 | B13: 20 | C13: CAMILO | D13: CAMPO QUINTERO | E13: 1232810806 | G13: 2020 | H13: =IF(Tabla1[[#This Row],[FECHA DE NACIMIENTO]]="","",YEAR(NOW())-Tabla1[[#This Row],[FECHA DE NACIMIENTO]]) -> 6 | I13: MINIRIDERS | J13: =VLOOKUP(I13,NH,2,0) -> E | K13: =Tabla1[[#This Row],[FECHA DE NACIMIENTO]]&J13 -> 2020E | L13: =IFERROR(VLOOKUP(K13,CATEGORIAS,2,0),"") -> MINIRIDERS 6 AÑOS | M13: XTREMO BMX | N13: 20 | O13: =IFERROR(VLOOKUP(Tabla1[[#This Row],[NIVEL DE HABILIDAD]],CATEGORIAS!$M$3:$O$13,2,FALSE),"") -> 85000
A14: =_xlfn.IFNA(_xlfn.XLOOKUP(Tabla1[[#This Row],[ID]],'BASE DE DATOS 2026'!$B$3:$B$554,'BASE DE DATOS 2026'!$N$3:$N$554),"") -> 21 | B14: 21 | C14: MARTÍN | D14: CAMPO QUINTERO | E14: 1232810807 | G14: 2020 | H14: =IF(Tabla1[[#This Row],[FECHA DE NACIMIENTO]]="","",YEAR(NOW())-Tabla1[[#This Row],[FECHA DE NACIMIENTO]]) -> 6 | I14: MINIRIDERS | J14: =VLOOKUP(I14,NH,2,0) -> E | K14: =Tabla1[[#This Row],[FECHA DE NACIMIENTO]]&J14 -> 2020E | L14: =IFERROR(VLOOKUP(K14,CATEGORIAS,2,0),"") -> MINIRIDERS 6 AÑOS | M14: XTREMO BMX | N14: 21 | O14: =IFERROR(VLOOKUP(Tabla1[[#This Row],[NIVEL DE HABILIDAD]],CATEGORIAS!$M$3:$O$13,2,FALSE),"") -> 85000
A15: =_xlfn.IFNA(_xlfn.XLOOKUP(Tabla1[[#This Row],[ID]],'BASE DE DATOS 2026'!$B$3:$B$554,'BASE DE DATOS 2026'!$N$3:$N$554),"") -> 22 | B15: 22 | C15: SANTIAGO | D15: RAMIREZ CIFUENTES | E15: 1110379478 | G15: 2020 | H15: =IF(Tabla1[[#This Row],[FECHA DE NACIMIENTO]]="","",YEAR(NOW())-Tabla1[[#This Row],[FECHA DE NACIMIENTO]]) -> 6 | I15: MINIRIDERS | J15: =VLOOKUP(I15,NH,2,0) -> E | K15: =Tabla1[[#This Row],[FECHA DE NACIMIENTO]]&J15 -> 2020E | L15: =IFERROR(VLOOKUP(K15,CATEGORIAS,2,0),"") -> MINIRIDERS 6 AÑOS | M15: XTREMO BMX | N15: 22 | O15: =IFERROR(VLOOKUP(Tabla1[[#This Row],[NIVEL DE HABILIDAD]],CATEGORIAS!$M$3:$O$13,2,FALSE),"") -> 85000
A16: =_xlfn.IFNA(_xlfn.XLOOKUP(Tabla1[[#This Row],[ID]],'BASE DE DATOS 2026'!$B$3:$B$554,'BASE DE DATOS 2026'!$N$3:$N$554),"") -> 23 | B16: 23 | C16: JERÓNIMO | D16: PERALTA MORIANO | E16: 1109572622 | G16: 2021 | H16: =IF(Tabla1[[#This Row],[FECHA DE NACIMIENTO]]="","",YEAR(NOW())-Tabla1[[#This Row],[FECHA DE NACIMIENTO]]) -> 5 | I16: STRIDERS | J16: =VLOOKUP(I16,NH,2,0) -> S | K16: =Tabla1[[#This Row],[FECHA DE NACIMIENTO]]&J16 -> 2021S | L16: =IFERROR(VLOOKUP(K16,CATEGORIAS,2,0),"") -> STRIDERS 5 AÑOS | M16: XTREMO BMX | N16: 23 | O16: =IFERROR(VLOOKUP(Tabla1[[#This Row],[NIVEL DE HABILIDAD]],CATEGORIAS!$M$3:$O$13,2,FALSE),"") -> 85000
A17: =_xlfn.IFNA(_xlfn.XLOOKUP(Tabla1[[#This Row],[ID]],'BASE DE DATOS 2026'!$B$3:$B$554,'BASE DE DATOS 2026'!$N$3:$N$554),"") | B17: 24 | C17: JUAN ANTONIO | D17: LOAIZA MEJÍA | E17: 1232812077 | G17: 2020 | H17: =IF(Tabla1[[#This Row],[FECHA DE NACIMIENTO]]="","",YEAR(NOW())-Tabla1[[#This Row],[FECHA DE NACIMIENTO]]) -> 6 | I17: MINIRIDERS | J17: =VLOOKUP(I17,NH,2,0) -> E | K17: =Tabla1[[#This Row],[FECHA DE NACIMIENTO]]&J17 -> 2020E | L17: =IFERROR(VLOOKUP(K17,CATEGORIAS,2,0),"") -> MINIRIDERS 6 AÑOS | M17: XTREMO BMX | N17: 24 | O17: =IFERROR(VLOOKUP(Tabla1[[#This Row],[NIVEL DE HABILIDAD]],CATEGORIAS!$M$3:$O$13,2,FALSE),"") -> 85000
A18: =_xlfn.IFNA(_xlfn.XLOOKUP(Tabla1[[#This Row],[ID]],'BASE DE DATOS 2026'!$B$3:$B$554,'BASE DE DATOS 2026'!$N$3:$N$554),"") -> 25 | B18: 25 | C18: VALENTINO | D18: FRANCO MUÑOZ | E18: 1109569542 | G18: 2020 | H18: =IF(Tabla1[[#This Row],[FECHA DE NACIMIENTO]]="","",YEAR(NOW())-Tabla1[[#This Row],[FECHA DE NACIMIENTO]]) -> 6 | I18: MINIRIDERS | J18: =VLOOKUP(I18,NH,2,0) -> E | K18: =Tabla1[[#This Row],[FECHA DE NACIMIENTO]]&J18 -> 2020E | L18: =IFERROR(VLOOKUP(K18,CATEGORIAS,2,0),"") -> MINIRIDERS 6 AÑOS | M18: XTREMO BMX | N18: 25 | O18: =IFERROR(VLOOKUP(Tabla1[[#This Row],[NIVEL DE HABILIDAD]],CATEGORIAS!$M$3:$O$13,2,FALSE),"") -> 85000 | Q18: TIGRE FRANCO
A19: =_xlfn.IFNA(_xlfn.XLOOKUP(Tabla1[[#This Row],[ID]],'BASE DE DATOS 2026'!$B$3:$B$554,'BASE DE DATOS 2026'!$N$3:$N$554),"") -> 26 | B19: 26 | C19: LUCCA | D19: DIAZ DEL CHIARO | E19: 1232815236 | G19: 2021 | H19: =IF(Tabla1[[#This Row],[FECHA DE NACIMIENTO]]="","",YEAR(NOW())-Tabla1[[#This Row],[FECHA DE NACIMIENTO]]) -> 5 | I19: STRIDERS | J19: =VLOOKUP(I19,NH,2,0) -> S | K19: =Tabla1[[#This Row],[FECHA DE NACIMIENTO]]&J19 -> 2021S | L19: =IFERROR(VLOOKUP(K19,CATEGORIAS,2,0),"") -> STRIDERS 5 AÑOS | M19: XTREMO BMX | N19: 26 | O19: =IFERROR(VLOOKUP(Tabla1[[#This Row],[NIVEL DE HABILIDAD]],CATEGORIAS!$M$3:$O$13,2,FALSE),"") -> 85000
A20: =_xlfn.IFNA(_xlfn.XLOOKUP(Tabla1[[#This Row],[ID]],'BASE DE DATOS 2026'!$B$3:$B$554,'BASE DE DATOS 2026'!$N$3:$N$554),"") | B20: 27 | C20: KOHEMAN CABANI | D20: ZUÑIGA BERRIO | E20: 1063819685 | G20: 2021 | H20: =IF(Tabla1[[#This Row],[FECHA DE NACIMIENTO]]="","",YEAR(NOW())-Tabla1[[#This Row],[FECHA DE NACIMIENTO]]) -> 5 | I20: STRIDERS | J20: =VLOOKUP(I20,NH,2,0) -> S | K20: =Tabla1[[#This Row],[FECHA DE NACIMIENTO]]&J20 -> 2021S | L20: =IFERROR(VLOOKUP(K20,CATEGORIAS,2,0),"") -> STRIDERS 5 AÑOS | M20: DREAM TEAM BMX CAUCA | N20: 27 | O20: =IFERROR(VLOOKUP(Tabla1[[#This Row],[NIVEL DE HABILIDAD]],CATEGORIAS!$M$3:$O$13,2,FALSE),"") -> 85000
A21: =_xlfn.IFNA(_xlfn.XLOOKUP(Tabla1[[#This Row],[ID]],'BASE DE DATOS 2026'!$B$3:$B$554,'BASE DE DATOS 2026'!$N$3:$N$554),"") -> 28 | B21: 28 | C21: MAXIMILIANO | D21: MONTENEGRO RESTREPO | E21: 1058554558 | G21: 2021 | H21: =IF(Tabla1[[#This Row],[FECHA DE NACIMIENTO]]="","",YEAR(NOW())-Tabla1[[#This Row],[FECHA DE NACIMIENTO]]) -> 5 | I21: STRIDERS | J21: =VLOOKUP(I21,NH,2,0) -> S | K21: =Tabla1[[#This Row],[FECHA DE NACIMIENTO]]&J21 -> 2021S | L21: =IFERROR(VLOOKUP(K21,CATEGORIAS,2,0),"") -> STRIDERS 5 AÑOS | M21: CHAMPIONS FACTORY | N21: 28 | O21: =IFERROR(VLOOKUP(Tabla1[[#This Row],[NIVEL DE HABILIDAD]],CATEGORIAS!$M$3:$O$13,2,FALSE),"") -> 85000 | Q21: EL TORITO DEL CAUCA
A22: =_xlfn.IFNA(_xlfn.XLOOKUP(Tabla1[[#This Row],[ID]],'BASE DE DATOS 2026'!$B$3:$B$554,'BASE DE DATOS 2026'!$N$3:$N$554),"") | B22: 29 | C22: MARTIN | D22: ESCOBAR ORTIZ | E22: 1112164681 | G22: 2020 | H22: =IF(Tabla1[[#This Row],[FECHA DE NACIMIENTO]]="","",YEAR(NOW())-Tabla1[[#This Row],[FECHA DE NACIMIENTO]]) -> 6 | I22: MINIRIDERS | J22: =VLOOKUP(I22,NH,2,0) -> E | K22: =Tabla1[[#This Row],[FECHA DE NACIMIENTO]]&J22 -> 2020E | L22: =IFERROR(VLOOKUP(K22,CATEGORIAS,2,0),"") -> MINIRIDERS 6 AÑOS | M22: BMX RIDERS BUGA | N22: 29 | O22: =IFERROR(VLOOKUP(Tabla1[[#This Row],[NIVEL DE HABILIDAD]],CATEGORIAS!$M$3:$O$13,2,FALSE),"") -> 85000
A23: =_xlfn.IFNA(_xlfn.XLOOKUP(Tabla1[[#This Row],[ID]],'BASE DE DATOS 2026'!$B$3:$B$554,'BASE DE DATOS 2026'!$N$3:$N$554),"") -> 30 | B23: 30 | C23: AGUSTIN | D23: JARAMILLO GUEVARA | E23: 1109938537 | G23: 2020 | H23: =IF(Tabla1[[#This Row],[FECHA DE NACIMIENTO]]="","",YEAR(NOW())-Tabla1[[#This Row],[FECHA DE NACIMIENTO]]) -> 6 | I23: MINIRIDERS | J23: =VLOOKUP(I23,NH,2,0) -> E | K23: =Tabla1[[#This Row],[FECHA DE NACIMIENTO]]&J23 -> 2020E | L23: =IFERROR(VLOOKUP(K23,CATEGORIAS,2,0),"") -> MINIRIDERS 6 AÑOS | M23: CICLON BMX | N23: 30 | O23: =IFERROR(VLOOKUP(Tabla1[[#This Row],[NIVEL DE HABILIDAD]],CATEGORIAS!$M$3:$O$13,2,FALSE),"") -> 85000
A24: =_xlfn.IFNA(_xlfn.XLOOKUP(Tabla1[[#This Row],[ID]],'BASE DE DATOS 2026'!$B$3:$B$554,'BASE DE DATOS 2026'!$N$3:$N$554),"") -> 31 | B24: 31 | C24: ISAAC | D24: VELASCO ARISTIZABAL | E24: 1109121860 | G24: 2020 | H24: =IF(Tabla1[[#This Row],[FECHA DE NACIMIENTO]]="","",YEAR(NOW())-Tabla1[[#This Row],[FECHA DE NACIMIENTO]]) -> 6 | I24: MINIRIDERS | J24: =VLOOKUP(I24,NH,2,0) -> E | K24: =Tabla1[[#This Row],[FECHA DE NACIMIENTO]]&J24 -> 2020E | L24: =IFERROR(VLOOKUP(K24,CATEGORIAS,2,0),"") -> MINIRIDERS 6 AÑOS | M24: CICLON BMX | N24: 31 | O24: =IFERROR(VLOOKUP(Tabla1[[#This Row],[NIVEL DE HABILIDAD]],CATEGORIAS!$M$3:$O$13,2,FALSE),"") -> 85000
A25: =_xlfn.IFNA(_xlfn.XLOOKUP(Tabla1[[#This Row],[ID]],'BASE DE DATOS 2026'!$B$3:$B$554,'BASE DE DATOS 2026'!$N$3:$N$554),"") | B25: 32 | C25: JUAN SALVADOR | D25: YARA VERGARA | E25: 1105936574 | G25: 2021 | H25: =IF(Tabla1[[#This Row],[FECHA DE NACIMIENTO]]="","",YEAR(NOW())-Tabla1[[#This Row],[FECHA DE NACIMIENTO]]) -> 5 | I25: STRIDERS | J25: =VLOOKUP(I25,NH,2,0) -> S | K25: =Tabla1[[#This Row],[FECHA DE NACIMIENTO]]&J25 -> 2021S | L25: =IFERROR(VLOOKUP(K25,CATEGORIAS,2,0),"") -> STRIDERS 5 AÑOS | M25: CICLON BMX | N25: 32 | O25: =IFERROR(VLOOKUP(Tabla1[[#This Row],[NIVEL DE HABILIDAD]],CATEGORIAS!$M$3:$O$13,2,FALSE),"") -> 85000
A26: =_xlfn.IFNA(_xlfn.XLOOKUP(Tabla1[[#This Row],[ID]],'BASE DE DATOS 2026'!$B$3:$B$554,'BASE DE DATOS 2026'!$N$3:$N$554),"") | B26: 33 | C26: MARÍA JOSÉ | D26: MORALES HINCAPIE | E26: 1232818158 | G26: 2021 | H26: =IF(Tabla1[[#This Row],[FECHA DE NACIMIENTO]]="","",YEAR(NOW())-Tabla1[[#This Row],[FECHA DE NACIMIENTO]]) -> 5 | I26: STRIDERS | J26: =VLOOKUP(I26,NH,2,0) -> S | K26: =Tabla1[[#This Row],[FECHA DE NACIMIENTO]]&J26 -> 2021S | L26: =IFERROR(VLOOKUP(K26,CATEGORIAS,2,0),"") -> STRIDERS 5 AÑOS | M26: CICLON BMX | N26: 33 | O26: =IFERROR(VLOOKUP(Tabla1[[#This Row],[NIVEL DE HABILIDAD]],CATEGORIAS!$M$3:$O$13,2,FALSE),"") -> 85000
A27: =_xlfn.IFNA(_xlfn.XLOOKUP(Tabla1[[#This Row],[ID]],'BASE DE DATOS 2026'!$B$3:$B$554,'BASE DE DATOS 2026'!$N$3:$N$554),"") | B27: 34 | C27: MARÍA JOSÉ | D27: MOJICA PEREZ | E27: 1106524664 | G27: 2020 | H27: =IF(Tabla1[[#This Row],[FECHA DE NACIMIENTO]]="","",YEAR(NOW())-Tabla1[[#This Row],[FECHA DE NACIMIENTO]]) -> 6 | I27: MINIRIDERS | J27: =VLOOKUP(I27,NH,2,0) -> E | K27: =Tabla1[[#This Row],[FECHA DE NACIMIENTO]]&J27 -> 2020E | L27: =IFERROR(VLOOKUP(K27,CATEGORIAS,2,0),"") -> MINIRIDERS 6 AÑOS | M27: YUMBIKE | N27: 34 | O27: =IFERROR(VLOOKUP(Tabla1[[#This Row],[NIVEL DE HABILIDAD]],CATEGORIAS!$M$3:$O$13,2,FALSE),"") -> 85000 | Q27: MAJITO
A28: =_xlfn.IFNA(_xlfn.XLOOKUP(Tabla1[[#This Row],[ID]],'BASE DE DATOS 2026'!$B$3:$B$554,'BASE DE DATOS 2026'!$N$3:$N$554),"") | B28: 35 | C28: MARTÍN | D28: SOTO VELASCO | E28: 1108572247 | G28: 2020 | H28: =IF(Tabla1[[#This Row],[FECHA DE NACIMIENTO]]="","",YEAR(NOW())-Tabla1[[#This Row],[FECHA DE NACIMIENTO]]) -> 6 | I28: MINIRIDERS | J28: =VLOOKUP(I28,NH,2,0) -> E | K28: =Tabla1[[#This Row],[FECHA DE NACIMIENTO]]&J28 -> 2020E | L28: =IFERROR(VLOOKUP(K28,CATEGORIAS,2,0),"") -> MINIRIDERS 6 AÑOS | M28: CICLON BMX | N28: 35 | O28: =IFERROR(VLOOKUP(Tabla1[[#This Row],[NIVEL DE HABILIDAD]],CATEGORIAS!$M$3:$O$13,2,FALSE),"") -> 85000
A29: =_xlfn.IFNA(_xlfn.XLOOKUP(Tabla1[[#This Row],[ID]],'BASE DE DATOS 2026'!$B$3:$B$554,'BASE DE DATOS 2026'!$N$3:$N$554),"") -> 36 | B29: 36 | C29: MAXIMILIANO | D29: VELASCO ARISTIZABAL | E29: 1109121861 | G29: 2020 | H29: =IF(Tabla1[[#This Row],[FECHA DE NACIMIENTO]]="","",YEAR(NOW())-Tabla1[[#This Row],[FECHA DE NACIMIENTO]]) -> 6 | I29: MINIRIDERS | J29: =VLOOKUP(I29,NH,2,0) -> E | K29: =Tabla1[[#This Row],[FECHA DE NACIMIENTO]]&J29 -> 2020E | L29: =IFERROR(VLOOKUP(K29,CATEGORIAS,2,0),"") -> MINIRIDERS 6 AÑOS | M29: CICLON BMX | N29: 36 | O29: =IFERROR(VLOOKUP(Tabla1[[#This Row],[NIVEL DE HABILIDAD]],CATEGORIAS!$M$3:$O$13,2,FALSE),"") -> 85000
A30: =_xlfn.IFNA(_xlfn.XLOOKUP(Tabla1[[#This Row],[ID]],'BASE DE DATOS 2026'!$B$3:$B$554,'BASE DE DATOS 2026'!$N$3:$N$554),"") -> 37 | B30: 37 | C30: LIAM ESTIVEN | D30: GRAJALES VARGAS | E30: 1114012296 | G30: 2018 | H30: =IF(Tabla1[[#This Row],[FECHA DE NACIMIENTO]]="","",YEAR(NOW())-Tabla1[[#This Row],[FECHA DE NACIMIENTO]]) -> 8 | I30: PRINCIPIANTES | J30: =VLOOKUP(I30,NH,2,0) -> P | K30: =Tabla1[[#This Row],[FECHA DE NACIMIENTO]]&J30 -> 2018P | L30: =IFERROR(VLOOKUP(K30,CATEGORIAS,2,0),"") -> PRINCIPIANTES 7 Y 8 AÑOS | M30: BMX ATTACK | N30: 37 | O30: =IFERROR(VLOOKUP(Tabla1[[#This Row],[NIVEL DE HABILIDAD]],CATEGORIAS!$M$3:$O$13,2,FALSE),"") -> 85000
A31: =_xlfn.IFNA(_xlfn.XLOOKUP(Tabla1[[#This Row],[ID]],'BASE DE DATOS 2026'!$B$3:$B$554,'BASE DE DATOS 2026'!$N$3:$N$554),"") -> 38 | B31: 38 | C31: LUCIANA | D31: ACEVEDO OBANDO | E31: 1114249166 | G31: 2019 | H31: =IF(Tabla1[[#This Row],[FECHA DE NACIMIENTO]]="","",YEAR(NOW())-Tabla1[[#This Row],[FECHA DE NACIMIENTO]]) -> 7 | I31: PRINCIPIANTES | J31: =VLOOKUP(I31,NH,2,0) -> P | K31: =Tabla1[[#This Row],[FECHA DE NACIMIENTO]]&J31 -> 2019P | L31: =IFERROR(VLOOKUP(K31,CATEGORIAS,2,0),"") -> PRINCIPIANTES 7 Y 8 AÑOS | M31: BMX ATTACK | N31: 38 | O31: =IFERROR(VLOOKUP(Tabla1[[#This Row],[NIVEL DE HABILIDAD]],CATEGORIAS!$M$3:$O$13,2,FALSE),"") -> 85000
