Workbook
Name BASE2025: Tabla1[#All]
Name BASE2026: 'BASE DE DATOS 2026'!$B$2:$Q$799
Name CATEGORIAS: CATEGORIAS!$A$3:$F$169
Name CAUCA: VALIDA!$C$12:$D$12,VALIDA!$C$18:$D$18,VALIDA!$C$29:$D$29,VALIDA!#REF!,VALIDA!$C$38:$D$38,VALIDA!#REF!
Name NH: CATEGORIAS!$H$3:$I$13
Name NIVEL: CATEGORIAS!$H$3:$H$13
Name NIVELES: CATEGORIAS!$H$3:$I$12
Name VALORES: CATEGORIAS!$M$3:$P$13

Sheet BASE DE DATOS 2026
B1: SUPERCOPA 2026 - BASE DE DATOS
B2: ID | C2: NOMBRES | D2: APELLIDOS | E2: DOCUMENTO IDENTIDAD | F2: SEXO | G2: FECHA DE NACIMIENTO | H2: EDAD | I2: NIVEL DE HABILIDAD | J2: SNH | K2: SCAT | L2: CATEGORIA | M2: CLUB | N2: TABLERO | O2: VALOR INSCRIPCION | P2: OBSERVACIONES | Q2: APODO
A3: =SUBTOTAL(103,$B$3:B3) -> 1 | B3: 10 | C3: MATIAS | D3: FORERO ALDANA | E3: 1010849944 | F3: M | G3: 44243 | H3: =IF('BASE DE DATOS 2026'!$G3="","",YEAR(NOW())-YEAR(G3)) -> 5 | I3: STRIDERS | J3: =VLOOKUP(I3,NH,2,0) -> S | K3: =YEAR('BASE DE DATOS 2026'!$G3)&J3 -> 2021S | L3: =IFERROR(VLOOKUP(K3,CATEGORIAS,2,0),"") -> STRIDERS 5 AÑOS | M3: POWERBIKE | N3: 10 | O3: =IFERROR(VLOOKUP('BASE DE DATOS 2026'!$I3,CATEGORIAS!$M$3:$O$13,2,FALSE),"") -> 85000
A4: =SUBTOTAL(103,$B$3:B4) -> 2 | B4: 13 | C4: CHARLOTTE VALENTINA | D4: BELALCAZAR OSORIO | E4: 1144112260 | F4: F | G4: 44515 | H4: =IF('BASE DE DATOS 2026'!$G4="","",YEAR(NOW())-YEAR(G4)) -> 5 | I4: STRIDERS | J4: =VLOOKUP(I4,NH,2,0) -> S | K4: =YEAR('BASE DE DATOS 2026'!$G4)&J4 -> 2021S | L4: =IFERROR(VLOOKUP(K4,CATEGORIAS,2,0),"") -> STRIDERS 5 AÑOS | M4: SHAKA RACING | N4: 13 | O4: =IFERROR(VLOOKUP('BASE DE DATOS 2026'!$I4,CATEGORIAS!$M$3:$O$13,2,FALSE),"") -> 85000
A5: =SUBTOTAL(103,$B$3:B5) -> 3 | B5: 14 | C5: MAXIMILIANO | D5: HOYOS TORO | E5: 1059251369 | F5: M | G5: 44312 | H5: =IF('BASE DE DATOS 2026'!$G5="","",YEAR(NOW())-YEAR(G5)) -> 5 | I5: MINIRIDERS | J5: =VLOOKUP(I5,NH,2,0) -> E | K5: =YEAR('BASE DE DATOS 2026'!$G5)&J5 -> 2021E | L5: =IFERROR(VLOOKUP(K5,CATEGORIAS,2,0),"") -> MINIRIDERS 4 Y 5 AÑOS | M5: REAL RIDERS POPAYAN | N5: 14 | O5: =IFERROR(VLOOKUP('BASE DE DATOS 2026'!$I5,CATEGORIAS!$M$3:$O$13,2,FALSE),"") -> 85000 | Q5: LA PULGUITA HOYOS
A6: =SUBTOTAL(103,$B$3:B6) -> 4 | B6: 15 | C6: EZEQUIEL | D6: ALVARDO ASTORQUIZA | E6: 1059250630 | F6: M | G6: 43891 | H6: =IF('BASE DE DATOS 2026'!$G6="","",YEAR(NOW())-YEAR(G6)) -> 6 | I6: MINIRIDERS | J6: =VLOOKUP(I6,NH,2,0) -> E | K6: =YEAR('BASE DE DATOS 2026'!$G6)&J6 -> 2020E | L6: =IFERROR(VLOOKUP(K6,CATEGORIAS,2,0),"") -> MINIRIDERS 6 AÑOS | M6: REAL RIDERS POPAYAN | N6: 15 | O6: =IFERROR(VLOOKUP('BASE DE DATOS 2026'!$I6,CATEGORIAS!$M$3:$O$13,2,FALSE),"") -> 85000
A7: =SUBTOTAL(103,$B$3:B7) -> 5 | B7: 16 | C7: LIAM SANTIAGO | D7: MORENO CHITO | E7: 1059251408 | F7: M | G7: 44340 | H7: =IF('BASE DE DATOS 2026'!$G7="","",YEAR(NOW())-YEAR(G7)) -> 5 | I7: STRIDERS | J7: =VLOOKUP(I7,NH,2,0) -> S | K7: =YEAR('BASE DE DATOS 2026'!$G7)&J7 -> 2021S | L7: =IFERROR(VLOOKUP(K7,CATEGORIAS,2,0),"") -> STRIDERS 5 AÑOS | M7: REAL RIDERS POPAYAN | N7: 16 | O7: =IFERROR(VLOOKUP('BASE DE DATOS 2026'!$I7,CATEGORIAS!$M$3:$O$13,2,FALSE),"") -> 85000 | Q7: EL MONO DEL CAUCA
A8: =SUBTOTAL(103,$B$3:B8) -> 6 | B8: 17 | C8: JOSUÉ ALEXANDER | D8: MONTOYA OROZCO | E8: 1232812815 | F8: M | G8: 43994 | H8: =IF('BASE DE DATOS 2026'!$G8="","",YEAR(NOW())-YEAR(G8)) -> 6 | I8: MINIRIDERS | J8: =VLOOKUP(I8,NH,2,0) -> E | K8: =YEAR('BASE DE DATOS 2026'!$G8)&J8 -> 2020E | L8: =IFERROR(VLOOKUP(K8,CATEGORIAS,2,0),"") -> MINIRIDERS 6 AÑOS | M8: XTREMO BMX | N8: 17 | O8: =IFERROR(VLOOKUP('BASE DE DATOS 2026'!$I8,CATEGORIAS!$M$3:$O$13,2,FALSE),"") -> 85000 | Q8: EL MONO
A9: =SUBTOTAL(103,$B$3:B9) -> 7 | B9: 18 | C9: VALENTINO | D9: VALENCIA BETANCOURT | E9: 1111572364 | F9: M | G9: 44220 | H9: =IF('BASE DE DATOS 2026'!$G9="","",YEAR(NOW())-YEAR(G9)) -> 5 | I9: STRIDERS | J9: =VLOOKUP(I9,NH,2,0) -> S | K9: =YEAR('BASE DE DATOS 2026'!$G9)&J9 -> 2021S | L9: =IFERROR(VLOOKUP(K9,CATEGORIAS,2,0),"") -> STRIDERS 5 AÑOS | M9: XTREMO BMX | N9: 18 | O9: =IFERROR(VLOOKUP('BASE DE DATOS 2026'!$I9,CATEGORIAS!$M$3:$O$13,2,FALSE),"") -> 85000
A10: =SUBTOTAL(103,$B$3:B10) -> 8 | B10: 19 | C10: LIAM FELIPE | D10: QUIROZ ESCOBAR | E10: 1109569655 | F10: M | G10: 43951 | H10: =IF('BASE DE DATOS 2026'!$G10="","",YEAR(NOW())-YEAR(G10)) -> 6 | I10: MINIRIDERS | J10: =VLOOKUP(I10,NH,2,0) -> E | K10: =YEAR('BASE DE DATOS 2026'!$G10)&J10 -> 2020E | L10: =IFERROR(VLOOKUP(K10,CATEGORIAS,2,0),"") -> MINIRIDERS 6 AÑOS | M10: SHAKA RACING | N10: 19 | O10: =IFERROR(VLOOKUP('BASE DE DATOS 2026'!$I10,CATEGORIAS!$M$3:$O$13,2,FALSE),"") -> 85000 | Q10: EL LEON QUIROZ
A11: =SUBTOTAL(103,$B$3:B11) -> 9 | B11: 20 | C11: CAMILO | D11: CAMPO QUINTERO | E11: 1232810806 | F11: M | G11: 43831 | H11: =IF('BASE DE DATOS 2026'!$G11="","",YEAR(NOW())-YEAR(G11)) -> 6 | I11: MINIRIDERS | J11: =VLOOKUP(I11,NH,2,0) -> E | K11: =YEAR('BASE DE DATOS 2026'!$G11)&J11 -> 2020E | L11: =IFERROR(VLOOKUP(K11,CATEGORIAS,2,0),"") -> MINIRIDERS 6 AÑOS | M11: GUEPARDOS | N11: 20 | O11: =IFERROR(VLOOKUP('BASE DE DATOS 2026'!$I11,CATEGORIAS!$M$3:$O$13,2,FALSE),"") -> 85000
A12: =SUBTOTAL(103,$B$3:B12) -> 10 | B12: 21 | C12: MARTIN | D12: CAMPO QUINTERO | E12: 1232810807 | F12: M | G12: 43831 | H12: =IF('BASE DE DATOS 2026'!$G12="","",YEAR(NOW())-YEAR(G12)) -> 6 | I12: MINIRIDERS | J12: =VLOOKUP(I12,NH,2,0) -> E | K12: =YEAR('BASE DE DATOS 2026'!$G12)&J12 -> 2020E | L12: =IFERROR(VLOOKUP(K12,CATEGORIAS,2,0),"") -> MINIRIDERS 6 AÑOS | M12: GUEPARDOS | N12: 21 | O12: =IFERROR(VLOOKUP('BASE DE DATOS 2026'!$I12,CATEGORIAS!$M$3:$O$13,2,FALSE),"") -> 85000
A13: =SUBTOTAL(103,$B$3:B13) -> 11 | B13: 22 | C13: SANTIAGO | D13: RAMIREZ CIFUENTES | E13: 1110379478 | F13: M | G13: 43877 | H13: =IF('BASE DE DATOS 2026'!$G13="","",YEAR(NOW())-YEAR(G13)) -> 6 | I13: MINIRIDERS | J13: =VLOOKUP(I13,NH,2,0) -> E | K13: =YEAR('BASE DE DATOS 2026'!$G13)&J13 -> 2020E | L13: =IFERROR(VLOOKUP(K13,CATEGORIAS,2,0),"") -> MINIRIDERS 6 AÑOS | M13: XTREMO BMX | N13: 22 | O13: =IFERROR(VLOOKUP('BASE DE DATOS 2026'!$I13,CATEGORIAS!$M$3:$O$13,2,FALSE),"") -> 85000
A14: =SUBTOTAL(103,$B$3:B14) -> 12 | B14: 23 | C14: JERONIMO | D14: PERALTA MORIANO | E14: 1109572622 | F14: M | G14: 44427 | H14: =IF('BASE DE DATOS 2026'!$G14="","",YEAR(NOW())-YEAR(G14)) -> 5 | I14: STRIDERS | J14: =VLOOKUP(I14,NH,2,0) -> S | K14: =YEAR('BASE DE DATOS 2026'!$G14)&J14 -> 2021S | L14: =IFERROR(VLOOKUP(K14,CATEGORIAS,2,0),"") -> STRIDERS 5 AÑOS | M14: XTREMO BMX | N14: 23 | O14: =IFERROR(VLOOKUP('BASE DE DATOS 2026'!$I14,CATEGORIAS!$M$3:$O$13,2,FALSE),"") -> 85000
A15: =SUBTOTAL(103,$B$3:B15) -> 13 | B15: 25 | C15: VALENTINO | D15: FRANCO MUÑOZ | E15: 1109569542 | F15: M | G15: 43910 | H15: =IF('BASE DE DATOS 2026'!$G15="","",YEAR(NOW())-YEAR(G15)) -> 6 | I15: MINIRIDERS | J15: =VLOOKUP(I15,NH,2,0) -> E | K15: =YEAR('BASE DE DATOS 2026'!$G15)&J15 -> 2020E | L15: =IFERROR(VLOOKUP(K15,CATEGORIAS,2,0),"") -> MINIRIDERS 6 AÑOS | M15: XTREMO BMX | N15: 25 | O15: =IFERROR(VLOOKUP('BASE DE DATOS 2026'!$I15,CATEGORIAS!$M$3:$O$13,2,FALSE),"") -> 85000 | Q15: TIGRE FRANCO
A16: =SUBTOTAL(103,$B$3:B16) -> 14 | B16: 26 | C16: LUCCA | D16: DIAZ DEL CHIARO | E16: 1232815236 | F16: M | G16: 44247 | H16: =IF('BASE DE DATOS 2026'!$G16="","",YEAR(NOW())-YEAR(G16)) -> 5 | I16: STRIDERS | J16: =VLOOKUP(I16,NH,2,0) -> S | K16: =YEAR('BASE DE DATOS 2026'!$G16)&J16 -> 2021S | L16: =IFERROR(VLOOKUP(K16,CATEGORIAS,2,0),"") -> STRIDERS 5 AÑOS | M16: XTREMO BMX | N16: 26 | O16: =IFERROR(VLOOKUP('BASE DE DATOS 2026'!$I16,CATEGORIAS!$M$3:$O$13,2,FALSE),"") -> 85000
A17: =SUBTOTAL(103,$B$3:B17) -> 15 | B17: 28 | C17: MAXIMILIANO | D17: MONTENEGRO RESTREPO | E17: 1058554558 | F17: M | G17: 44281 | H17: =IF('BASE DE DATOS 2026'!$G17="","",YEAR(NOW())-YEAR(G17)) -> 5 | I17: STRIDERS | J17: =VLOOKUP(I17,NH,2,0) -> S | K17: =YEAR('BASE DE DATOS 2026'!$G17)&J17 -> 2021S | L17: =IFERROR(VLOOKUP(K17,CATEGORIAS,2,0),"") -> STRIDERS 5 AÑOS | M17: CHAMPION FACTORY | N17: 28 | O17: =IFERROR(VLOOKUP('BASE DE DATOS 2026'!$I17,CATEGORIAS!$M$3:$O$13,2,FALSE),"") -> 85000 | Q17: EL TORITO DEL CAUCA
A18: =SUBTOTAL(103,$B$3:B18) -> 16 | B18: 30 | C18: AGUSTIN | D18: JARAMILLO GUEVARA | E18: 1109938537 | F18: M | G18: 43975 | H18: =IF('BASE DE DATOS 2026'!$G18="","",YEAR(NOW())-YEAR(G18)) -> 6 | I18: MINIRIDERS | J18: =VLOOKUP(I18,NH,2,0) -> E | K18: =YEAR('BASE DE DATOS 2026'!$G18)&J18 -> 2020E | L18: =IFERROR(VLOOKUP(K18,CATEGORIAS,2,0),"") -> MINIRIDERS 6 AÑOS | M18: CICLON BMX | N18: 30 | O18: =IFERROR(VLOOKUP('BASE DE DATOS 2026'!$I18,CATEGORIAS!$M$3:$O$13,2,FALSE),"") -> 85000
A19: =SUBTOTAL(103,$B$3:B19) -> 17 | B19: 31 | C19: ISAAC | D19: VELASCO ARISTIZABAL | E19: 1109121860 | F19: M | G19: 43931 | H19: =IF('BASE DE DATOS 2026'!$G19="","",YEAR(NOW())-YEAR(G19)) -> 6 | I19: MINIRIDERS | J19: =VLOOKUP(I19,NH,2,0) -> E | K19: =YEAR('BASE DE DATOS 2026'!$G19)&J19 -> 2020E | L19: =IFERROR(VLOOKUP(K19,CATEGORIAS,2,0),"") -> MINIRIDERS 6 AÑOS | M19: CICLON BMX | N19: 31 | O19: =IFERROR(VLOOKUP('BASE DE DATOS 2026'!$I19,CATEGORIAS!$M$3:$O$13,2,FALSE),"") -> 85000
A20: =SUBTOTAL(103,$B$3:B20) -> 18 | B20: 36 | C20: MAXIMILIANO | D20: VELASCO ARISTIZABAL | E20: 1109121861 | F20: M | G20: 43931 | H20: =IF('BASE DE DATOS 2026'!$G20="","",YEAR(NOW())-YEAR(G20)) -> 6 | I20: MINIRIDERS | J20: =VLOOKUP(I20,NH,2,0) -> E | K20: =YEAR('BASE DE DATOS 2026'!$G20)&J20 -> 2020E | L20: =IFERROR(VLOOKUP(K20,CATEGORIAS,2,0),"") -> MINIRIDERS 6 AÑOS | M20: CICLON BMX | N20: 36 | O20: =IFERROR(VLOOKUP('BASE DE DATOS 2026'!$I20,CATEGORIAS!$M$3:$O$13,2,FALSE),"") -> 85000
A21: =SUBTOTAL(103,$B$3:B21) -> 19 | B21: 37 | C21: LIAM STIVEN | D21: GRAJALES VARGAS | E21: 1114012296 | F21: M | G21: 43360 | H21: =IF('BASE DE DATOS 2026'!$G21="","",YEAR(NOW())-YEAR(G21)) -> 8 | I21: MINIRIDERS | J21: =VLOOKUP(I21,NH,2,0) -> E | K21: =YEAR('BASE DE DATOS 2026'!$G21)&J21 -> 2018E | L21: =IFERROR(VLOOKUP(K21,CATEGORIAS,2,0),"") -> MINIRIDERS 7 Y 8 AÑOS | M21: BMX ATTACK | N21: 37 | O21: =IFERROR(VLOOKUP('BASE DE DATOS 2026'!$I21,CATEGORIAS!$M$3:$O$13,2,FALSE),"") -> 85000
A22: =SUBTOTAL(103,$B$3:B22) -> 20 | B22: 38 | C22: LUCIANA | D22: ACEVEDO OBANDO | E22: 1114249166 | F22: F | G22: 43539 | H22: =IF('BASE DE DATOS 2026'!$G22="","",YEAR(NOW())-YEAR(G22)) -> 7 | I22: DAMAS | J22: =VLOOKUP(I22,NH,2,0) -> D | K22: =YEAR('BASE DE DATOS 2026'!$G22)&J22 -> 2019D | L22: =IFERROR(VLOOKUP(K22,CATEGORIAS,2,0),"") -> DAMAS 7 Y 8 AÑOS | M22: BMX PALMIRA | N22: 38 | O22: =IFERROR(VLOOKUP('BASE DE DATOS 2026'!$I22,CATEGORIAS!$M$3:$O$13,2,FALSE),"") -> 85000 | Q22: LA CHISPITA ACEVEDO
A23: =SUBTOTAL(103,$B$3:B23) -> 21 | B23: 39 | C23: EITHIAN | D23: HURTADO BERMUDEZ | E23: 1114249319 | F23: M | G23: 43882 | H23: =IF('BASE DE DATOS 2026'!$G23="","",YEAR(NOW())-YEAR(G23)) -> 6 | I23: MINIRIDERS | J23: =VLOOKUP(I23,NH,2,0) -> E | K23: =YEAR('BASE DE DATOS 2026'!$G23)&J23 -> 2020E | L23: =IFERROR(VLOOKUP(K23,CATEGORIAS,2,0),"") -> MINIRIDERS 6 AÑOS | M23: BMX ATTACK | N23: 39 | O23: =IFERROR(VLOOKUP('BASE DE DATOS 2026'!$I23,CATEGORIAS!$M$3:$O$13,2,FALSE),"") -> 85000
A24: =SUBTOTAL(103,$B$3:B24) -> 22 | B24: 41 | C24: MARIA PAUALA | D24: CHILITO FAJARDO | E24: 1061546676 | F24: F | G24: 43466 | H24: =IF('BASE DE DATOS 2026'!$G24="","",YEAR(NOW())-YEAR(G24)) -> 7 | I24: DAMAS | J24: =VLOOKUP(I24,NH,2,0) -> D | K24: =YEAR('BASE DE DATOS 2026'!$G24)&J24 -> 2019D | L24: =IFERROR(VLOOKUP(K24,CATEGORIAS,2,0),"") -> DAMAS 7 Y 8 AÑOS | M24: DREAM TEAM BMX CAUCA | N24: 41 | O24: =IFERROR(VLOOKUP('BASE DE DATOS 2026'!$I24,CATEGORIAS!$M$3:$O$13,2,FALSE),"") -> 85000
A25: =SUBTOTAL(103,$B$3:B25) -> 23 | B25: 42 | C25: DYLAN SANTIAGO | D25: CAMPO SUAREZ | E25: 1104837479 | F25: M | G25: 42269 | H25: =IF('BASE DE DATOS 2026'!$G25="","",YEAR(NOW())-YEAR(G25)) -> 11 | I25: PRINCIPIANTES | J25: =VLOOKUP(I25,NH,2,0) -> P | K25: =YEAR('BASE DE DATOS 2026'!$G25)&J25 -> 2015P | L25: =IFERROR(VLOOKUP(K25,CATEGORIAS,2,0),"") -> PRINCIPIANTES 11 Y 12 AÑOS | M25: MANUBRIOS DE ORO | N25: 42 | O25: =IFERROR(VLOOKUP('BASE DE DATOS 2026'!$I25,CATEGORIAS!$M$3:$O$13,2,FALSE),"") -> 85000
A26: =SUBTOTAL(103,$B$3:B26) -> 24 | B26: 45 | C26: EMILIANO | D26: ERAZO | E26: 1150692727 | F26: M | G26: 42055 | H26: =IF('BASE DE DATOS 2026'!$G26="","",YEAR(NOW())-YEAR(G26)) -> 11 | I26: PRINCIPIANTES | J26: =VLOOKUP(I26,NH,2,0) -> P | K26: =YEAR('BASE DE DATOS 2026'!$G26)&J26 -> 2015P | L26: =IFERROR(VLOOKUP(K26,CATEGORIAS,2,0),"") -> PRINCIPIANTES 11 Y 12 AÑOS | M26: SANTAMARIA RACING | N26: 45 | O26: =IFERROR(VLOOKUP('BASE DE DATOS 2026'!$I26,CATEGORIAS!$M$3:$O$13,2,FALSE),"") -> 85000
A27: =SUBTOTAL(103,$B$3:B27) -> 25 | B27: 46 | C27: JACOBO | D27: VELASCO ASTAIZA | E27: 1058554342 | F27: M | G27: 43977 | H27: =IF('BASE DE DATOS 2026'!$G27="","",YEAR(NOW())-YEAR(G27)) -> 6 | I27: NOVATOS | J27: =VLOOKUP(I27,NH,2,0) -> N | K27: =YEAR('BASE DE DATOS 2026'!$G27)&J27 -> 2020N | L27: =IFERROR(VLOOKUP(K27,CATEGORIAS,2,0),"") -> NOVATOS 6 AÑOS Y MENOS | M27: REAL RIDERS POPAYAN | N27: 46 | O27: =IFERROR(VLOOKUP('BASE DE DATOS 2026'!$I27,CATEGORIAS!$M$3:$O$13,2,FALSE),"") -> 85000 | P27: SE SUBE DE NIVEL POR NAL
A28: =SUBTOTAL(103,$B$3:B28) -> 26 | B28: 47 | C28: JERONIMO | D28: VELASCO ASTAIZA | E28: 1058554341 | F28: M | G28: 43977 | H28: =IF('BASE DE DATOS 2026'!$G28="","",YEAR(NOW())-YEAR(G28)) -> 6 | I28: NOVATOS | J28: =VLOOKUP(I28,NH,2,0) -> N | K28: =YEAR('BASE DE DATOS 2026'!$G28)&J28 -> 2020N | L28: =IFERROR(VLOOKUP(K28,CATEGORIAS,2,0),"") -> NOVATOS 6 AÑOS Y MENOS | M28: REAL RIDERS POPAYAN | N28: 47 | O28: =IFERROR(VLOOKUP('BASE DE DATOS 2026'!$I28,CATEGORIAS!$M$3:$O$13,2,FALSE),"") -> 85000 | P28: SE SUBE DE NIVEL POR NAL
A29: =SUBTOTAL(103,$B$3:B29) -> 27 | B29: 48 | C29: ISAAC | D29: VASQUEZ BECERRA | E29: 1114319153 | F29: M | G29: 43373 | H29: =IF('BASE DE DATOS 2026'!$G29="","",YEAR(NOW())-YEAR(G29)) -> 8 | I29: PRINCIPIANTES | J29: =VLOOKUP(I29,NH,2,0) -> P | K29: =YEAR('BASE DE DATOS 2026'!$G29)&J29 -> 2018P | L29: =IFERROR(VLOOKUP(K29,CATEGORIAS,2,0),"") -> PRINCIPIANTES 7 Y 8 AÑOS | M29: BMX PALMIRA | N29: 48 | O29: =IFERROR(VLOOKUP('BASE DE DATOS 2026'!$I29,CATEGORIAS!$M$3:$O$13,2,FALSE),"") -> 85000
A30: =SUBTOTAL(103,$B$3:B30) -> 28 | B30: 49 | C30: JERONIMO | D30: VIVAS COCUY | E30: 1114558215 | F30: M | G30: 43987 | H30: =IF('BASE DE DATOS 2026'!$G30="","",YEAR(NOW())-YEAR(G30)) -> 6 | I30: PRINCIPIANTES | J30: =VLOOKUP(I30,NH,2,0) -> P | K30: =YEAR('BASE DE DATOS 2026'!$G30)&J30 -> 2020P | L30: =IFERROR(VLOOKUP(K30,CATEGORIAS,2,0),"") -> PRINCIPIANTES 6 AÑOS Y MENOS | M30: BMX PALMIRA | N30: 49 | O30: =IFERROR(VLOOKUP('BASE DE DATOS 2026'!$I30,CATEGORIAS!$M$3:$O$13,2,FALSE),"") -> 85000
A31: =SUBTOTAL(103,$B$3:B31) -> 29 | B31: 50 | C31: JOEL SANTIAGO | D31: JOVEN ERAZO | E31: 1114555506 | F31: M | G31: 43195 | H31: =IF('BASE DE DATOS 2026'!$G31="","",YEAR(NOW())-YEAR(G31)) -> 8 | I31: PRINCIPIANTES | J31: =VLOOKUP(I31,NH,2,0) -> P | K31: =YEAR('BASE DE DATOS 2026'!$G31)&J31 -> 2018P | L31: =IFERROR(VLOOKUP(K31,CATEGORIAS,2,0),"") -> PRINCIPIANTES 7 Y 8 AÑOS | M31: BMX PALMIRA | N31: 50 | O31: =IFERROR(VLOOKUP('BASE DE DATOS 2026'!$I31,CATEGORIAS!$M$3:$O$13,2,FALSE),"") -> 85000 | Q31: LA PIRAÑA DEL VALLE
A32: =SUBTOTAL(103,$B$3:B32) -> 30 | B32: 53 | C32: EMMANUEL | D32: ROMERO MEDINA | E32: 1104842612 | F32: M | G32: 43180 | H32: =IF('BASE DE DATOS 2026'!$G32="","",YEAR(NOW())-YEAR(G32)) -> 8 | I32: NOVATOS | J32: =VLOOKUP(I32,NH,2,0) -> N | K32: =YEAR('BASE DE DATOS 2026'!$G32)&J32 -> 2018N | L32: =IFERROR(VLOOKUP(K32,CATEGORIAS,2,0),"") -> NOVATOS 7 Y 8 AÑOS | M32: XTREMO BMX | N32: 53 | O32: =IFERROR(VLOOKUP('BASE DE DATOS 2026'!$I32,CATEGORIAS!$M$3:$O$13,2,FALSE),"") -> 85000 | Q32: LA MARAVILLA
A33: =SUBTOTAL(103,$B$3:B33) -> 31 | B33: 54 | C33: GERONIMO | D33: RODRIGUEZ VALLEJO | E33: 1109568418 | F33: M | G33: 43716 | H33: =IF('BASE DE DATOS 2026'!$G33="","",YEAR(NOW())-YEAR(G33)) -> 7 | I33: PRINCIPIANTES | J33: =VLOOKUP(I33,NH,2,0) -> P | K33: =YEAR('BASE DE DATOS 2026'!$G33)&J33 -> 2019P | L33: =IFERROR(VLOOKUP(K33,CATEGORIAS,2,0),"") -> PRINCIPIANTES 7 Y 8 AÑOS | M33: XTREMO BMX | N33: 54 | O33: =IFERROR(VLOOKUP('BASE DE DATOS 2026'!$I33,CATEGORIAS!$M$3:$O$13,2,FALSE),"") -> 85000 | Q33: EL TORITO
A34: =SUBTOTAL(103,$B$3:B34) -> 32 | B34: 56 | C34: MARTIN | D34: VARGAS PEREZ | E34: 1109560767 | F34: M | G34: 42526 | H34: =IF('BASE DE DATOS 2026'!$G34="","",YEAR(NOW())-YEAR(G34)) -> 10 | I34: MINIRIDERS | J34: =VLOOKUP(I34,NH,2,0) -> E | K34: =YEAR('BASE DE DATOS 2026'!$G34)&J34 -> 2016E | L34: =IFERROR(VLOOKUP(K34,CATEGORIAS,2,0),"") -> MINIRIDERS 9 Y 10 AÑOS | M34: XTREMO BMX | N34: 56 | O34: =IFERROR(VLOOKUP('BASE DE DATOS 2026'!$I34,CATEGORIAS!$M$3:$O$13,2,FALSE),"") -> 85000
A35: =SUBTOTAL(103,$B$3:B35) -> 33 | B35: 57 | C35: AARON JACK | D35: RUIZ NAVARRO | E35: 1114322662 | F35: M | G35: 44937 | H35: =IF('BASE DE DATOS 2026'!$G35="","",YEAR(NOW())-YEAR(G35)) -> 3 | I35: STRIDERS | J35: =VLOOKUP(I35,NH,2,0) -> S | K35: =YEAR('BASE DE DATOS 2026'!$G35)&J35 -> 2023S | L35: =IFERROR(VLOOKUP(K35,CATEGORIAS,2,0),"") -> STRIDERS 2 Y 3 AÑOS | M35: BMX ATTACK | N35: 57 | O35: =IFERROR(VLOOKUP('BASE DE DATOS 2026'!$I35,CATEGORIAS!$M$3:$O$13,2,FALSE),"") -> 85000
A36: =SUBTOTAL(103,$B$3:B36) -> 34 | B36: 62 | C36: LIAYAN STIVEN | D36: RIOS ROMERO | E36: 1114013078 | F36: M | G36: 43675 | H36: =IF('BASE DE DATOS 2026'!$G36="","",YEAR(NOW())-YEAR(G36)) -> 7 | I36: PRINCIPIANTES | J36: =VLOOKUP(I36,NH,2,0) -> P | K36: =YEAR('BASE DE DATOS 2026'!$G36)&J36 -> 2019P | L36: =IFERROR(VLOOKUP(K36,CATEGORIAS,2,0),"") -> PRINCIPIANTES 7 Y 8 AÑOS | M36: XTREMO BMX | N36: 62 | O36: =IFERROR(VLOOKUP('BASE DE DATOS 2026'!$I36,CATEGORIAS!$M$3:$O$13,2,FALSE),"") -> 85000
A37: =SUBTOTAL(103,$B$3:B37) -> 35 | B37: 67 | C37: EMMANUEL | D37: RIVERA JARAMILLO | E37: 1232793740 | F37: M | G37: 42227 | H37: =IF('BASE DE DATOS 2026'!$G37="","",YEAR(NOW())-YEAR(G37)) -> 11 | I37: NOVATOS | J37: =VLOOKUP(I37,NH,2,0) -> N | K37: =YEAR('BASE DE DATOS 2026'!$G37)&J37 -> 2015N | L37: =IFERROR(VLOOKUP(K37,CATEGORIAS,2,0),"") -> NOVATOS 11 Y 12 AÑOS | M37: PILOTOS BMX | N37: 67 | O37: =IFERROR(VLOOKUP('BASE DE DATOS 2026'!$I37,CATEGORIAS!$M$3:$O$13,2,FALSE),"") -> 85000
A38: =SUBTOTAL(103,$B$3:B38) -> 36 | B38: 68 | C38: THIAGO ITZAE | D38: LUNA GARCIA | E38: 1116379565 | F38: M | G38: 42357 | H38: =IF('BASE DE DATOS 2026'!$G38="","",YEAR(NOW())-YEAR(G38)) -> 11 | I38: PRINCIPIANTES | J38: =VLOOKUP(I38,NH,2,0) -> P | K38: =YEAR('BASE DE DATOS 2026'!$G38)&J38 -> 2015P | L38: =IFERROR(VLOOKUP(K38,CATEGORIAS,2,0),"") -> PRINCIPIANTES 11 Y 12 AÑOS | M38: PILOTOS BMX | N38: 68 | O38: =IFERROR(VLOOKUP('BASE DE DATOS 2026'!$I38,CATEGORIAS!$M$3:$O$13,2,FALSE),"") -> 85000 | Q38: LA BESTIA MARQUEZ
A39: =SUBTOTAL(103,$B$3:B39) -> 37 | B39: 69 | C39: EMILIANO | D39: BELALCAZAR VALLADARES | E39: 1061824772 | F39: M | G39: 43429 | H39: =IF('BASE DE DATOS 2026'!$G39="","",YEAR(NOW())-YEAR(G39)) -> 8 | I39: MINIRIDERS | J39: =VLOOKUP(I39,NH,2,0) -> E | K39: =YEAR('BASE DE DATOS 2026'!$G39)&J39 -> 2018E | L39: =IFERROR(VLOOKUP(K39,CATEGORIAS,2,0),"") -> MINIRIDERS 7 Y 8 AÑOS | M39: DREAM TEAM BMX CAUCA | N39: 69 | O39: =IFERROR(VLOOKUP('BASE DE DATOS 2026'!$I39,CATEGORIAS!$M$3:$O$13,2,FALSE),"") -> 85000 | Q39: LA MAQUINA RIVERA
A40: =SUBTOTAL(103,$B$3:B40) -> 38 | B40: 70 | C40: MIGUEL ANGEL | D40: CARDOZO ARCOS | E40: 1029626480 | F40: M | G40: 43516 | H40: =IF('BASE DE DATOS 2026'!$G40="","",YEAR(NOW())-YEAR(G40)) -> 7 | I40: PRINCIPIANTES | J40: =VLOOKUP(I40,NH,2,0) -> P | K40: =YEAR('BASE DE DATOS 2026'!$G40)&J40 -> 2019P | L40: =IFERROR(VLOOKUP(K40,CATEGORIAS,2,0),"") -> PRINCIPIANTES 7 Y 8 AÑOS | M40: DREAM TEAM BMX CAUCA | N40: 70 | O40: =IFERROR(VLOOKUP('BASE DE DATOS 2026'!$I40,CATEGORIAS!$M$3:$O$13,2,FALSE),"") -> 85000 | Q40: EL GUEPARDO
A41: =SUBTOTAL(103,$B$3:B41) -> 39 | B41: 71 | C41: JOSE MIGUEL | D41: GURRUTE BOLAÑOS | E41: 1058553703 | F41: M | G41: 43312 | H41: =IF('BASE DE DATOS 2026'!$G41="","",YEAR(NOW())-YEAR(G41)) -> 8 | I41: MINIRIDERS | J41: =VLOOKUP(I41,NH,2,0) -> E | K41: =YEAR('BASE DE DATOS 2026'!$G41)&J41 -> 2018E | L41: =IFERROR(VLOOKUP(K41,CATEGORIAS,2,0),"") -> MINIRIDERS 7 Y 8 AÑOS | M41: DREAM TEAM BMX CAUCA | N41: 71 | O41: =IFERROR(VLOOKUP('BASE DE DATOS 2026'!$I41,CATEGORIAS!$M$3:$O$13,2,FALSE),"") -> 85000
A42: =SUBTOTAL(103,$B$3:B42) -> 40 | B42: 72 | C42: JOAQUIN | D42: ROSAS DORADO | E42: 1140214441 | F42: M | G42: 44202 | H42: =IF('BASE DE DATOS 2026'!$G42="","",YEAR(NOW())-YEAR(G42)) -> 5 | I42: MINIRIDERS | J42: =VLOOKUP(I42,NH,2,0) -> E | K42: =YEAR('BASE DE DATOS 2026'!$G42)&J42 -> 2021E | L42: =IFERROR(VLOOKUP(K42,CATEGORIAS,2,0),"") -> MINIRIDERS 4 Y 5 AÑOS | M42: SHAKA RACING | N42: 72 | O42: =IFERROR(VLOOKUP('BASE DE DATOS 2026'!$I42,CATEGORIAS!$M$3:$O$13,2,FALSE),"") -> 85000
A43: =SUBTOTAL(103,$B$3:B43) -> 41 | B43: 73 | C43: ANGEL ANDRES | D43: MUÑOZ RAMIREZ | E43: 1109563342 | F43: M | G43: 42935 | H43: =IF('BASE DE DATOS 2026'!$G43="","",YEAR(NOW())-YEAR(G43)) -> 9 | I43: PRINCIPIANTES | J43: =VLOOKUP(I43,NH,2,0) -> P | K43: =YEAR('BASE DE DATOS 2026'!$G43)&J43 -> 2017P | L43: =IFERROR(VLOOKUP(K43,CATEGORIAS,2,0),"") -> PRINCIPIANTES 9 Y 10 AÑOS | M43: HECHO EN COLOMBIA | N43: 73 | O43: =IFERROR(VLOOKUP('BASE DE DATOS 2026'!$I43,CATEGORIAS!$M$3:$O$13,2,FALSE),"") -> 85000
A44: =SUBTOTAL(103,$B$3:B44) -> 42 | B44: 74 | C44: JOAQUIN ALEJANDRO | D44: SANDOVAL ROJAS | E44: 1150694085 | F44: M | G44: 42814 | H44: =IF('BASE DE DATOS 2026'!$G44="","",YEAR(NOW())-YEAR(G44)) -> 9 | I44: PRINCIPIANTES | J44: =VLOOKUP(I44,NH,2,0) -> P | K44: =YEAR('BASE DE DATOS 2026'!$G44)&J44 -> 2017P | L44: =IFERROR(VLOOKUP(K44,CATEGORIAS,2,0),"") -> PRINCIPIANTES 9 Y 10 AÑOS | M44: HECHO EN COLOMBIA | N44: 74 | O44: =IFERROR(VLOOKUP('BASE DE DATOS 2026'!$I44,CATEGORIAS!$M$3:$O$13,2,FALSE),"") -> 85000
A45: =SUBTOTAL(103,$B$3:B45) -> 43 | B45: 75 | C45: MARTIN | D45: MUÑOZ ERAZO | E45: 1107870096 | F45: M | G45: 43416 | H45: =IF('BASE DE DATOS 2026'!$G45="","",YEAR(NOW())-YEAR(G45)) -> 8 | I45: PRINCIPIANTES | J45: =VLOOKUP(I45,NH,2,0) -> P | K45: =YEAR('BASE DE DATOS 2026'!$G45)&J45 -> 2018P | L45: =IFERROR(VLOOKUP(K45,CATEGORIAS,2,0),"") -> PRINCIPIANTES 7 Y 8 AÑOS | M45: HECHO EN COLOMBIA | N45: 75 | O45: =IFERROR(VLOOKUP('BASE DE DATOS 2026'!$I45,CATEGORIAS!$M$3:$O$13,2,FALSE),"") -> 85000 | Q45: QUIQUILLO
A46: =SUBTOTAL(103,$B$3:B46) -> 44 | B46: 76 | C46: JACOB | D46: VELASCO DÍAZ | E46: 1058940876 | F46: M | G46: 43754 | H46: =IF('BASE DE DATOS 2026'!$G46="","",YEAR(NOW())-YEAR(G46)) -> 7 | I46: PRINCIPIANTES | J46: =VLOOKUP(I46,NH,2,0) -> P | K46: =YEAR('BASE DE DATOS 2026'!$G46)&J46 -> 2019P | L46: =IFERROR(VLOOKUP(K46,CATEGORIAS,2,0),"") -> PRINCIPIANTES 7 Y 8 AÑOS | M46: CHAMPION FACTORY | N46: 76 | O46: =IFERROR(VLOOKUP('BASE DE DATOS 2026'!$I46,CATEGORIAS!$M$3:$O$13,2,FALSE),"") -> 85000
A47: =SUBTOTAL(103,$B$3:B47) -> 45 | B47: 78 | C47: MATEO | D47: ARROYAVE ACOSTA | E47: 1232802768 | F47: M | G47: 43034 | H47: =IF('BASE DE DATOS 2026'!$G47="","",YEAR(NOW())-YEAR(G47)) -> 9 | I47: MINIRIDERS | J47: =VLOOKUP(I47,NH,2,0) -> E | K47: =YEAR('BASE DE DATOS 2026'!$G47)&J47 -> 2017E | L47: =IFERROR(VLOOKUP(K47,CATEGORIAS,2,0),"") -> MINIRIDERS 9 Y 10 AÑOS | M47: BMX RIDERS BUGA | N47: 78 | O47: =IFERROR(VLOOKUP('BASE DE DATOS 2026'!$I47,CATEGORIAS!$M$3:$O$13,2,FALSE),"") -> 85000
A48: =SUBTOTAL(103,$B$3:B48) -> 46 | B48: 79 | C48: NICOLAS | D48: ARROYAVE ACOSTA | E48: 1232809992 | F48: M | G48: 43740 | H48: =IF('BASE DE DATOS 2026'!$G48="","",YEAR(NOW())-YEAR(G48)) -> 7 | I48: MINIRIDERS | J48: =VLOOKUP(I48,NH,2,0) -> E | K48: =YEAR('BASE DE DATOS 2026'!$G48)&J48 -> 2019E | L48: =IFERROR(VLOOKUP(K48,CATEGORIAS,2,0),"") -> MINIRIDERS 7 Y 8 AÑOS | M48: BMX RIDERS BUGA | N48: 79 | O48: =IFERROR(VLOOKUP('BASE DE DATOS 2026'!$I48,CATEGORIAS!$M$3:$O$13,2,FALSE),"") -> 85000
A49: =SUBTOTAL(103,$B$3:B49) -> 47 | B49: 87 | C49: GUADALUPE | D49: CORTES | E49: 1144111488 | F49: F | G49: 43837 | H49: =IF('BASE DE DATOS 2026'!$G49="","",YEAR(NOW())-YEAR(G49)) -> 6 | I49: MINIRIDERS | J49: =VLOOKUP(I49,NH,2,0) -> E | K49: =YEAR('BASE DE DATOS 2026'!$G49)&J49 -> 2020E | L49: =IFERROR(VLOOKUP(K49,CATEGORIAS,2,0),"") -> MINIRIDERS 6 AÑOS | M49: PRO RIDERS | N49: 87 | O49: =IFERROR(VLOOKUP('BASE DE DATOS 2026'!$I49,CATEGORIAS!$M$3:$O$13,2,FALSE),"") -> 85000
A50: =SUBTOTAL(103,$B$3:B50) -> 48 | B50: 88 | C50: YAHEL | D50: VARELA | E50: 1232812973 | F50: M | G50: 44011 | H50: =IF('BASE DE DATOS 2026'!$G50="","",YEAR(NOW())-YEAR(G50)) -> 6 | I50: MINIRIDERS | J50: =VLOOKUP(I50,NH,2,0) -> E | K50: =YEAR('BASE DE DATOS 2026'!$G50)&J50 -> 2020E | L50: =IFERROR(VLOOKUP(K50,CATEGORIAS,2,0),"") -> MINIRIDERS 6 AÑOS | M50: PRO RIDERS | N50: 88 | O50: =IFERROR(VLOOKUP('BASE DE DATOS 2026'!$I50,CATEGORIAS!$M$3:$O$13,2,FALSE),"") -> 85000
A51: =SUBTOTAL(103,$B$3:B51) -> 49 | B51: 94 | C51: GABRIEL | D51: TRUJILLO | E51: 1232816122 | F51: M | G51: 44331 | H51: =IF('BASE DE DATOS 2026'!$G51="","",YEAR(NOW())-YEAR(G51)) -> 5 | I51: STRIDERS | J51: =VLOOKUP(I51,NH,2,0) -> S | K51: =YEAR('BASE DE DATOS 2026'!$G51)&J51 -> 2021S | L51: =IFERROR(VLOOKUP(K51,CATEGORIAS,2,0),"") -> STRIDERS 5 AÑOS | M51: PRO RIDERS | N51: 94 | O51: =IFERROR(VLOOKUP('BASE DE DATOS 2026'!$I562,CATEGORIAS!$M$3:$O$13,2,FALSE),"") -> 85000
A52: =SUBTOTAL(103,$B$3:B52) -> 50 | B52: 95 | C52: VALENTINO | D52: LOPEZ BENAVIDES | E52: 1232814442 | F52: M | G52: 44151 | H52: =IF('BASE DE DATOS 2026'!$G52="","",YEAR(NOW())-YEAR(G52)) -> 6 | I52: MINIRIDERS | J52: =VLOOKUP(I52,NH,2,0) -> E | K52: =YEAR('BASE DE DATOS 2026'!$G52)&J52 -> 2020E | L52: =IFERROR(VLOOKUP(K52,CATEGORIAS,2,0),"") -> MINIRIDERS 6 AÑOS | M52: XTREMO BMX | N52: 95 | O52: =IFERROR(VLOOKUP('BASE DE DATOS 2026'!$I51,CATEGORIAS!$M$3:$O$13,2,FALSE),"") -> 85000
A53: =SUBTOTAL(103,$B$3:B53) -> 51 | B53: 97 | C53: JUAN MARTIN | D53: MUÑOZ | E53: 1130593570 | F53: M | G53: 43468 | H53: =IF('BASE DE DATOS 2026'!$G53="","",YEAR(NOW())-YEAR(G53)) -> 7 | I53: PRINCIPIANTES | J53: =VLOOKUP(I53,NH,2,0) -> P | K53: =YEAR('BASE DE DATOS 2026'!$G53)&J53 -> 2019P | L53: PRINCIPIANTES 7 Y 8 AÑOS | M53: HECHO EN COLOMBIA | N53: 97 | O53: =IFERROR(VLOOKUP('BASE DE DATOS 2026'!$I52,CATEGORIAS!$M$3:$O$13,2,FALSE),"") -> 85000 | P53: ASCENSO SOLICITADO
A54: =SUBTOTAL(103,$B$3:B54) -> 52 | B54: 98 | C54: ALEJANDRO | D54: BENITEZ | E54: 1232810736 | F54: M | G54: 43811 | H54: =IF('BASE DE DATOS 2026'!$G54="","",YEAR(NOW())-YEAR(G54)) -> 7 | I54: PRINCIPIANTES | J54: =VLOOKUP(I54,NH,2,0) -> P | K54: =YEAR('BASE DE DATOS 2026'!$G54)&J54 -> 2019P | L54: =IFERROR(VLOOKUP(K54,CATEGORIAS,2,0),"") -> PRINCIPIANTES 7 Y 8 AÑOS | M54: PRO RIDERS | N54: 98 | O54: =IFERROR(VLOOKUP('BASE DE DATOS 2026'!$I53,CATEGORIAS!$M$3:$O$13,2,FALSE),"") -> 85000 | Q54: LA GATA VELOZ
A55: =SUBTOTAL(103,$B$3:B55) -> 53 | B55: 99 | C55: MARTIN | D55: VALENCIA GRAFFE | E55: 1109567753 | F55: M | G55: 43733 | H55: =IF('BASE DE DATOS 2026'!$G55="","",YEAR(NOW())-YEAR(G55)) -> 7 | I55: PRINCIPIANTES | J55: =VLOOKUP(I55,NH,2,0) -> P | K55: =YEAR('BASE DE DATOS 2026'!$G55)&J55 -> 2019P | L55: =IFERROR(VLOOKUP(K55,CATEGORIAS,2,0),"") -> PRINCIPIANTES 7 Y 8 AÑOS | M55: HECHO EN COLOMBIA | N55: 99 | O55: =IFERROR(VLOOKUP('BASE DE DATOS 2026'!$I54,CATEGORIAS!$M$3:$O$13,2,FALSE),"") -> 85000
A56: =SUBTOTAL(103,$B$3:B56) -> 54 | B56: 100 | C56: ISAAC | D56: MEDINILLO | E56: 1108259825 | F56: M | G56: 43364 | H56: =IF('BASE DE DATOS 2026'!$G56="","",YEAR(NOW())-YEAR(G56)) -> 8 | I56: PRINCIPIANTES | J56: =VLOOKUP(I56,NH,2,0) -> P | K56: =YEAR('BASE DE DATOS 2026'!$G56)&J56 -> 2018P | L56: =IFERROR(VLOOKUP(K56,CATEGORIAS,2,0),"") -> PRINCIPIANTES 7 Y 8 AÑOS | M56: PRO RIDERS | N56: 100 | O56: =IFERROR(VLOOKUP('BASE DE DATOS 2026'!$I55,CATEGORIAS!$M$3:$O$13,2,FALSE),"") -> 85000
A57: =SUBTOTAL(103,$B$3:B57) -> 55 | B57: 101 | C57: JUAN JOSE | D57: LOPEZ | E57: 1110376811 | F57: M | G57: 42425 | H57: =IF('BASE DE DATOS 2026'!$G57="","",YEAR(NOW())-YEAR(G57)) -> 10 | I57: MINIRIDERS | J57: =VLOOKUP(I57,NH,2,0) -> E | K57: =YEAR('BASE DE DATOS 2026'!$G57)&J57 -> 2016E | L57: =IFERROR(VLOOKUP(K57,CATEGORIAS,2,0),"") -> MINIRIDERS 9 Y 10 AÑOS | M57: PRO RIDERS | N57: 101 | O57: =IFERROR(VLOOKUP('BASE DE DATOS 2026'!$I56,CATEGORIAS!$M$3:$O$13,2,FALSE),"") -> 85000
A58: =SUBTOTAL(103,$B$3:B58) -> 56 | B58: 102 | C58: JACOBO | D58: CABRERA | E58: 1106524594 | F58: M | G58: 43873 | H58: =IF('BASE DE DATOS 2026'!$G58="","",YEAR(NOW())-YEAR(G58)) -> 6 | I58: MINIRIDERS | J58: =VLOOKUP(I58,NH,2,0) -> E | K58: =YEAR('BASE DE DATOS 2026'!$G58)&J58 -> 2020E | L58: =IFERROR(VLOOKUP(K58,CATEGORIAS,2,0),"") -> MINIRIDERS 6 AÑOS | M58: PRO RIDERS | N58: 102 | O58: =IFERROR(VLOOKUP('BASE DE DATOS 2026'!$I57,CATEGORIAS!$M$3:$O$13,2,FALSE),"") -> 85000
A59: =SUBTOTAL(103,$B$3:B59) -> 57 | B59: 104 | C59: JUAN SEBASTIÁN | D59: CHAMORRO MORENO | E59: 1112062020 | F59: M | G59: 42402 | H59: =IF('BASE DE DATOS 2026'!$G59="","",YEAR(NOW())-YEAR(G59)) -> 10 | I59: PRINCIPIANTES | J59: =VLOOKUP(I59,NH,2,0) -> P | K59: =YEAR('BASE DE DATOS 2026'!$G59)&J59 -> 2016P | L59: =IFERROR(VLOOKUP(K59,CATEGORIAS,2,0),"") -> PRINCIPIANTES 9 Y 10 AÑOS | M59: XTREME RACING | N59: 104 | O59: =IFERROR(VLOOKUP('BASE DE DATOS 2026'!$I58,CATEGORIAS!$M$3:$O$13,2,FALSE),"") -> 85000
A60: =SUBTOTAL(103,$B$3:B60) -> 58 | B60: 105 | C60: KWETH YU | D60: GUETIO ÑUSCUE | E60: 1063819176 | F60: M | G60: 43856 | H60: =IF('BASE DE DATOS 2026'!$G60="","",YEAR(NOW())-YEAR(G60)) -> 6 | I60: PRINCIPIANTES | J60: =VLOOKUP(I60,NH,2,0) -> P | K60: =YEAR('BASE DE DATOS 2026'!$G60)&J60 -> 2020P | L60: =IFERROR(VLOOKUP(K60,CATEGORIAS,2,0),"") -> PRINCIPIANTES 6 AÑOS Y MENOS | M60: RACING CAUCA | N60: 105 | O60: =IFERROR(VLOOKUP('BASE DE DATOS 2026'!$I59,CATEGORIAS!$M$3:$O$13,2,FALSE),"") -> 85000
A61: =SUBTOTAL(103,$B$3:B61) -> 59 | B61: 106 | C61: JERONIMO | D61: CAMPO CUBIDES | E61: 1166466694 | F61: M | G61: 42543 | H61: =IF('BASE DE DATOS 2026'!$G61="","",YEAR(NOW())-YEAR(G61)) -> 10 | I61: PRINCIPIANTES | J61: =VLOOKUP(I61,NH,2,0) -> P | K61: =YEAR('BASE DE DATOS 2026'!$G61)&J61 -> 2016P | L61: =IFERROR(VLOOKUP(K61,CATEGORIAS,2,0),"") -> PRINCIPIANTES 9 Y 10 AÑOS | M61: CHAMPION FACTORY | N61: 106 | O61: =IFERROR(VLOOKUP('BASE DE DATOS 2026'!$I60,CATEGORIAS!$M$3:$O$13,2,FALSE),"") -> 85000
A62: =SUBTOTAL(103,$B$3:B62) -> 60 | B62: 111 | C62: MELISSA | D62: SILVA | E62: 1110377957 | F62: F | G62: 42962 | H62: =IF('BASE DE DATOS 2026'!$G62="","",YEAR(NOW())-YEAR(G62)) -> 9 | I62: DAMAS | J62: =VLOOKUP(I62,NH,2,0) -> D | K62: =YEAR('BASE DE DATOS 2026'!$G62)&J62 -> 2017D | L62: =IFERROR(VLOOKUP(K62,CATEGORIAS,2,0),"") -> DAMAS 9 Y 10 AÑOS | M62: PRO RIDERS | N62: 111 | O62: =IFERROR(VLOOKUP('BASE DE DATOS 2026'!$I61,CATEGORIAS!$M$3:$O$13,2,FALSE),"") -> 85000
A63: =SUBTOTAL(103,$B$3:B63) -> 61 | B63: 112 | C63: ALEXANDER | D63: MANCILLA TROCHEZ | E63: 1112165723 | F63: M | G63: 44677 | H63: =IF('BASE DE DATOS 2026'!$G63="","",YEAR(NOW())-YEAR(G63)) -> 4 | I63: STRIDERS | J63: =VLOOKUP(I63,NH,2,0) -> S | K63: =YEAR('BASE DE DATOS 2026'!$G63)&J63 -> 2022S | L63: =IFERROR(VLOOKUP(K63,CATEGORIAS,2,0),"") -> STRIDERS 4 AÑOS | M63: BMX RIDERS BUGA | N63: 112 | O63: =IFERROR(VLOOKUP('BASE DE DATOS 2026'!$I62,CATEGORIAS!$M$3:$O$13,2,FALSE),"") -> 85000 | Q63: BEBE ALEX
A64: =SUBTOTAL(103,$B$3:B64) -> 62 | B64: 113 | C64: JUAN MARTIN | D64: BOLAÑOS RIOS | E64: 1166468538 | F64: M | G64: 44683 | H64: =IF('BASE DE DATOS 2026'!$G64="","",YEAR(NOW())-YEAR(G64)) -> 4 | I64: STRIDERS | J64: =VLOOKUP(I64,NH,2,0) -> S | K64: =YEAR('BASE DE DATOS 2026'!$G64)&J64 -> 2022S | L64: =IFERROR(VLOOKUP(K64,CATEGORIAS,2,0),"") -> STRIDERS 4 AÑOS | M64: DREAM TEAM BMX CAUCA | N64: 113 | O64: =IFERROR(VLOOKUP('BASE DE DATOS 2026'!$I63,CATEGORIAS!$M$3:$O$13,2,FALSE),"") -> 85000
A65: =SUBTOTAL(103,$B$3:B65) -> 63 | B65: 114 | C65: LIA GABRIELA | D65: QUIROZ VALENCIA | E65: 1113703065 | F65: F | G65: 44200 | H65: =IF('BASE DE DATOS 2026'!$G65="","",YEAR(NOW())-YEAR(G65)) -> 5 | I65: MINIRIDERS | J65: =VLOOKUP(I65,NH,2,0) -> E | K65: =YEAR('BASE DE DATOS 2026'!$G65)&J65 -> 2021E | L65: =IFERROR(VLOOKUP(K65,CATEGORIAS,2,0),"") -> MINIRIDERS 4 Y 5 AÑOS | M65: BMX ATTACK | N65: 114 | O65: =IFERROR(VLOOKUP('BASE DE DATOS 2026'!$I64,CATEGORIAS!$M$3:$O$13,2,FALSE),"") -> 85000
A66: =SUBTOTAL(103,$B$3:B66) -> 64 | B66: 115 | C66: SALVADOR | D66: GOMEZ CARABALI | E66: 1116165573 | F66: M | G66: 44556 | H66: =IF('BASE DE DATOS 2026'!$G66="","",YEAR(NOW())-YEAR(G66)) -> 5 | I66: STRIDERS | J66: =VLOOKUP(I66,NH,2,0) -> S | K66: =YEAR('BASE DE DATOS 2026'!$G66)&J66 -> 2021S | L66: =IFERROR(VLOOKUP(K66,CATEGORIAS,2,0),"") -> STRIDERS 5 AÑOS | M66: BMX RIDERS BUGA | N66: 115 | O66: =IFERROR(VLOOKUP('BASE DE DATOS 2026'!$I65,CATEGORIAS!$M$3:$O$13,2,FALSE),"") -> 85000
A67: =SUBTOTAL(103,$B$3:B67) -> 65 | B67: 118 | C67: JUAN SEBASTIAN | D67: CAICEDO RECALDE | E67: 1232816606 | F67: M | G67: 44374 | H67: =IF('BASE DE DATOS 2026'!$G67="","",YEAR(NOW())-YEAR(G67)) -> 5 | I67: STRIDERS | J67: =VLOOKUP(I67,NH,2,0) -> S | K67: =YEAR('BASE DE DATOS 2026'!$G67)&J67 -> 2021S | L67: =IFERROR(VLOOKUP(K67,CATEGORIAS,2,0),"") -> STRIDERS 5 AÑOS | M67: XTREMO BMX | N67: 118 | O67: =IFERROR(VLOOKUP('BASE DE DATOS 2026'!$I66,CATEGORIAS!$M$3:$O$13,2,FALSE),"") -> 85000
A68: =SUBTOTAL(103,$B$3:B68) -> 66 | B68: 122 | C68: ZAJIRA | D68: OTERO CORREA | E68: 1114249331 | F68: F | G68: 43895 | H68: =IF('BASE DE DATOS 2026'!$G68="","",YEAR(NOW())-YEAR(G68)) -> 6 | I68: NOVATOS | J68: =VLOOKUP(I68,NH,2,0) -> N | K68: =YEAR('BASE DE DATOS 2026'!$G68)&J68 -> 2020N | L68: =IFERROR(VLOOKUP(K68,CATEGORIAS,2,0),"") -> NOVATOS 6 AÑOS Y MENOS | M68: BMX PALMIRA | N68: 122 | O68: =IFERROR(VLOOKUP('BASE DE DATOS 2026'!$I67,CATEGORIAS!$M$3:$O$13,2,FALSE),"") -> 85000 | P68: SE SUBE DE NIVEL POR NAL | Q68: LA PUMA ZAJIRA
A69: =SUBTOTAL(103,$B$3:B69) -> 67 | B69: 126 | C69: JULEN ALEJANDRO | D69: ORTEGA TORRES | E69: 1125625762 | F69: M | G69: 43752 | H69: =IF('BASE DE DATOS 2026'!$G69="","",YEAR(NOW())-YEAR(G69)) -> 7 | I69: PRINCIPIANTES | J69: =VLOOKUP(I69,NH,2,0) -> P | K69: =YEAR('BASE DE DATOS 2026'!$G69)&J69 -> 2019P | L69: =IFERROR(VLOOKUP(K69,CATEGORIAS,2,0),"") -> PRINCIPIANTES 7 Y 8 AÑOS | M69: XTREMO BMX | N69: 126 | O69: =IFERROR(VLOOKUP('BASE DE DATOS 2026'!$I68,CATEGORIAS!$M$3:$O$13,2,FALSE),"") -> 85000
A70: =SUBTOTAL(103,$B$3:B70) -> 68 | B70: 127 | C70: SANTIAGO | D70: MARTINEZ VALLEJO | E70: 1104847306 | F70: M | G70: 43796 | H70: =IF('BASE DE DATOS 2026'!$G70="","",YEAR(NOW())-YEAR(G70)) -> 7 | I70: MINIRIDERS | J70: =VLOOKUP(I70,NH,2,0) -> E | K70: =YEAR('BASE DE DATOS 2026'!$G70)&J70 -> 2019E | L70: =IFERROR(VLOOKUP(K70,CATEGORIAS,2,0),"") -> MINIRIDERS 7 Y 8 AÑOS | M70: XTREMO BMX | N70: 127 | O70: =IFERROR(VLOOKUP('BASE DE DATOS 2026'!$I69,CATEGORIAS!$M$3:$O$13,2,FALSE),"") -> 85000
A71: =SUBTOTAL(103,$B$3:B71) -> 69 | B71: 134 | C71: EMILIANO | D71: LOPEZ PATIÑO | E71: 1232807054 | F71: M | G71: 43447 | H71: =IF('BASE DE DATOS 2026'!$G71="","",YEAR(NOW())-YEAR(G71)) -> 8 | I71: PRINCIPIANTES | J71: =VLOOKUP(I71,NH,2,0) -> P | K71: =YEAR('BASE DE DATOS 2026'!$G71)&J71 -> 2018P | L71: =IFERROR(VLOOKUP(K71,CATEGORIAS,2,0),"") -> PRINCIPIANTES 7 Y 8 AÑOS | M71: SANTAMARIA RACING | N71: 134 | O71: =IFERROR(VLOOKUP('BASE DE DATOS 2026'!$I70,CATEGORIAS!$M$3:$O$13,2,FALSE),"") -> 85000 | P71: SE SUBE DE NIVEL POR CBO
A72: =SUBTOTAL(103,$B$3:B72) -> 70 | B72: 138 | C72: SANTIAGO | D72: MOSQUERA HERNANDEZ | E72: 1114626922 | F72: M | G72: 42663 | H72: =IF('BASE DE DATOS 2026'!$G72="","",YEAR(NOW())-YEAR(G72)) -> 10 | I72: MINIRIDERS | J72: =VLOOKUP(I72,NH,2,0) -> E | K72: =YEAR('BASE DE DATOS 2026'!$G72)&J72 -> 2016E | L72: =IFERROR(VLOOKUP(K72,CATEGORIAS,2,0),"") -> MINIRIDERS 9 Y 10 AÑOS | M72: XTREMO BMX | N72: 138 | O72: =IFERROR(VLOOKUP('BASE DE DATOS 2026'!$I71,CATEGORIAS!$M$3:$O$13,2,FALSE),"") -> 85000
A73: =SUBTOTAL(103,$B$3:B73) -> 71 | B73: 140 | C73: JACOBO | D73: ALFARO GARCIA | E73: 1150696359 | F73: M | G73: 44391 | H73: =IF('BASE DE DATOS 2026'!$G73="","",YEAR(NOW())-YEAR(G73)) -> 5 | I73: MINIRIDERS | J73: =VLOOKUP(I73,NH,2,0) -> E | K73: =YEAR('BASE DE DATOS 2026'!$G73)&J73 -> 2021E | L73: =IFERROR(VLOOKUP(K73,CATEGORIAS,2,0),"") -> MINIRIDERS 4 Y 5 AÑOS | M73: SUPER CROSS | N73: 140 | O73: =IFERROR(VLOOKUP('BASE DE DATOS 2026'!$I72,CATEGORIAS!$M$3:$O$13,2,FALSE),"") -> 85000
A74: =SUBTOTAL(103,$B$3:B74) -> 72 | B74: 144 | C74: JUAN MARTIN | D74: DIAZ FERRO | E74: 1232811426 | F74: M | G74: 43890 | H74: =IF('BASE DE DATOS 2026'!$G74="","",YEAR(NOW())-YEAR(G74)) -> 6 | I74: MINIRIDERS | J74: =VLOOKUP(I74,NH,2,0) -> E | K74: =YEAR('BASE DE DATOS 2026'!$G74)&J74 -> 2020E | L74: =IFERROR(VLOOKUP(K74,CATEGORIAS,2,0),"") -> MINIRIDERS 6 AÑOS | M74: XTREMO BMX | N74: 144 | O74: =IFERROR(VLOOKUP('BASE DE DATOS 2026'!$I73,CATEGORIAS!$M$3:$O$13,2,FALSE),"") -> 85000
A75: =SUBTOTAL(103,$B$3:B75) -> 73 | B75: 149 | C75: JUANITA | D75: SOTO ACEVEDO | E75: 1232797171 | F75: F | G75: 42521 | H75: =IF('BASE DE DATOS 2026'!$G75="","",YEAR(NOW())-YEAR(G75)) -> 10 | I75: MINIRIDERS | J75: =VLOOKUP(I75,NH,2,0) -> E | K75: =YEAR('BASE DE DATOS 2026'!$G75)&J75 -> 2016E | L75: =IFERROR(VLOOKUP(K75,CATEGORIAS,2,0),"") -> MINIRIDERS 9 Y 10 AÑOS | M75: CICLON BMX | N75: 149 | O75: =IFERROR(VLOOKUP('BASE DE DATOS 2026'!$I74,CATEGORIAS!$M$3:$O$13,2,FALSE),"") -> 85000
A76: =SUBTOTAL(103,$B$3:B76) -> 74 | B76: 150 | C76: SALVADOR | D76: GUTIERREZ ZAPATA | E76: 1232814547 | F76: M | G76: 44165 | H76: =IF('BASE DE DATOS 2026'!$G76="","",YEAR(NOW())-YEAR(G76)) -> 6 | I76: MINIRIDERS | J76: =VLOOKUP(I76,NH,2,0) -> E | K76: =YEAR('BASE DE DATOS 2026'!$G76)&J76 -> 2020E | L76: =IFERROR(VLOOKUP(K76,CATEGORIAS,2,0),"") -> MINIRIDERS 6 AÑOS | M76: TIGER BMX | N76: 150 | O76: =IFERROR(VLOOKUP('BASE DE DATOS 2026'!$I75,CATEGORIAS!$M$3:$O$13,2,FALSE),"") -> 85000
A77: =SUBTOTAL(103,$B$3:B77) -> 75 | B77: 151 | C77: SEBASTIAN | D77: MARTINEZ | E77: 1109570050 | F77: M | G77: 44040 | H77: =IF('BASE DE DATOS 2026'!$G77="","",YEAR(NOW())-YEAR(G77)) -> 6 | I77: MINIRIDERS | J77: =VLOOKUP(I77,NH,2,0) -> E | K77: =YEAR('BASE DE DATOS 2026'!$G77)&J77 -> 2020E | L77: =IFERROR(VLOOKUP(K77,CATEGORIAS,2,0),"") -> MINIRIDERS 6 AÑOS | M77: PRO RIDERS | N77: 151 | O77: =IFERROR(VLOOKUP('BASE DE DATOS 2026'!$I557,CATEGORIAS!$M$3:$O$13,2,FALSE),"") -> 85000
A78: =SUBTOTAL(103,$B$3:B78) -> 76 | B78: 156 | C78: JERONIMO | D78: VARELA | E78: 1109569445 | F78: M | G78: 43894 | H78: =IF('BASE DE DATOS 2026'!$G78="","",YEAR(NOW())-YEAR(G78)) -> 6 | I78: PRINCIPIANTES | J78: =VLOOKUP(I78,NH,2,0) -> P | K78: =YEAR('BASE DE DATOS 2026'!$G78)&J78 -> 2020P | L78: =IFERROR(VLOOKUP(K78,CATEGORIAS,2,0),"") -> PRINCIPIANTES 6 AÑOS Y MENOS | M78: PRO RIDERS | N78: 156 | O78: =IFERROR(VLOOKUP('BASE DE DATOS 2026'!$I76,CATEGORIAS!$M$3:$O$13,2,FALSE),"") -> 85000
A79: =SUBTOTAL(103,$B$3:B79) -> 77 | B79: 167 | C79: CRISTOPHER | D79: CASTILLO GONZALEZ | E79: 1106524259 | F79: M | G79: 43466 | H79: =IF('BASE DE DATOS 2026'!$G79="","",YEAR(NOW())-YEAR(G79)) -> 7 | I79: MINIRIDERS | J79: =VLOOKUP(I79,NH,2,0) -> E | K79: =YEAR('BASE DE DATOS 2026'!$G79)&J79 -> 2019E | L79: =IFERROR(VLOOKUP(K79,CATEGORIAS,2,0),"") -> MINIRIDERS 7 Y 8 AÑOS | M79: SHAKA RACING | N79: 167 | O79: =IFERROR(VLOOKUP('BASE DE DATOS 2026'!$I77,CATEGORIAS!$M$3:$O$13,2,FALSE),"") -> 85000
A80: =SUBTOTAL(103,$B$3:B80) -> 78 | B80: 170 | C80: ANTONELLA | D80: CARDOZO ROMERO | E80: 1109570365 | F80: F | G80: 44081 | H80: =IF('BASE DE DATOS 2026'!$G80="","",YEAR(NOW())-YEAR(G80)) -> 6 | I80: MINIRIDERS | J80: =VLOOKUP(I80,NH,2,0) -> E | K80: =YEAR('BASE DE DATOS 2026'!$G80)&J80 -> 2020E | L80: =IFERROR(VLOOKUP(K80,CATEGORIAS,2,0),"") -> MINIRIDERS 6 AÑOS | M80: CICLON BMX | N80: 170 | O80: =IFERROR(VLOOKUP('BASE DE DATOS 2026'!$I78,CATEGORIAS!$M$3:$O$13,2,FALSE),"") -> 85000
A81: =SUBTOTAL(103,$B$3:B81) -> 79 | B81: 171 | C81: SAMUEL | D81: SANCHEZ MIRANDA | E81: 1109568004 | F81: M | G81: 43647 | H81: =IF('BASE DE DATOS 2026'!$G81="","",YEAR(NOW())-YEAR(G81)) -> 7 | I81: MINIRIDERS | J81: =VLOOKUP(I81,NH,2,0) -> E | K81: =YEAR('BASE DE DATOS 2026'!$G81)&J81 -> 2019E | L81: =IFERROR(VLOOKUP(K81,CATEGORIAS,2,0),"") -> MINIRIDERS 7 Y 8 AÑOS | M81: CICLON BMX | N81: 171 | O81: =IFERROR(VLOOKUP('BASE DE DATOS 2026'!$I79,CATEGORIAS!$M$3:$O$13,2,FALSE),"") -> 85000
A82: =SUBTOTAL(103,$B$3:B82) -> 80 | B82: 172 | C82: JUAN JOSE | D82: MERINO PEÑA | E82: 1109198383 | F82: M | G82: 43930 | H82: =IF('BASE DE DATOS 2026'!$G82="","",YEAR(NOW())-YEAR(G82)) -> 6 | I82: MINIRIDERS | J82: =VLOOKUP(I82,NH,2,0) -> E | K82: =YEAR('BASE DE DATOS 2026'!$G82)&J82 -> 2020E | L82: =IFERROR(VLOOKUP(K82,CATEGORIAS,2,0),"") -> MINIRIDERS 6 AÑOS | M82: XTREMO BMX | N82: 172 | O82: =IFERROR(VLOOKUP('BASE DE DATOS 2026'!$I80,CATEGORIAS!$M$3:$O$13,2,FALSE),"") -> 85000
A83: =SUBTOTAL(103,$B$3:B83) -> 81 | B83: 174 | C83: JUAN MARTIN | D83: GARZON MOYANO | E83: 1107869888 | F83: M | G83: 42909 | H83: =IF('BASE DE DATOS 2026'!$G83="","",YEAR(NOW())-YEAR(G83)) -> 9 | I83: MINIRIDERS | J83: =VLOOKUP(I83,NH,2,0) -> E | K83: =YEAR('BASE DE DATOS 2026'!$G83)&J83 -> 2017E | L83: =IFERROR(VLOOKUP(K83,CATEGORIAS,2,0),"") -> MINIRIDERS 9 Y 10 AÑOS | M83: CICLON BMX | N83: 174 | O83: =IFERROR(VLOOKUP('BASE DE DATOS 2026'!$I81,CATEGORIAS!$M$3:$O$13,2,FALSE),"") -> 85000
A84: =SUBTOTAL(103,$B$3:B84) -> 82 | B84: 177 | C84: IKER | D84: BASTIDAS | E84: 1143882813 | F84: M | G84: 44484 | H84: =IF('BASE DE DATOS 2026'!$G84="","",YEAR(NOW())-YEAR(G84)) -> 5 | I84: STRIDERS | J84: =VLOOKUP(I84,NH,2,0) -> S | K84: =YEAR('BASE DE DATOS 2026'!$G84)&J84 -> 2021S | L84: =IFERROR(VLOOKUP(K84,CATEGORIAS,2,0),"") -> STRIDERS 5 AÑOS | M84: SHAKA RACING | N84: 177 | O84: =IFERROR(VLOOKUP('BASE DE DATOS 2026'!$I82,CATEGORIAS!$M$3:$O$13,2,FALSE),"") -> 85000
A85: =SUBTOTAL(103,$B$3:B85) -> 83 | B85: 178 | C85: JERÓNIMO | D85: OQUENDO PAZ | E85: 1109570097 | F85: M | G85: 44047 | H85: =IF('BASE DE DATOS 2026'!$G85="","",YEAR(NOW())-YEAR(G85)) -> 6 | I85: PRINCIPIANTES | J85: =VLOOKUP(I85,NH,2,0) -> P | K85: =YEAR('BASE DE DATOS 2026'!$G85)&J85 -> 2020P | L85: =IFERROR(VLOOKUP(K85,CATEGORIAS,2,0),"") -> PRINCIPIANTES 6 AÑOS Y MENOS | M85: PRO RIDERS | N85: 178 | O85: =IFERROR(VLOOKUP('BASE DE DATOS 2026'!$I83,CATEGORIAS!$M$3:$O$13,2,FALSE),"") -> 85000
A86: =SUBTOTAL(103,$B$3:B86) -> 84 | B86: 183 | C86: DYLAN | D86: TOVAR RUBIANO | E86: 1114626631 | F86: M | G86: 42318 | H86: =IF('BASE DE DATOS 2026'!$G86="","",YEAR(NOW())-YEAR(G86)) -> 11 | I86: PRINCIPIANTES | J86: =VLOOKUP(I86,NH,2,0) -> P | K86: =YEAR('BASE DE DATOS 2026'!$G86)&J86 -> 2015P | L86: =IFERROR(VLOOKUP(K86,CATEGORIAS,2,0),"") -> PRINCIPIANTES 11 Y 12 AÑOS | M86: BMX ATTACK | N86: 183 | O86: =IFERROR(VLOOKUP('BASE DE DATOS 2026'!$I84,CATEGORIAS!$M$3:$O$13,2,FALSE),"") -> 85000
A87: =SUBTOTAL(103,$B$3:B87) -> 85 | B87: 184 | C87: MARTIN | D87: GONZALES RIVERA | E87: 1061545419 | F87: M | G87: 42805 | H87: =IF('BASE DE DATOS 2026'!$G87="","",YEAR(NOW())-YEAR(G87)) -> 9 | I87: MINIRIDERS | J87: =VLOOKUP(I87,NH,2,0) -> E | K87: =YEAR('BASE DE DATOS 2026'!$G87)&J87 -> 2017E | L87: =IFERROR(VLOOKUP(K87,CATEGORIAS,2,0),"") -> MINIRIDERS 9 Y 10 AÑOS | M87: MANUBRIOS DE ORO | N87: 184 | O87: =IFERROR(VLOOKUP('BASE DE DATOS 2026'!$I85,CATEGORIAS!$M$3:$O$13,2,FALSE),"") -> 85000
A88: =SUBTOTAL(103,$B$3:B88) -> 86 | B88: 185 | C88: THIAGO | D88: RAMIREZ RENDON | E88: 1190964364 | F88: M | G88: 44573 | H88: =IF('BASE DE DATOS 2026'!$G88="","",YEAR(NOW())-YEAR(G88)) -> 4 | I88: STRIDERS | J88: =VLOOKUP(I88,NH,2,0) -> S | K88: =YEAR('BASE DE DATOS 2026'!$G88)&J88 -> 2022S | L88: =IFERROR(VLOOKUP(K88,CATEGORIAS,2,0),"") -> STRIDERS 4 AÑOS | M88: BMX RIDERS BUGA | N88: 185 | O88: =IFERROR(VLOOKUP('BASE DE DATOS 2026'!$I86,CATEGORIAS!$M$3:$O$13,2,FALSE),"") -> 85000
A89: =SUBTOTAL(103,$B$3:B89) -> 87 | B89: 186 | C89: SAMUEL | D89: FIGUEROA MOSQUERA | E89: 1109198264 | F89: M | G89: 43953 | H89: =IF('BASE DE DATOS 2026'!$G89="","",YEAR(NOW())-YEAR(G89)) -> 6 | I89: PRINCIPIANTES | J89: =VLOOKUP(I89,NH,2,0) -> P | K89: =YEAR('BASE DE DATOS 2026'!$G89)&J89 -> 2020P | L89: =IFERROR(VLOOKUP(K89,CATEGORIAS,2,0),"") -> PRINCIPIANTES 6 AÑOS Y MENOS | M89: XTREME RACING | N89: 186 | O89: =IFERROR(VLOOKUP('BASE DE DATOS 2026'!$I87,CATEGORIAS!$M$3:$O$13,2,FALSE),"") -> 85000
... A104: =SUBTOTAL(103,$B$3:B104) -> 102 | B104: 229 | C104: ASAF JOEL | D104: SANCHEZ | E104: 1232820422 | F104: M | G104: 44728 | H104: =IF('BASE DE DATOS 2026'!$G104="","",YEAR(NOW())-YEAR(G104)) -> 4 | I104: STRIDERS | J104: =VLOOKUP(I104,NH,2,0) -> S | K104: =YEAR('BASE DE DATOS 2026'!$G104)&J104 -> 2022S | L104: =IFERROR(VLOOKUP(K104,CATEGORIAS,2,0),"") -> STRIDERS 4 AÑOS | M104: TIGER BMX | N104: 229 | O104: =IFERROR(VLOOKUP('BASE DE DATOS 2026'!$I102,CATEGORIAS!$M$3:$O$13,2,FALSE),"") -> 85000
A105: =SUBTOTAL(103,$B$3:B105) -> 103 | B105: 230 | C105: MAXIMILIANO | D105: GIRALDO | E105: 1232818946 | F105: M | G105: 44585 | H105: =IF('BASE DE DATOS 2026'!$G105="","",YEAR(NOW())-YEAR(G105)) -> 4 | I105: STRIDERS | J105: =VLOOKUP(I105,NH,2,0) -> S | K105: =YEAR('BASE DE DATOS 2026'!$G105)&J105 -> 2022S | L105: =IFERROR(VLOOKUP(K105,CATEGORIAS,2,0),"") -> STRIDERS 4 AÑOS | M105: TIGER BMX | N105: 230 | O105: =IFERROR(VLOOKUP('BASE DE DATOS 2026'!$I103,CATEGORIAS!$M$3:$O$13,2,FALSE),"") -> 85000 | Q105: EL TORITO DEL VALLE
A106: =SUBTOTAL(103,$B$3:B106) -> 104 | B106: 236 | C106: GIOVANNY | D106: CHILITO BENAVIDES | E106: 1110305450 | F106: M | G106: 44046 | H106: =IF('BASE DE DATOS 2026'!$G106="","",YEAR(NOW())-YEAR(G106)) -> 6 | I106: MINIRIDERS | J106: =VLOOKUP(I106,NH,2,0) -> E | K106: =YEAR('BASE DE DATOS 2026'!$G106)&J106 -> 2020E | L106: =IFERROR(VLOOKUP(K106,CATEGORIAS,2,0),"") -> MINIRIDERS 6 AÑOS | M106: XTREMO BMX | N106: 236 | O106: =IFERROR(VLOOKUP('BASE DE DATOS 2026'!$I104,CATEGORIAS!$M$3:$O$13,2,FALSE),"") -> 85000
A107: =SUBTOTAL(103,$B$3:B107) -> 105 | B107: 237 | C107: MATIAS | D107: GIL PAREDES | E107: 1108653960 | F107: M | G107: 44485 | H107: =IF('BASE DE DATOS 2026'!$G107="","",YEAR(NOW())-YEAR(G107)) -> 5 | I107: STRIDERS | J107: =VLOOKUP(I107,NH,2,0) -> S | K107: =YEAR('BASE DE DATOS 2026'!$G107)&J107 -> 2021S | L107: =IFERROR(VLOOKUP(K107,CATEGORIAS,2,0),"") -> STRIDERS 5 AÑOS | M107: XTREMO BMX | N107: 237 | O107: =IFERROR(VLOOKUP('BASE DE DATOS 2026'!$I105,CATEGORIAS!$M$3:$O$13,2,FALSE),"") -> 85000
A108: =SUBTOTAL(103,$B$3:B108) -> 106 | B108: 239 | C108: MATIAS | D108: ROBAYO RODRIGUEZ | E108: 1109938154 | F108: M | G108: 43638 | H108: =IF('BASE DE DATOS 2026'!$G108="","",YEAR(NOW())-YEAR(G108)) -> 7 | I108: MINIRIDERS | J108: =VLOOKUP(I108,NH,2,0) -> E | K108: =YEAR('BASE DE DATOS 2026'!$G108)&J108 -> 2019E | L108: =IFERROR(VLOOKUP(K108,CATEGORIAS,2,0),"") -> MINIRIDERS 7 Y 8 AÑOS | M108: BMX ATTACK | N108: 239 | O108: =IFERROR(VLOOKUP('BASE DE DATOS 2026'!$I106,CATEGORIAS!$M$3:$O$13,2,FALSE),"") -> 85000
A109: =SUBTOTAL(103,$B$3:B109) -> 107 | B109: 240 | C109: JERONIMO | D109: GUERRERO CAICEDO | E109: 1114316831 | F109: M | G109: 42054 | H109: =IF('BASE DE DATOS 2026'!$G109="","",YEAR(NOW())-YEAR(G109)) -> 11 | I109: PRINCIPIANTES | J109: =VLOOKUP(I109,NH,2,0) -> P | K109: =YEAR('BASE DE DATOS 2026'!$G109)&J109 -> 2015P | L109: =IFERROR(VLOOKUP(K109,CATEGORIAS,2,0),"") -> PRINCIPIANTES 11 Y 12 AÑOS | M109: BMX ATTACK | N109: 240 | O109: =IFERROR(VLOOKUP('BASE DE DATOS 2026'!$I107,CATEGORIAS!$M$3:$O$13,2,FALSE),"") -> 85000
A110: =SUBTOTAL(103,$B$3:B110) -> 108 | B110: 241 | C110: SALIM | D110: HINOJOSA CASTRO | E110: 1114013510 | F110: M | G110: 43786 | H110: =IF('BASE DE DATOS 2026'!$G110="","",YEAR(NOW())-YEAR(G110)) -> 7 | I110: MINIRIDERS | J110: =VLOOKUP(I110,NH,2,0) -> E | K110: =YEAR('BASE DE DATOS 2026'!$G110)&J110 -> 2019E | L110: =IFERROR(VLOOKUP(K110,CATEGORIAS,2,0),"") -> MINIRIDERS 7 Y 8 AÑOS | M110: BMX ATTACK | N110: 241 | O110: =IFERROR(VLOOKUP('BASE DE DATOS 2026'!$I108,CATEGORIAS!$M$3:$O$13,2,FALSE),"") -> 85000
A111: =SUBTOTAL(103,$B$3:B111) -> 109 | B111: 244 | C111: EVAN MARTIN | D111: NARANJO | E111: 1114392209 | F111: M | G111: 43014 | H111: =IF('BASE DE DATOS 2026'!$G111="","",YEAR(NOW())-YEAR(G111)) -> 9 | I111: MINIRIDERS | J111: =VLOOKUP(I111,NH,2,0) -> E | K111: =YEAR('BASE DE DATOS 2026'!$G111)&J111 -> 2017E | L111: =IFERROR(VLOOKUP(K111,CATEGORIAS,2,0),"") -> MINIRIDERS 9 Y 10 AÑOS | M111: BMX RIDERS BUGA | N111: 244 | O111: =IFERROR(VLOOKUP('BASE DE DATOS 2026'!$I109,CATEGORIAS!$M$3:$O$13,2,FALSE),"") -> 85000 | Q111: AVIONCITO
A112: =SUBTOTAL(103,$B$3:B112) -> 110 | B112: 246 | C112: ISAAC | D112: VELASQUEZ MARIN | E112: 1232797460 | F112: M | G112: 42552 | H112: =IF('BASE DE DATOS 2026'!$G112="","",YEAR(NOW())-YEAR(G112)) -> 10 | I112: PRINCIPIANTES | J112: =VLOOKUP(I112,NH,2,0) -> P | K112: =YEAR('BASE DE DATOS 2026'!$G112)&J112 -> 2016P | L112: =IFERROR(VLOOKUP(K112,CATEGORIAS,2,0),"") -> PRINCIPIANTES 9 Y 10 AÑOS | M112: GUEPARDOS | N112: 246 | O112: =IFERROR(VLOOKUP('BASE DE DATOS 2026'!$I110,CATEGORIAS!$M$3:$O$13,2,FALSE),"") -> 85000
A113: =SUBTOTAL(103,$B$3:B113) -> 111 | B113: 247 | C113: ISAAC | D113: ORTIZ VASQUEZ | E113: 1232804009 | F113: M | G113: 43145 | H113: =IF('BASE DE DATOS 2026'!$G113="","",YEAR(NOW())-YEAR(G113)) -> 8 | I113: PRINCIPIANTES | J113: =VLOOKUP(I113,NH,2,0) -> P | K113: =YEAR('BASE DE DATOS 2026'!$G113)&J113 -> 2018P | L113: =IFERROR(VLOOKUP(K113,CATEGORIAS,2,0),"") -> PRINCIPIANTES 7 Y 8 AÑOS | M113: GUEPARDOS | N113: 247 | O113: =IFERROR(VLOOKUP('BASE DE DATOS 2026'!$I111,CATEGORIAS!$M$3:$O$13,2,FALSE),"") -> 85000
A114: =SUBTOTAL(103,$B$3:B114) -> 112 | B114: 248 | C114: EMILIANO | D114: VELASCO MAGLIONI | E114: 1112061216 | F114: M | G114: 42199 | H114: =IF('BASE DE DATOS 2026'!$G114="","",YEAR(NOW())-YEAR(G114)) -> 11 | I114: PRINCIPIANTES | J114: =VLOOKUP(I114,NH,2,0) -> P | K114: =YEAR('BASE DE DATOS 2026'!$G114)&J114 -> 2015P | L114: =IFERROR(VLOOKUP(K114,CATEGORIAS,2,0),"") -> PRINCIPIANTES 11 Y 12 AÑOS | M114: XTREMO BMX | N114: 248 | O114: =IFERROR(VLOOKUP('BASE DE DATOS 2026'!$I112,CATEGORIAS!$M$3:$O$13,2,FALSE),"") -> 85000
...

Sheet BASE DE DATOS (2)
B1: SUPERCOPA 2026 - BASE DE DATOS
B2: ID | C2: NOMBRES | D2: APELLIDOS | E2: DOCUMENTO IDENTIDAD | F2: SEXO | G2: FECHA DE NACIMIENTO | H2: EDAD | I2: NIVEL DE HABILIDAD | J2: SNH | K2: SCAT | L2: CATEGORIA | M2: CLUB | N2: TABLERO | O2: VALOR INSCRIPCION | P2: OBSERVACIONES | Q2: NACIONALES
B3: 10 | C3: MATIAS | D3: FORERO ALDANA | E3: 1010849944 | F3: M | G3: 44243 | H3: =IF(Tabla110[[#This Row],[FECHA DE NACIMIENTO]]="","",YEAR(NOW())-YEAR(Tabla110[[#This Row],[FECHA DE NACIMIENTO]])) -> 5 | I3: STRIDERS | J3: =VLOOKUP(I3,NH,2,0) -> S | K3: =Tabla110[[#This Row],[FECHA DE NACIMIENTO]]&J3 -> 44243S | L3: =IFERROR(VLOOKUP(K3,CATEGORIAS,2,0),"") | M3: CHAMPIONS TEAM | N3: 10 | O3: =IFERROR(VLOOKUP(Tabla110[[#This Row],[NIVEL DE HABILIDAD]],CATEGORIAS!$M$3:$O$13,2,FALSE),"") -> 85000
B4: 11 | C4: ANTONY | D4: GALICIA CLAROS | E4: 1144321051 | F4: M | G4: 2021 | H4: =IF(Tabla110[[#This Row],[FECHA DE NACIMIENTO]]="","",YEAR(NOW())-Tabla110[[#This Row],[FECHA DE NACIMIENTO]]) -> 5 | I4: STRIDERS | J4: =VLOOKUP(I4,NH,2,0) -> S | K4: =Tabla110[[#This Row],[FECHA DE NACIMIENTO]]&J4 -> 2021S | L4: =IFERROR(VLOOKUP(K4,CATEGORIAS,2,0),"") -> STRIDERS 5 AÑOS | M4: BMX ATTACK | N4: 11 | O4: =IFERROR(VLOOKUP(Tabla110[[#This Row],[NIVEL DE HABILIDAD]],CATEGORIAS!$M$3:$O$13,2,FALSE),"") -> 85000
B5: 12 | C5: LUCIANO | D5: LASSO STERLING | E5: 1114249418 | F5: M | G5: 2020 | H5: =IF(Tabla110[[#This Row],[FECHA DE NACIMIENTO]]="","",YEAR(NOW())-Tabla110[[#This Row],[FECHA DE NACIMIENTO]]) -> 6 | I5: MINIRIDERS | J5: =VLOOKUP(I5,NH,2,0) -> E | K5: =Tabla110[[#This Row],[FECHA DE NACIMIENTO]]&J5 -> 2020E | L5: =IFERROR(VLOOKUP(K5,CATEGORIAS,2,0),"") -> MINIRIDERS 6 AÑOS | M5: BMX PALMIRA | N5: 12 | O5: =IFERROR(VLOOKUP(Tabla110[[#This Row],[NIVEL DE HABILIDAD]],CATEGORIAS!$M$3:$O$13,2,FALSE),"") -> 85000
B6: 13 | C6: CHARLOTTE VALENTINA | D6: BELALCAZAR OSORIO | E6: 1144112260 | F6: F | G6: 44515 | H6: =IF(Tabla110[[#This Row],[FECHA DE NACIMIENTO]]="","",YEAR(NOW())-YEAR(Tabla110[[#This Row],[FECHA DE NACIMIENTO]])) -> 5 | I6: STRIDERS | J6: =VLOOKUP(I6,NH,2,0) -> S | K6: =Tabla110[[#This Row],[FECHA DE NACIMIENTO]]&J6 -> 44515S | L6: =IFERROR(VLOOKUP(K6,CATEGORIAS,2,0),"") | M6: SHAKA RACING | N6: 13 | O6: =IFERROR(VLOOKUP(Tabla110[[#This Row],[NIVEL DE HABILIDAD]],CATEGORIAS!$M$3:$O$13,2,FALSE),"") -> 85000
B7: 14 | C7: MAXIMILIANO | D7: HOYOS TORO | E7: 1059251369 | F7: M | G7: 44312 | H7: =IF(Tabla110[[#This Row],[FECHA DE NACIMIENTO]]="","",YEAR(NOW())-YEAR(Tabla110[[#This Row],[FECHA DE NACIMIENTO]])) -> 5 | I7: STRIDERS | J7: =VLOOKUP(I7,NH,2,0) -> S | K7: =Tabla110[[#This Row],[FECHA DE NACIMIENTO]]&J7 -> 44312S | L7: =IFERROR(VLOOKUP(K7,CATEGORIAS,2,0),"") | M7: REAL RIDERS POPAYAN | N7: 14 | O7: =IFERROR(VLOOKUP(Tabla110[[#This Row],[NIVEL DE HABILIDAD]],CATEGORIAS!$M$3:$O$13,2,FALSE),"") -> 85000 | Q7: LA PULGUITA HOYOS
B8: 15 | C8: EZEQUIEL | D8: ALVARADO ASTORQUIZA | E8: 1059250630 | F8: M | G8: 43891 | H8: =IF(Tabla110[[#This Row],[FECHA DE NACIMIENTO]]="","",YEAR(NOW())-YEAR(Tabla110[[#This Row],[FECHA DE NACIMIENTO]])) -> 6 | I8: MINIRIDERS | J8: =VLOOKUP(I8,NH,2,0) -> E | K8: =Tabla110[[#This Row],[FECHA DE NACIMIENTO]]&J8 -> 43891E | L8: =IFERROR(VLOOKUP(K8,CATEGORIAS,2,0),"") | M8: REAL RIDERS POPAYAN | N8: 15 | O8: =IFERROR(VLOOKUP(Tabla110[[#This Row],[NIVEL DE HABILIDAD]],CATEGORIAS!$M$3:$O$13,2,FALSE),"") -> 85000
B9: 16 | C9: LIAM SANTIAGO | D9: MORENO CHITO | E9: 1059251408 | F9: M | G9: 44340 | H9: =IF(Tabla110[[#This Row],[FECHA DE NACIMIENTO]]="","",YEAR(NOW())-YEAR(Tabla110[[#This Row],[FECHA DE NACIMIENTO]])) -> 5 | I9: STRIDERS | J9: =VLOOKUP(I9,NH,2,0) -> S | K9: =Tabla110[[#This Row],[FECHA DE NACIMIENTO]]&J9 -> 44340S | L9: =IFERROR(VLOOKUP(K9,CATEGORIAS,2,0),"") | M9: REAL RIDERS POPAYAN | N9: 16 | O9: =IFERROR(VLOOKUP(Tabla110[[#This Row],[NIVEL DE HABILIDAD]],CATEGORIAS!$M$3:$O$13,2,FALSE),"") -> 85000 | Q9: EL MONO DEL CAUCA
B10: 17 | C10: JOSUÉ ALEXANDER | D10: MONTOYA OROZCO | E10: 1232812815 | F10: M | G10: 2020 | H10: =IF(Tabla110[[#This Row],[FECHA DE NACIMIENTO]]="","",YEAR(NOW())-Tabla110[[#This Row],[FECHA DE NACIMIENTO]]) -> 6 | I10: MINIRIDERS | J10: =VLOOKUP(I10,NH,2,0) -> E | K10: =Tabla110[[#This Row],[FECHA DE NACIMIENTO]]&J10 -> 2020E | L10: =IFERROR(VLOOKUP(K10,CATEGORIAS,2,0),"") -> MINIRIDERS 6 AÑOS | M10: XTREMO BMX | N10: 17 | O10: =IFERROR(VLOOKUP(Tabla110[[#This Row],[NIVEL DE HABILIDAD]],CATEGORIAS!$M$3:$O$13,2,FALSE),"") -> 85000 | Q10: EL MONO
B11: 18 | C11: VALENTINO | D11: VALENCIA BETANCOURT | E11: 1111572364 | F11: M | G11: 44220 | H11: =IF(Tabla110[[#This Row],[FECHA DE NACIMIENTO]]="","",YEAR(NOW())-YEAR(Tabla110[[#This Row],[FECHA DE NACIMIENTO]])) -> 5 | I11: STRIDERS | J11: =VLOOKUP(I11,NH,2,0) -> S | K11: =Tabla110[[#This Row],[FECHA DE NACIMIENTO]]&J11 -> 44220S | L11: =IFERROR(VLOOKUP(K11,CATEGORIAS,2,0),"") | M11: XTREMO BMX | N11: 18 | O11: =IFERROR(VLOOKUP(Tabla110[[#This Row],[NIVEL DE HABILIDAD]],CATEGORIAS!$M$3:$O$13,2,FALSE),"") -> 85000
B12: 19 | C12: LIAM FELIPE | D12: QUIROZ ESCOBAR | E12: 1109569655 | F12: M | G12: 43951 | H12: =IF(Tabla110[[#This Row],[FECHA DE NACIMIENTO]]="","",YEAR(NOW())-YEAR(Tabla110[[#This Row],[FECHA DE NACIMIENTO]])) -> 6 | I12: MINIRIDERS | J12: =VLOOKUP(I12,NH,2,0) -> E | K12: =Tabla110[[#This Row],[FECHA DE NACIMIENTO]]&J12 -> 43951E | L12: =IFERROR(VLOOKUP(K12,CATEGORIAS,2,0),"") | M12: XTREMO BMX | N12: 19 | O12: =IFERROR(VLOOKUP(Tabla110[[#This Row],[NIVEL DE HABILIDAD]],CATEGORIAS!$M$3:$O$13,2,FALSE),"") -> 85000 | Q12: EL LEON QUIROZ
B13: 20 | C13: CAMILO | D13: CAMPO QUINTERO | E13: 1232810806 | F13: M | G13: 43831 | H13: =IF(Tabla110[[#This Row],[FECHA DE NACIMIENTO]]="","",YEAR(NOW())-YEAR(Tabla110[[#This Row],[FECHA DE NACIMIENTO]])) -> 6 | I13: MINIRIDERS | J13: =VLOOKUP(I13,NH,2,0) -> E | K13: =Tabla110[[#This Row],[FECHA DE NACIMIENTO]]&J13 -> 43831E | L13: =IFERROR(VLOOKUP(K13,CATEGORIAS,2,0),"") | M13: XTREMO BMX | N13: 20 | O13: =IFERROR(VLOOKUP(Tabla110[[#This Row],[NIVEL DE HABILIDAD]],CATEGORIAS!$M$3:$O$13,2,FALSE),"") -> 85000
B14: 21 | C14: MARTÍN | D14: CAMPO QUINTERO | E14: 1232810807 | F14: M | G14: 43831 | H14: =IF(Tabla110[[#This Row],[FECHA DE NACIMIENTO]]="","",YEAR(NOW())-YEAR(Tabla110[[#This Row],[FECHA DE NACIMIENTO]])) -> 6 | I14: MINIRIDERS | J14: =VLOOKUP(I14,NH,2,0) -> E | K14: =Tabla110[[#This Row],[FECHA DE NACIMIENTO]]&J14 -> 43831E | L14: =IFERROR(VLOOKUP(K14,CATEGORIAS,2,0),"") | M14: XTREMO BMX | N14: 21 | O14: =IFERROR(VLOOKUP(Tabla110[[#This Row],[NIVEL DE HABILIDAD]],CATEGORIAS!$M$3:$O$13,2,FALSE),"") -> 85000
B15: 22 | C15: SANTIAGO | D15: RAMIREZ CIFUENTES | E15: 1110379478 | F15: M | G15: 2020 | H15: =IF(Tabla110[[#This Row],[FECHA DE NACIMIENTO]]="","",YEAR(NOW())-Tabla110[[#This Row],[FECHA DE NACIMIENTO]]) -> 6 | I15: MINIRIDERS | J15: =VLOOKUP(I15,NH,2,0) -> E | K15: =Tabla110[[#This Row],[FECHA DE NACIMIENTO]]&J15 -> 2020E | L15: =IFERROR(VLOOKUP(K15,CATEGORIAS,2,0),"") -> MINIRIDERS 6 AÑOS | M15: XTREMO BMX | N15: 22 | O15: =IFERROR(VLOOKUP(Tabla110[[#This Row],[NIVEL DE HABILIDAD]],CATEGORIAS!$M$3:$O$13,2,FALSE),"") -> 85000
B16: 23 | C16: JERÓNIMO | D16: PERALTA MORIANO | E16: 1109572622 | F16: M | G16: 2021 | H16: =IF(Tabla110[[#This Row],[FECHA DE NACIMIENTO]]="","",YEAR(NOW())-Tabla110[[#This Row],[FECHA DE NACIMIENTO]]) -> 5 | I16: STRIDERS | J16: =VLOOKUP(I16,NH,2,0) -> S | K16: =Tabla110[[#This Row],[FECHA DE NACIMIENTO]]&J16 -> 2021S | L16: =IFERROR(VLOOKUP(K16,CATEGORIAS,2,0),"") -> STRIDERS 5 AÑOS | M16: XTREMO BMX | N16: 23 | O16: =IFERROR(VLOOKUP(Tabla110[[#This Row],[NIVEL DE HABILIDAD]],CATEGORIAS!$M$3:$O$13,2,FALSE),"") -> 85000
B17: 24 | C17: JUAN ANTONIO | D17: LOAIZA MEJÍA | E17: 1232812077 | F17: M | G17: 2020 | H17: =IF(Tabla110[[#This Row],[FECHA DE NACIMIENTO]]="","",YEAR(NOW())-Tabla110[[#This Row],[FECHA DE NACIMIENTO]]) -> 6 | I17: MINIRIDERS | J17: =VLOOKUP(I17,NH,2,0) -> E | K17: =Tabla110[[#This Row],[FECHA DE NACIMIENTO]]&J17 -> 2020E | L17: =IFERROR(VLOOKUP(K17,CATEGORIAS,2,0),"") -> MINIRIDERS 6 AÑOS | M17: XTREMO BMX | N17: 24 | O17: =IFERROR(VLOOKUP(Tabla110[[#This Row],[NIVEL DE HABILIDAD]],CATEGORIAS!$M$3:$O$13,2,FALSE),"") -> 85000
B18: 25 | C18: VALENTINO | D18: FRANCO MUÑOZ | E18: 1109569542 | F18: 43910 | G18: 43910 | H18: =IF(Tabla110[[#This Row],[FECHA DE NACIMIENTO]]="","",YEAR(NOW())-YEAR(Tabla110[[#This Row],[FECHA DE NACIMIENTO]])) -> 6 | I18: MINIRIDERS | J18: =VLOOKUP(I18,NH,2,0) -> E | K18: =Tabla110[[#This Row],[FECHA DE NACIMIENTO]]&J18 -> 43910E | L18: =IFERROR(VLOOKUP(K18,CATEGORIAS,2,0),"") | M18: XTREMO BMX | N18: 25 | O18: =IFERROR(VLOOKUP(Tabla110[[#This Row],[NIVEL DE HABILIDAD]],CATEGORIAS!$M$3:$O$13,2,FALSE),"") -> 85000 | Q18: TIGRE FRANCO
B19: 26 | C19: LUCCA | D19: DIAZ DEL CHIARO | E19: 1232815236 | F19: 44247 | G19: 44247 | H19: =IF(Tabla110[[#This Row],[FECHA DE NACIMIENTO]]="","",YEAR(NOW())-YEAR(Tabla110[[#This Row],[FECHA DE NACIMIENTO]])) -> 5 | I19: STRIDERS | J19: =VLOOKUP(I19,NH,2,0) -> S | K19: =Tabla110[[#This Row],[FECHA DE NACIMIENTO]]&J19 -> 44247S | L19: =IFERROR(VLOOKUP(K19,CATEGORIAS,2,0),"") | M19: XTREMO BMX | N19: 26 | O19: =IFERROR(VLOOKUP(Tabla110[[#This Row],[NIVEL DE HABILIDAD]],CATEGORIAS!$M$3:$O$13,2,FALSE),"") -> 85000
B20: 27 | C20: KOHEMAN CABANI | D20: ZUÑIGA BERRIO | E20: 1063819685 | F20: 44197 | G20: 44197 | H20: =IF(Tabla110[[#This Row],[FECHA DE NACIMIENTO]]="","",YEAR(NOW())-YEAR(Tabla110[[#This Row],[FECHA DE NACIMIENTO]])) -> 5 | I20: STRIDERS | J20: =VLOOKUP(I20,NH,2,0) -> S | K20: =Tabla110[[#This Row],[FECHA DE NACIMIENTO]]&J20 -> 44197S | L20: =IFERROR(VLOOKUP(K20,CATEGORIAS,2,0),"") | M20: DREAM TEAM BMX CAUCA | N20: 27 | O20: =IFERROR(VLOOKUP(Tabla110[[#This Row],[NIVEL DE HABILIDAD]],CATEGORIAS!$M$3:$O$13,2,FALSE),"") -> 85000
B21: 28 | C21: MAXIMILIANO | D21: MONTENEGRO RESTREPO | E21: 1058554558 | F21: 44281 | G21: 44281 | H21: =IF(Tabla110[[#This Row],[FECHA DE NACIMIENTO]]="","",YEAR(NOW())-YEAR(Tabla110[[#This Row],[FECHA DE NACIMIENTO]])) -> 5 | I21: STRIDERS | J21: =VLOOKUP(I21,NH,2,0) -> S | K21: =Tabla110[[#This Row],[FECHA DE NACIMIENTO]]&J21 -> 44281S | L21: =IFERROR(VLOOKUP(K21,CATEGORIAS,2,0),"") | M21: CHAMPIONS FACTORY | N21: 28 | O21: =IFERROR(VLOOKUP(Tabla110[[#This Row],[NIVEL DE HABILIDAD]],CATEGORIAS!$M$3:$O$13,2,FALSE),"") -> 85000 | Q21: EL TORITO DEL CAUCA
B22: 29 | C22: MARTIN | D22: ESCOBAR ORTIZ | E22: 1112164681 | F22: 44452 | G22: 44452 | H22: =IF(Tabla110[[#This Row],[FECHA DE NACIMIENTO]]="","",YEAR(NOW())-YEAR(Tabla110[[#This Row],[FECHA DE NACIMIENTO]])) -> 5 | I22: MINIRIDERS | J22: =VLOOKUP(I22,NH,2,0) -> E | K22: =Tabla110[[#This Row],[FECHA DE NACIMIENTO]]&J22 -> 44452E | L22: =IFERROR(VLOOKUP(K22,CATEGORIAS,2,0),"") | M22: BMX RIDERS BUGA | N22: 29 | O22: =IFERROR(VLOOKUP(Tabla110[[#This Row],[NIVEL DE HABILIDAD]],CATEGORIAS!$M$3:$O$13,2,FALSE),"") -> 85000
B23: 30 | C23: AGUSTIN | D23: JARAMILLO GUEVARA | E23: 1109938537 | F23: 43975 | G23: 43975 | H23: =IF(Tabla110[[#This Row],[FECHA DE NACIMIENTO]]="","",YEAR(NOW())-YEAR(Tabla110[[#This Row],[FECHA DE NACIMIENTO]])) -> 6 | I23: MINIRIDERS | J23: =VLOOKUP(I23,NH,2,0) -> E | K23: =Tabla110[[#This Row],[FECHA DE NACIMIENTO]]&J23 -> 43975E | L23: =IFERROR(VLOOKUP(K23,CATEGORIAS,2,0),"") | M23: CICLON BMX | N23: 30 | O23: =IFERROR(VLOOKUP(Tabla110[[#This Row],[NIVEL DE HABILIDAD]],CATEGORIAS!$M$3:$O$13,2,FALSE),"") -> 85000
B24: 31 | C24: ISAAC | D24: VELASCO ARISTIZABAL | E24: 1109121860 | F24: #N/A | G24: 2020 | H24: =IF(Tabla110[[#This Row],[FECHA DE NACIMIENTO]]="","",YEAR(NOW())-Tabla110[[#This Row],[FECHA DE NACIMIENTO]]) -> 6 | I24: MINIRIDERS | J24: =VLOOKUP(I24,NH,2,0) -> E | K24: =Tabla110[[#This Row],[FECHA DE NACIMIENTO]]&J24 -> 2020E | L24: =IFERROR(VLOOKUP(K24,CATEGORIAS,2,0),"") -> MINIRIDERS 6 AÑOS | M24: CICLON BMX | N24: 31 | O24: =IFERROR(VLOOKUP(Tabla110[[#This Row],[NIVEL DE HABILIDAD]],CATEGORIAS!$M$3:$O$13,2,FALSE),"") -> 85000
B25: 32 | C25: JUAN SALVADOR | D25: YARA VERGARA | E25: 1105936574 | F25: #N/A | G25: 2021 | H25: =IF(Tabla110[[#This Row],[FECHA DE NACIMIENTO]]="","",YEAR(NOW())-Tabla110[[#This Row],[FECHA DE NACIMIENTO]]) -> 5 | I25: STRIDERS | J25: =VLOOKUP(I25,NH,2,0) -> S | K25: =Tabla110[[#This Row],[FECHA DE NACIMIENTO]]&J25 -> 2021S | L25: =IFERROR(VLOOKUP(K25,CATEGORIAS,2,0),"") -> STRIDERS 5 AÑOS | M25: CICLON BMX | N25: 32 | O25: =IFERROR(VLOOKUP(Tabla110[[#This Row],[NIVEL DE HABILIDAD]],CATEGORIAS!$M$3:$O$13,2,FALSE),"") -> 85000
B26: 33 | C26: MARÍA JOSÉ | D26: MORALES HINCAPIE | E26: 1232818158 | F26: #N/A | G26: 2021 | H26: =IF(Tabla110[[#This Row],[FECHA DE NACIMIENTO]]="","",YEAR(NOW())-Tabla110[[#This Row],[FECHA DE NACIMIENTO]]) -> 5 | I26: STRIDERS | J26: =VLOOKUP(I26,NH,2,0) -> S | K26: =Tabla110[[#This Row],[FECHA DE NACIMIENTO]]&J26 -> 2021S | L26: =IFERROR(VLOOKUP(K26,CATEGORIAS,2,0),"") -> STRIDERS 5 AÑOS | M26: CICLON BMX | N26: 33 | O26: =IFERROR(VLOOKUP(Tabla110[[#This Row],[NIVEL DE HABILIDAD]],CATEGORIAS!$M$3:$O$13,2,FALSE),"") -> 85000
B27: 34 | C27: MARÍA JOSÉ | D27: MOJICA PEREZ | E27: 1106524664 | F27: #N/A | G27: 2020 | H27: =IF(Tabla110[[#This Row],[FECHA DE NACIMIENTO]]="","",YEAR(NOW())-Tabla110[[#This Row],[FECHA DE NACIMIENTO]]) -> 6 | I27: MINIRIDERS | J27: =VLOOKUP(I27,NH,2,0) -> E | K27: =Tabla110[[#This Row],[FECHA DE NACIMIENTO]]&J27 -> 2020E | L27: =IFERROR(VLOOKUP(K27,CATEGORIAS,2,0),"") -> MINIRIDERS 6 AÑOS | M27: YUMBIKE | N27: 34 | O27: =IFERROR(VLOOKUP(Tabla110[[#This Row],[NIVEL DE HABILIDAD]],CATEGORIAS!$M$3:$O$13,2,FALSE),"") -> 85000 | Q27: MAJITO
B28: 35 | C28: MARTÍN | D28: SOTO VELASCO | E28: 1108572247 | F28: #N/A | G28: 2020 | H28: =IF(Tabla110[[#This Row],[FECHA DE NACIMIENTO]]="","",YEAR(NOW())-Tabla110[[#This Row],[FECHA DE NACIMIENTO]]) -> 6 | I28: MINIRIDERS | J28: =VLOOKUP(I28,NH,2,0) -> E | K28: =Tabla110[[#This Row],[FECHA DE NACIMIENTO]]&J28 -> 2020E | L28: =IFERROR(VLOOKUP(K28,CATEGORIAS,2,0),"") -> MINIRIDERS 6 AÑOS | M28: CICLON BMX | N28: 35 | O28: =IFERROR(VLOOKUP(Tabla110[[#This Row],[NIVEL DE HABILIDAD]],CATEGORIAS!$M$3:$O$13,2,FALSE),"") -> 85000
B29: 36 | C29: MAXIMILIANO | D29: VELASCO ARISTIZABAL | E29: 1109121861 | F29: #N/A | G29: 2020 | H29: =IF(Tabla110[[#This Row],[FECHA DE NACIMIENTO]]="","",YEAR(NOW())-Tabla110[[#This Row],[FECHA DE NACIMIENTO]]) -> 6 | I29: MINIRIDERS | J29: =VLOOKUP(I29,NH,2,0) -> E | K29: =Tabla110[[#This Row],[FECHA DE NACIMIENTO]]&J29 -> 2020E | L29: =IFERROR(VLOOKUP(K29,CATEGORIAS,2,0),"") -> MINIRIDERS 6 AÑOS | M29: CICLON BMX | N29: 36 | O29: =IFERROR(VLOOKUP(Tabla110[[#This Row],[NIVEL DE HABILIDAD]],CATEGORIAS!$M$3:$O$13,2,FALSE),"") -> 85000
B30: 37 | C30: LIAM ESTIVEN | D30: GRAJALES VARGAS | E30: 1114012296 | F30: 43360 | G30: 2018 | H30: =IF(Tabla110[[#This Row],[FECHA DE NACIMIENTO]]="","",YEAR(NOW())-Tabla110[[#This Row],[FECHA DE NACIMIENTO]]) -> 8 | I30: PRINCIPIANTES | J30: =VLOOKUP(I30,NH,2,0) -> P | K30: =Tabla110[[#This Row],[FECHA DE NACIMIENTO]]&J30 -> 2018P | L30: =IFERROR(VLOOKUP(K30,CATEGORIAS,2,0),"") -> PRINCIPIANTES 7 Y 8 AÑOS | M30: BMX ATTACK | N30: 37 | O30: =IFERROR(VLOOKUP(Tabla110[[#This Row],[NIVEL DE HABILIDAD]],CATEGORIAS!$M$3:$O$13,2,FALSE),"") -> 85000
B31: 38 | C31: LUCIANA | D31: ACEVEDO OBANDO | E31: 1114249166 | F31: 43539 | G31: 2019 | H31: =IF(Tabla110[[#This Row],[FECHA DE NACIMIENTO]]="","",YEAR(NOW())-Tabla110[[#This Row],[FECHA DE NACIMIENTO]]) -> 7 | I31: PRINCIPIANTES | J31: =VLOOKUP(I31,NH,2,0) -> P | K31: =Tabla110[[#This Row],[FECHA DE NACIMIENTO]]&J31 -> 2019P | L31: =IFERROR(VLOOKUP(K31,CATEGORIAS,2,0),"") -> PRINCIPIANTES 7 Y 8 AÑOS | M31: BMX ATTACK | N31: 38 | O31: =IFERROR(VLOOKUP(Tabla110[[#This Row],[NIVEL DE HABILIDAD]],CATEGORIAS!$M$3:$O$13,2,FALSE),"") -> 85000
B32: 39 | C32: EITHIAN | D32: BERMUDEZ | E32: 1114249319 | F32: 43882 | G32: 2020 | H32: =IF(Tabla110[[#This Row],[FECHA DE NACIMIENTO]]="","",YEAR(NOW())-Tabla110[[#This Row],[FECHA DE NACIMIENTO]]) -> 6 | I32: MINIRIDERS | J32: =VLOOKUP(I32,NH,2,0) -> E | K32: =Tabla110[[#This Row],[FECHA DE NACIMIENTO]]&J32 -> 2020E | L32: =IFERROR(VLOOKUP(K32,CATEGORIAS,2,0),"") -> MINIRIDERS 6 AÑOS | M32: BMX ATTACK | N32: 39 | O32: =IFERROR(VLOOKUP(Tabla110[[#This Row],[NIVEL DE HABILIDAD]],CATEGORIAS!$M$3:$O$13,2,FALSE),"") -> 85000
B33: 40 | C33: MARCUS | D33: CALERO | E33: 1114320217 | F33: #N/A | G33: 2019 | H33: =IF(Tabla110[[#This Row],[FECHA DE NACIMIENTO]]="","",YEAR(NOW())-Tabla110[[#This Row],[FECHA DE NACIMIENTO]]) -> 7 | I33: MINIRIDERS | J33: =VLOOKUP(I33,NH,2,0) -> E | K33: =Tabla110[[#This Row],[FECHA DE NACIMIENTO]]&J33 -> 2019E | L33: =IFERROR(VLOOKUP(K33,CATEGORIAS,2,0),"") -> MINIRIDERS 7 Y 8 AÑOS | M33: BMX ATTACK | N33: 40 | O33: =IFERROR(VLOOKUP(Tabla110[[#This Row],[NIVEL DE HABILIDAD]],CATEGORIAS!$M$3:$O$13,2,FALSE),"") -> 85000
B34: 41 | C34: MARIA PAULA | D34: CHILITO FAJARDO | E34: 1061546676 | F34: 43466 | G34: 2019 | H34: =IF(Tabla110[[#This Row],[FECHA DE NACIMIENTO]]="","",YEAR(NOW())-Tabla110[[#This Row],[FECHA DE NACIMIENTO]]) -> 7 | I34: PRINCIPIANTES | J34: =VLOOKUP(I34,NH,2,0) -> P | K34: =Tabla110[[#This Row],[FECHA DE NACIMIENTO]]&J34 -> 2019P | L34: =IFERROR(VLOOKUP(K34,CATEGORIAS,2,0),"") -> PRINCIPIANTES 7 Y 8 AÑOS | M34: DREAM TEAM BMX CAUCA | N34: 41 | O34: =IFERROR(VLOOKUP(Tabla110[[#This Row],[NIVEL DE HABILIDAD]],CATEGORIAS!$M$3:$O$13,2,FALSE),"") -> 85000
B35: 42 | C35: DYLAN SANTIAGO | D35: CAMPO SUAREZ | E35: 1104837479 | F35: 42269 | G35: 2015 | H35: =IF(Tabla110[[#This Row],[FECHA DE NACIMIENTO]]="","",YEAR(NOW())-Tabla110[[#This Row],[FECHA DE NACIMIENTO]]) -> 11 | I35: PRINCIPIANTES | J35: =VLOOKUP(I35,NH,2,0) -> P | K35: =Tabla110[[#This Row],[FECHA DE NACIMIENTO]]&J35 -> 2015P | L35: =IFERROR(VLOOKUP(K35,CATEGORIAS,2,0),"") -> PRINCIPIANTES 11 Y 12 AÑOS | M35: MANUBRIOS DE ORO | N35: 42 | O35: =IFERROR(VLOOKUP(Tabla110[[#This Row],[NIVEL DE HABILIDAD]],CATEGORIAS!$M$3:$O$13,2,FALSE),"") -> 85000
B36: 43 | C36: EMANUEL | D36: MORENO | E36: 1151968614 | F36: #N/A | G36: 2018 | H36: =IF(Tabla110[[#This Row],[FECHA DE NACIMIENTO]]="","",YEAR(NOW())-Tabla110[[#This Row],[FECHA DE NACIMIENTO]]) -> 8 | I36: MINIRIDERS | J36: =VLOOKUP(I36,NH,2,0) -> E | K36: =Tabla110[[#This Row],[FECHA DE NACIMIENTO]]&J36 -> 2018E | L36: =IFERROR(VLOOKUP(K36,CATEGORIAS,2,0),"") -> MINIRIDERS 7 Y 8 AÑOS | M36: SANTAMARIA RACING | N36: 43 | O36: =IFERROR(VLOOKUP(Tabla110[[#This Row],[NIVEL DE HABILIDAD]],CATEGORIAS!$M$3:$O$13,2,FALSE),"") -> 85000
B37: 44 | C37: MARIANO | D37: AREIZA GRAJALES | E37: 1112060927 | F37: #N/A | G37: 2015 | H37: =IF(Tabla110[[#This Row],[FECHA DE NACIMIENTO]]="","",YEAR(NOW())-Tabla110[[#This Row],[FECHA DE NACIMIENTO]]) -> 11 | I37: PRINCIPIANTES | J37: =VLOOKUP(I37,NH,2,0) -> P | K37: =Tabla110[[#This Row],[FECHA DE NACIMIENTO]]&J37 -> 2015P | L37: =IFERROR(VLOOKUP(K37,CATEGORIAS,2,0),"") -> PRINCIPIANTES 11 Y 12 AÑOS | M37: SANTAMARIA RACING | N37: 44 | O37: =IFERROR(VLOOKUP(Tabla110[[#This Row],[NIVEL DE HABILIDAD]],CATEGORIAS!$M$3:$O$13,2,FALSE),"") -> 85000
B38: 45 | C38: EMILIANO | D38: ERAZO | E38: 1150692727 | F38: #N/A | G38: 2015 | H38: =IF(Tabla110[[#This Row],[FECHA DE NACIMIENTO]]="","",YEAR(NOW())-Tabla110[[#This Row],[FECHA DE NACIMIENTO]]) -> 11 | I38: PRINCIPIANTES | J38: =VLOOKUP(I38,NH,2,0) -> P | K38: =Tabla110[[#This Row],[FECHA DE NACIMIENTO]]&J38 -> 2015P | L38: =IFERROR(VLOOKUP(K38,CATEGORIAS,2,0),"") -> PRINCIPIANTES 11 Y 12 AÑOS | M38: SANTAMARIA RACING | N38: 45 | O38: =IFERROR(VLOOKUP(Tabla110[[#This Row],[NIVEL DE HABILIDAD]],CATEGORIAS!$M$3:$O$13,2,FALSE),"") -> 85000
B39: 46 | C39: JACOBO | D39: VELASCO ASTAIZA | E39: 1058554342 | F39: 43977 | G39: 2020 | H39: =IF(Tabla110[[#This Row],[FECHA DE NACIMIENTO]]="","",YEAR(NOW())-Tabla110[[#This Row],[FECHA DE NACIMIENTO]]) -> 6 | I39: PRINCIPIANTES | J39: =VLOOKUP(I39,NH,2,0) -> P | K39: =Tabla110[[#This Row],[FECHA DE NACIMIENTO]]&J39 -> 2020P | L39: =IFERROR(VLOOKUP(K39,CATEGORIAS,2,0),"") -> PRINCIPIANTES 6 AÑOS Y MENOS | M39: REAL RIDERS POPAYAN | N39: 46 | O39: =IFERROR(VLOOKUP(Tabla110[[#This Row],[NIVEL DE HABILIDAD]],CATEGORIAS!$M$3:$O$13,2,FALSE),"") -> 85000
B40: 47 | C40: JERONIMO | D40: VELASCO ASTAIZA | E40: 1058554341 | F40: 43977 | G40: 2020 | H40: =IF(Tabla110[[#This Row],[FECHA DE NACIMIENTO]]="","",YEAR(NOW())-Tabla110[[#This Row],[FECHA DE NACIMIENTO]]) -> 6 | I40: PRINCIPIANTES | J40: =VLOOKUP(I40,NH,2,0) -> P | K40: =Tabla110[[#This Row],[FECHA DE NACIMIENTO]]&J40 -> 2020P | L40: =IFERROR(VLOOKUP(K40,CATEGORIAS,2,0),"") -> PRINCIPIANTES 6 AÑOS Y MENOS | M40: REAL RIDERS POPAYAN | N40: 47 | O40: =IFERROR(VLOOKUP(Tabla110[[#This Row],[NIVEL DE HABILIDAD]],CATEGORIAS!$M$3:$O$13,2,FALSE),"") -> 85000
B41: 48 | C41: ISAAC | D41: VASQUEZ | E41: 1114319153 | F41: #N/A | G41: 2018 | H41: =IF(Tabla110[[#This Row],[FECHA DE NACIMIENTO]]="","",YEAR(NOW())-Tabla110[[#This Row],[FECHA DE NACIMIENTO]]) -> 8 | I41: MINIRIDERS | J41: =VLOOKUP(I41,NH,2,0) -> E | K41: =Tabla110[[#This Row],[FECHA DE NACIMIENTO]]&J41 -> 2018E | L41: =IFERROR(VLOOKUP(K41,CATEGORIAS,2,0),"") -> MINIRIDERS 7 Y 8 AÑOS | M41: BMX PALMIRA | N41: 48 | O41: =IFERROR(VLOOKUP(Tabla110[[#This Row],[NIVEL DE HABILIDAD]],CATEGORIAS!$M$3:$O$13,2,FALSE),"") -> 85000
B42: 49 | C42: JERONIMO | D42: VIVAS COCUY | E42: 1114558215 | F42: 43987 | G42: 2020 | H42: =IF(Tabla110[[#This Row],[FECHA DE NACIMIENTO]]="","",YEAR(NOW())-Tabla110[[#This Row],[FECHA DE NACIMIENTO]]) -> 6 | I42: PRINCIPIANTES | J42: =VLOOKUP(I42,NH,2,0) -> P | K42: =Tabla110[[#This Row],[FECHA DE NACIMIENTO]]&J42 -> 2020P | L42: =IFERROR(VLOOKUP(K42,CATEGORIAS,2,0),"") -> PRINCIPIANTES 6 AÑOS Y MENOS | M42: BMX PALMIRA | N42: 49 | O42: =IFERROR(VLOOKUP(Tabla110[[#This Row],[NIVEL DE HABILIDAD]],CATEGORIAS!$M$3:$O$13,2,FALSE),"") -> 85000
B43: 50 | C43: JOEL SANTIAGO | D43: JOVEN ERAZO | E43: 1114555506 | F43: 43195 | G43: 2018 | H43: =IF(Tabla110[[#This Row],[FECHA DE NACIMIENTO]]="","",YEAR(NOW())-Tabla110[[#This Row],[FECHA DE NACIMIENTO]]) -> 8 | I43: PRINCIPIANTES | J43: =VLOOKUP(I43,NH,2,0) -> P | K43: =Tabla110[[#This Row],[FECHA DE NACIMIENTO]]&J43 -> 2018P | L43: =IFERROR(VLOOKUP(K43,CATEGORIAS,2,0),"") -> PRINCIPIANTES 7 Y 8 AÑOS | M43: BMX PALMIRA | N43: 50 | O43: =IFERROR(VLOOKUP(Tabla110[[#This Row],[NIVEL DE HABILIDAD]],CATEGORIAS!$M$3:$O$13,2,FALSE),"") -> 85000 | Q43: LA PIRAÑA DEL VALLE
B44: 51 | C44: SEBASTIAN | D44: VELASQUEZ GALLEGO | E44: 1107870160 | F44: 43573 | G44: 2019 | H44: =IF(Tabla110[[#This Row],[FECHA DE NACIMIENTO]]="","",YEAR(NOW())-Tabla110[[#This Row],[FECHA DE NACIMIENTO]]) -> 7 | I44: PRINCIPIANTES | J44: =VLOOKUP(I44,NH,2,0) -> P | K44: =Tabla110[[#This Row],[FECHA DE NACIMIENTO]]&J44 -> 2019P | L44: =IFERROR(VLOOKUP(K44,CATEGORIAS,2,0),"") -> PRINCIPIANTES 7 Y 8 AÑOS | M44: XTREMO BMX | N44: 51 | O44: =IFERROR(VLOOKUP(Tabla110[[#This Row],[NIVEL DE HABILIDAD]],CATEGORIAS!$M$3:$O$13,2,FALSE),"") -> 85000 | Q44: EL PUMA
B45: 52 | C45: FRANCO | D45: GIRALDO GARCÍA | E45: 1109937001 | F45: #N/A | G45: 2018 | H45: =IF(Tabla110[[#This Row],[FECHA DE NACIMIENTO]]="","",YEAR(NOW())-Tabla110[[#This Row],[FECHA DE NACIMIENTO]]) -> 8 | I45: MINIRIDERS | J45: =VLOOKUP(I45,NH,2,0) -> E | K45: =Tabla110[[#This Row],[FECHA DE NACIMIENTO]]&J45 -> 2018E | L45: =IFERROR(VLOOKUP(K45,CATEGORIAS,2,0),"") -> MINIRIDERS 7 Y 8 AÑOS | M45: XTREMO BMX | N45: 52 | O45: =IFERROR(VLOOKUP(Tabla110[[#This Row],[NIVEL DE HABILIDAD]],CATEGORIAS!$M$3:$O$13,2,FALSE),"") -> 85000
B46: 53 | C46: EMMANUEL | D46: ROMERO MEDINA | E46: 1104842612 | F46: 43180 | G46: 2018 | H46: =IF(Tabla110[[#This Row],[FECHA DE NACIMIENTO]]="","",YEAR(NOW())-Tabla110[[#This Row],[FECHA DE NACIMIENTO]]) -> 8 | I46: PRINCIPIANTES | J46: =VLOOKUP(I46,NH,2,0) -> P | K46: =Tabla110[[#This Row],[FECHA DE NACIMIENTO]]&J46 -> 2018P | L46: =IFERROR(VLOOKUP(K46,CATEGORIAS,2,0),"") -> PRINCIPIANTES 7 Y 8 AÑOS | M46: XTREMO BMX | N46: 53 | O46: =IFERROR(VLOOKUP(Tabla110[[#This Row],[NIVEL DE HABILIDAD]],CATEGORIAS!$M$3:$O$13,2,FALSE),"") -> 85000 | Q46: LA MARAVILLA
B47: 54 | C47: GERONIMO | D47: RODRÍGUEZ VALLEJO | E47: 1109568418 | F47: 43716 | G47: 2019 | H47: =IF(Tabla110[[#This Row],[FECHA DE NACIMIENTO]]="","",YEAR(NOW())-Tabla110[[#This Row],[FECHA DE NACIMIENTO]]) -> 7 | I47: PRINCIPIANTES | J47: =VLOOKUP(I47,NH,2,0) -> P | K47: =Tabla110[[#This Row],[FECHA DE NACIMIENTO]]&J47 -> 2019P | L47: =IFERROR(VLOOKUP(K47,CATEGORIAS,2,0),"") -> PRINCIPIANTES 7 Y 8 AÑOS | M47: XTREMO BMX | N47: 54 | O47: =IFERROR(VLOOKUP(Tabla110[[#This Row],[NIVEL DE HABILIDAD]],CATEGORIAS!$M$3:$O$13,2,FALSE),"") -> 85000 | Q47: EL TORITO
B48: 55 | C48: THOMAS VICENTE | D48: RODRIGUEZ PENAGOS | E48: 1013693603 | G48: 2018 | H48: =IF(Tabla110[[#This Row],[FECHA DE NACIMIENTO]]="","",YEAR(NOW())-Tabla110[[#This Row],[FECHA DE NACIMIENTO]]) -> 8 | I48: PRINCIPIANTES | J48: =VLOOKUP(I48,NH,2,0) -> P | K48: =Tabla110[[#This Row],[FECHA DE NACIMIENTO]]&J48 -> 2018P | L48: =IFERROR(VLOOKUP(K48,CATEGORIAS,2,0),"") -> PRINCIPIANTES 7 Y 8 AÑOS | M48: HECHO EN COLOMBIA | N48: 55 | O48: =IFERROR(VLOOKUP(Tabla110[[#This Row],[NIVEL DE HABILIDAD]],CATEGORIAS!$M$3:$O$13,2,FALSE),"") -> 85000
B49: 56 | C49: MARTÍN | D49: VARGAS PÉREZ, | E49: 1109560767 | F49: 42526 | G49: 2016 | H49: =IF(Tabla110[[#This Row],[FECHA DE NACIMIENTO]]="","",YEAR(NOW())-Tabla110[[#This Row],[FECHA DE NACIMIENTO]]) -> 10 | I49: MINIRIDERS | J49: =VLOOKUP(I49,NH,2,0) -> E | K49: =Tabla110[[#This Row],[FECHA DE NACIMIENTO]]&J49 -> 2016E | L49: =IFERROR(VLOOKUP(K49,CATEGORIAS,2,0),"") -> MINIRIDERS 9 Y 10 AÑOS | M49: XTREMO BMX | N49: 56 | O49: =IFERROR(VLOOKUP(Tabla110[[#This Row],[NIVEL DE HABILIDAD]],CATEGORIAS!$M$3:$O$13,2,FALSE),"") -> 85000
B50: 57 | F50: 44937 | H50: =IF(Tabla110[[#This Row],[FECHA DE NACIMIENTO]]="","",YEAR(NOW())-Tabla110[[#This Row],[FECHA DE NACIMIENTO]]) | J50: =VLOOKUP(I50,NH,2,0) -> #N/A | K50: =Tabla110[[#This Row],[FECHA DE NACIMIENTO]]&J50 -> #N/A | L50: =IFERROR(VLOOKUP(K50,CATEGORIAS,2,0),"") | O50: =IFERROR(VLOOKUP(Tabla110[[#This Row],[NIVEL DE HABILIDAD]],CATEGORIAS!$M$3:$O$13,2,FALSE),"")
B51: 58 | C51: JUAN JOSE | D51: TOVAR MONTILLA | E51: 1110057718 | G51: 2016 | H51: =IF(Tabla110[[#This Row],[FECHA DE NACIMIENTO]]="","",YEAR(NOW())-Tabla110[[#This Row],[FECHA DE NACIMIENTO]]) -> 10 | I51: MINIRIDERS | J51: =VLOOKUP(I51,NH,2,0) -> E | K51: =Tabla110[[#This Row],[FECHA DE NACIMIENTO]]&J51 -> 2016E | L51: =IFERROR(VLOOKUP(K51,CATEGORIAS,2,0),"") -> MINIRIDERS 9 Y 10 AÑOS | M51: XTREMO BMX | N51: 58 | O51: =IFERROR(VLOOKUP(Tabla110[[#This Row],[NIVEL DE HABILIDAD]],CATEGORIAS!$M$3:$O$13,2,FALSE),"") -> 85000
B52: 59 | C52: JUAN ESTEBAN | D52: SALAMANCA DAVILA | E52: 1014898864 | G52: 2018 | H52: =IF(Tabla110[[#This Row],[FECHA DE NACIMIENTO]]="","",YEAR(NOW())-Tabla110[[#This Row],[FECHA DE NACIMIENTO]]) -> 8 | I52: MINIRIDERS | J52: =VLOOKUP(I52,NH,2,0) -> E | K52: =Tabla110[[#This Row],[FECHA DE NACIMIENTO]]&J52 -> 2018E | L52: =IFERROR(VLOOKUP(K52,CATEGORIAS,2,0),"") -> MINIRIDERS 7 Y 8 AÑOS | M52: XTREMO BMX | N52: 59 | O52: =IFERROR(VLOOKUP(Tabla110[[#This Row],[NIVEL DE HABILIDAD]],CATEGORIAS!$M$3:$O$13,2,FALSE),"") -> 85000
B53: 60 | C53: MATHEW | D53: HERNANDEZ VARGAS | E53: 1150695054 | G53: 2018 | H53: =IF(Tabla110[[#This Row],[FECHA DE NACIMIENTO]]="","",YEAR(NOW())-Tabla110[[#This Row],[FECHA DE NACIMIENTO]]) -> 8 | I53: MINIRIDERS | J53: =VLOOKUP(I53,NH,2,0) -> E | K53: =Tabla110[[#This Row],[FECHA DE NACIMIENTO]]&J53 -> 2018E | L53: =IFERROR(VLOOKUP(K53,CATEGORIAS,2,0),"") -> MINIRIDERS 7 Y 8 AÑOS | M53: XTREMO BMX | N53: 60 | O53: =IFERROR(VLOOKUP(Tabla110[[#This Row],[NIVEL DE HABILIDAD]],CATEGORIAS!$M$3:$O$13,2,FALSE),"") -> 85000 | Q53: EL HALCON
B54: 61 | C54: JUAN DAVID | D54: CUARAN | E54: 1232804828 | G54: 2018 | H54: =IF(Tabla110[[#This Row],[FECHA DE NACIMIENTO]]="","",YEAR(NOW())-Tabla110[[#This Row],[FECHA DE NACIMIENTO]]) -> 8 | I54: MINIRIDERS | J54: =VLOOKUP(I54,NH,2,0) -> E | K54: =Tabla110[[#This Row],[FECHA DE NACIMIENTO]]&J54 -> 2018E | L54: =IFERROR(VLOOKUP(K54,CATEGORIAS,2,0),"") -> MINIRIDERS 7 Y 8 AÑOS | M54: XTREMO BMX | N54: 61 | O54: =IFERROR(VLOOKUP(Tabla110[[#This Row],[NIVEL DE HABILIDAD]],CATEGORIAS!$M$3:$O$13,2,FALSE),"") -> 85000
B55: 62 | C55: LIAYAN STIVEN | D55: RIOS ROMERO | E55: 1114013078 | F55: 43675 | G55: 2019 | H55: =IF(Tabla110[[#This Row],[FECHA DE NACIMIENTO]]="","",YEAR(NOW())-Tabla110[[#This Row],[FECHA DE NACIMIENTO]]) -> 7 | I55: PRINCIPIANTES | J55: =VLOOKUP(I55,NH,2,0) -> P | K55: =Tabla110[[#This Row],[FECHA DE NACIMIENTO]]&J55 -> 2019P | L55: =IFERROR(VLOOKUP(K55,CATEGORIAS,2,0),"") -> PRINCIPIANTES 7 Y 8 AÑOS | M55: XTREMO BMX | N55: 62 | O55: =IFERROR(VLOOKUP(Tabla110[[#This Row],[NIVEL DE HABILIDAD]],CATEGORIAS!$M$3:$O$13,2,FALSE),"") -> 85000
B56: 63 | C56: ADRIAN | D56: OJEDA | F56: 43933 | G56: 2020 | H56: =IF(Tabla110[[#This Row],[FECHA DE NACIMIENTO]]="","",YEAR(NOW())-Tabla110[[#This Row],[FECHA DE NACIMIENTO]]) -> 6 | I56: STRIDERS | J56: =VLOOKUP(I56,NH,2,0) -> S | K56: =Tabla110[[#This Row],[FECHA DE NACIMIENTO]]&J56 -> 2020S | L56: =IFERROR(VLOOKUP(K56,CATEGORIAS,2,0),"") | M56: INDEPENDIENTE | N56: 63 | O56: =IFERROR(VLOOKUP(Tabla110[[#This Row],[NIVEL DE HABILIDAD]],CATEGORIAS!$M$3:$O$13,2,FALSE),"") -> 85000
B57: 64 | C57: MARTHIN | D57: LOSADA MARQUEZ | E57: 1109120826 | G57: 2015 | H57: =IF(Tabla110[[#This Row],[FECHA DE NACIMIENTO]]="","",YEAR(NOW())-Tabla110[[#This Row],[FECHA DE NACIMIENTO]]) -> 11 | I57: PRINCIPIANTES | J57: =VLOOKUP(I57,NH,2,0) -> P | K57: =Tabla110[[#This Row],[FECHA DE NACIMIENTO]]&J57 -> 2015P | L57: =IFERROR(VLOOKUP(K57,CATEGORIAS,2,0),"") -> PRINCIPIANTES 11 Y 12 AÑOS | M57: IMDERTY | N57: 64 | O57: =IFERROR(VLOOKUP(Tabla110[[#This Row],[NIVEL DE HABILIDAD]],CATEGORIAS!$M$3:$O$13,2,FALSE),"") -> 85000
B58: 65 | C58: JHONJEY | D58: HIGUITA SALAZAR | E58: 1116380338 | G58: 2016 | H58: =IF(Tabla110[[#This Row],[FECHA DE NACIMIENTO]]="","",YEAR(NOW())-Tabla110[[#This Row],[FECHA DE NACIMIENTO]]) -> 10 | I58: MINIRIDERS | J58: =VLOOKUP(I58,NH,2,0) -> E | K58: =Tabla110[[#This Row],[FECHA DE NACIMIENTO]]&J58 -> 2016E | L58: =IFERROR(VLOOKUP(K58,CATEGORIAS,2,0),"") -> MINIRIDERS 9 Y 10 AÑOS | M58: IMDERTY | N58: 65 | O58: =IFERROR(VLOOKUP(Tabla110[[#This Row],[NIVEL DE HABILIDAD]],CATEGORIAS!$M$3:$O$13,2,FALSE),"") -> 85000
B59: 66 | C59: JORGE EMMANUEL | D59: MARQUEZ GAVIRIA | E59: 1112630859 | G59: 2015 | H59: =IF(Tabla110[[#This Row],[FECHA DE NACIMIENTO]]="","",YEAR(NOW())-Tabla110[[#This Row],[FECHA DE NACIMIENTO]]) -> 11 | I59: PRINCIPIANTES | J59: =VLOOKUP(I59,NH,2,0) -> P | K59: =Tabla110[[#This Row],[FECHA DE NACIMIENTO]]&J59 -> 2015P | L59: =IFERROR(VLOOKUP(K59,CATEGORIAS,2,0),"") -> PRINCIPIANTES 11 Y 12 AÑOS | M59: IMDERTY | N59: 66 | O59: =IFERROR(VLOOKUP(Tabla110[[#This Row],[NIVEL DE HABILIDAD]],CATEGORIAS!$M$3:$O$13,2,FALSE),"") -> 85000
B60: 67 | C60: EMMANUEL | D60: RIVERA JARAMILLO | E60: 1232793740 | F60: 42227 | G60: 2015 | H60: =IF(Tabla110[[#This Row],[FECHA DE NACIMIENTO]]="","",YEAR(NOW())-Tabla110[[#This Row],[FECHA DE NACIMIENTO]]) -> 11 | I60: PRINCIPIANTES | J60: =VLOOKUP(I60,NH,2,0) -> P | K60: =Tabla110[[#This Row],[FECHA DE NACIMIENTO]]&J60 -> 2015P | L60: =IFERROR(VLOOKUP(K60,CATEGORIAS,2,0),"") -> PRINCIPIANTES 11 Y 12 AÑOS | M60: IMDERTY | N60: 67 | O60: =IFERROR(VLOOKUP(Tabla110[[#This Row],[NIVEL DE HABILIDAD]],CATEGORIAS!$M$3:$O$13,2,FALSE),"") -> 85000
B61: 68 | C61: THIAGO ITZAE | D61: LUNA GARCIA | E61: 1116379565 | F61: 42357 | G61: 2015 | H61: =IF(Tabla110[[#This Row],[FECHA DE NACIMIENTO]]="","",YEAR(NOW())-Tabla110[[#This Row],[FECHA DE NACIMIENTO]]) -> 11 | I61: PRINCIPIANTES | J61: =VLOOKUP(I61,NH,2,0) -> P | K61: =Tabla110[[#This Row],[FECHA DE NACIMIENTO]]&J61 -> 2015P | L61: =IFERROR(VLOOKUP(K61,CATEGORIAS,2,0),"") -> PRINCIPIANTES 11 Y 12 AÑOS | M61: IMDERTY | N61: 68 | O61: =IFERROR(VLOOKUP(Tabla110[[#This Row],[NIVEL DE HABILIDAD]],CATEGORIAS!$M$3:$O$13,2,FALSE),"") -> 85000 | Q61: LA BESTIA MARQUEZ
B62: 69 | C62: EMILIANO | D62: BELALCAZAR | E62: 1061824772 | F62: 43429 | G62: 2018 | H62: =IF(Tabla110[[#This Row],[FECHA DE NACIMIENTO]]="","",YEAR(NOW())-Tabla110[[#This Row],[FECHA DE NACIMIENTO]]) -> 8 | I62: MINIRIDERS | J62: =VLOOKUP(I62,NH,2,0) -> E | K62: =Tabla110[[#This Row],[FECHA DE NACIMIENTO]]&J62 -> 2018E | L62: =IFERROR(VLOOKUP(K62,CATEGORIAS,2,0),"") -> MINIRIDERS 7 Y 8 AÑOS | M62: DREAM TEAM BMX CAUCA | N62: 69 | O62: =IFERROR(VLOOKUP(Tabla110[[#This Row],[NIVEL DE HABILIDAD]],CATEGORIAS!$M$3:$O$13,2,FALSE),"") -> 85000 | Q62: LA MAQUINA RIVERA
B63: 70 | C63: MIGUEL ANGEL | D63: CARDOZO ARCOS | E63: 1029626480 | F63: 43516 | G63: 2019 | H63: =IF(Tabla110[[#This Row],[FECHA DE NACIMIENTO]]="","",YEAR(NOW())-Tabla110[[#This Row],[FECHA DE NACIMIENTO]]) -> 7 | I63: PRINCIPIANTES | J63: =VLOOKUP(I63,NH,2,0) -> P | K63: =Tabla110[[#This Row],[FECHA DE NACIMIENTO]]&J63 -> 2019P | L63: =IFERROR(VLOOKUP(K63,CATEGORIAS,2,0),"") -> PRINCIPIANTES 7 Y 8 AÑOS | M63: DREAM TEAM BMX CAUCA | N63: 70 | O63: =IFERROR(VLOOKUP(Tabla110[[#This Row],[NIVEL DE HABILIDAD]],CATEGORIAS!$M$3:$O$13,2,FALSE),"") -> 85000 | Q63: EL GUEPARDO
B64: 71 | C64: JOSE NIGUEL | D64: GURRUTE BOLAÑOS | E64: 1058553703 | F64: 43312 | G64: 2018 | H64: =IF(Tabla110[[#This Row],[FECHA DE NACIMIENTO]]="","",YEAR(NOW())-Tabla110[[#This Row],[FECHA DE NACIMIENTO]]) -> 8 | I64: MINIRIDERS | J64: =VLOOKUP(I64,NH,2,0) -> E | K64: =Tabla110[[#This Row],[FECHA DE NACIMIENTO]]&J64 -> 2018E | L64: =IFERROR(VLOOKUP(K64,CATEGORIAS,2,0),"") -> MINIRIDERS 7 Y 8 AÑOS | M64: DREAM TEAM BMX CAUCA | N64: 71 | O64: =IFERROR(VLOOKUP(Tabla110[[#This Row],[NIVEL DE HABILIDAD]],CATEGORIAS!$M$3:$O$13,2,FALSE),"") -> 85000
B65: 72 | C65: JOAQUIN | D65: ROSAS DORADO | E65: 1140214441 | F65: 44202 | G65: 2021 | H65: =IF(Tabla110[[#This Row],[FECHA DE NACIMIENTO]]="","",YEAR(NOW())-Tabla110[[#This Row],[FECHA DE NACIMIENTO]]) -> 5 | I65: STRIDERS | J65: =VLOOKUP(I65,NH,2,0) -> S | K65: =Tabla110[[#This Row],[FECHA DE NACIMIENTO]]&J65 -> 2021S | L65: =IFERROR(VLOOKUP(K65,CATEGORIAS,2,0),"") -> STRIDERS 5 AÑOS | M65: XTREMO BMX | N65: 72 | O65: =IFERROR(VLOOKUP(Tabla110[[#This Row],[NIVEL DE HABILIDAD]],CATEGORIAS!$M$3:$O$13,2,FALSE),"") -> 85000
B66: 73 | C66: ANGEL ANDRES | D66: MUÑOZ RAMIREZ | E66: 1109563342 | F66: 42935 | G66: 2017 | H66: =IF(Tabla110[[#This Row],[FECHA DE NACIMIENTO]]="","",YEAR(NOW())-Tabla110[[#This Row],[FECHA DE NACIMIENTO]]) -> 9 | I66: PRINCIPIANTES | J66: =VLOOKUP(I66,NH,2,0) -> P | K66: =Tabla110[[#This Row],[FECHA DE NACIMIENTO]]&J66 -> 2017P | L66: =IFERROR(VLOOKUP(K66,CATEGORIAS,2,0),"") -> PRINCIPIANTES 9 Y 10 AÑOS | M66: HECHO EN COLOMBIA | N66: 73 | O66: =IFERROR(VLOOKUP(Tabla110[[#This Row],[NIVEL DE HABILIDAD]],CATEGORIAS!$M$3:$O$13,2,FALSE),"") -> 85000
B67: 74 | C67: JOAQUIN ALEJANDRO | D67: SANDOVAL ROJAS | E67: 1150694085 | F67: 42814 | G67: 2017 | H67: =IF(Tabla110[[#This Row],[FECHA DE NACIMIENTO]]="","",YEAR(NOW())-Tabla110[[#This Row],[FECHA DE NACIMIENTO]]) -> 9 | I67: PRINCIPIANTES | J67: =VLOOKUP(I67,NH,2,0) -> P | K67: =Tabla110[[#This Row],[FECHA DE NACIMIENTO]]&J67 -> 2017P | L67: =IFERROR(VLOOKUP(K67,CATEGORIAS,2,0),"") -> PRINCIPIANTES 9 Y 10 AÑOS | M67: HECHO EN COLOMBIA | N67: 74 | O67: =IFERROR(VLOOKUP(Tabla110[[#This Row],[NIVEL DE HABILIDAD]],CATEGORIAS!$M$3:$O$13,2,FALSE),"") -> 85000
B68: 75 | C68: MARTIN | D68: MUÑOZ ERAZO | E68: 11077870096 | F68: 43416 | G68: 2018 | H68: =IF(Tabla110[[#This Row],[FECHA DE NACIMIENTO]]="","",YEAR(NOW())-Tabla110[[#This Row],[FECHA DE NACIMIENTO]]) -> 8 | I68: PRINCIPIANTES | J68: =VLOOKUP(I68,NH,2,0) -> P | K68: =Tabla110[[#This Row],[FECHA DE NACIMIENTO]]&J68 -> 2018P | L68: =IFERROR(VLOOKUP(K68,CATEGORIAS,2,0),"") -> PRINCIPIANTES 7 Y 8 AÑOS | M68: HECHO EN COLOMBIA | N68: 75 | O68: =IFERROR(VLOOKUP(Tabla110[[#This Row],[NIVEL DE HABILIDAD]],CATEGORIAS!$M$3:$O$13,2,FALSE),"") -> 85000 | Q68: QUIQUILLO
B69: 76 | C69: JACOB | D69: VELAZCO DIAZ | E69: 1058940876 | F69: 43754 | G69: 2019 | H69: =IF(Tabla110[[#This Row],[FECHA DE NACIMIENTO]]="","",YEAR(NOW())-Tabla110[[#This Row],[FECHA DE NACIMIENTO]]) -> 7 | I69: PRINCIPIANTES | J69: =VLOOKUP(I69,NH,2,0) -> P | K69: =Tabla110[[#This Row],[FECHA DE NACIMIENTO]]&J69 -> 2019P | L69: =IFERROR(VLOOKUP(K69,CATEGORIAS,2,0),"") -> PRINCIPIANTES 7 Y 8 AÑOS | M69: CHAMPIONS FACTORY | N69: 76 | O69: =IFERROR(VLOOKUP(Tabla110[[#This Row],[NIVEL DE HABILIDAD]],CATEGORIAS!$M$3:$O$13,2,FALSE),"") -> 85000
B70: 77 | C70: LUIS ALEJANDRO | D70: PARDO VALENCIA | E70: 1061827367 | G70: 2020 | H70: =IF(Tabla110[[#This Row],[FECHA DE NACIMIENTO]]="","",YEAR(NOW())-Tabla110[[#This Row],[FECHA DE NACIMIENTO]]) -> 6 | I70: PRINCIPIANTES | J70: =VLOOKUP(I70,NH,2,0) -> P | K70: =Tabla110[[#This Row],[FECHA DE NACIMIENTO]]&J70 -> 2020P | L70: =IFERROR(VLOOKUP(K70,CATEGORIAS,2,0),"") -> PRINCIPIANTES 6 AÑOS Y MENOS | M70: CHAMPIONS FACTORY | N70: 77 | O70: =IFERROR(VLOOKUP(Tabla110[[#This Row],[NIVEL DE HABILIDAD]],CATEGORIAS!$M$3:$O$13,2,FALSE),"") -> 85000 | Q70: PAPICHULO
B71: 78 | C71: MATEO | D71: ARROYAVE ACOSTA | E71: 1232802768 | F71: 43034 | G71: 2017 | H71: =IF(Tabla110[[#This Row],[FECHA DE NACIMIENTO]]="","",YEAR(NOW())-Tabla110[[#This Row],[FECHA DE NACIMIENTO]]) -> 9 | I71: MINIRIDERS | J71: =VLOOKUP(I71,NH,2,0) -> E | K71: =Tabla110[[#This Row],[FECHA DE NACIMIENTO]]&J71 -> 2017E | L71: =IFERROR(VLOOKUP(K71,CATEGORIAS,2,0),"") -> MINIRIDERS 9 Y 10 AÑOS | M71: BMX RIDERS BUGA | N71: 78 | O71: =IFERROR(VLOOKUP(Tabla110[[#This Row],[NIVEL DE HABILIDAD]],CATEGORIAS!$M$3:$O$13,2,FALSE),"") -> 85000
B72: 79 | C72: NICOLAS | D72: ARROYAVE ACOSTA | E72: 1232809992 | F72: 43740 | G72: 2019 | H72: =IF(Tabla110[[#This Row],[FECHA DE NACIMIENTO]]="","",YEAR(NOW())-Tabla110[[#This Row],[FECHA DE NACIMIENTO]]) -> 7 | I72: MINIRIDERS | J72: =VLOOKUP(I72,NH,2,0) -> E | K72: =Tabla110[[#This Row],[FECHA DE NACIMIENTO]]&J72 -> 2019E | L72: =IFERROR(VLOOKUP(K72,CATEGORIAS,2,0),"") -> MINIRIDERS 7 Y 8 AÑOS | M72: BMX RIDERS BUGA | N72: 79 | O72: =IFERROR(VLOOKUP(Tabla110[[#This Row],[NIVEL DE HABILIDAD]],CATEGORIAS!$M$3:$O$13,2,FALSE),"") -> 85000
B73: 80 | C73: DANTE | D73: LOZANO GONZALES | E73: 1112067267 | G73: 2019 | H73: =IF(Tabla110[[#This Row],[FECHA DE NACIMIENTO]]="","",YEAR(NOW())-Tabla110[[#This Row],[FECHA DE NACIMIENTO]]) -> 7 | I73: MINIRIDERS | J73: =VLOOKUP(I73,NH,2,0) -> E | K73: =Tabla110[[#This Row],[FECHA DE NACIMIENTO]]&J73 -> 2019E | L73: =IFERROR(VLOOKUP(K73,CATEGORIAS,2,0),"") -> MINIRIDERS 7 Y 8 AÑOS | M73: CICLON BMX | N73: 80 | O73: =IFERROR(VLOOKUP(Tabla110[[#This Row],[NIVEL DE HABILIDAD]],CATEGORIAS!$M$3:$O$13,2,FALSE),"") -> 85000
B74: 81 | C74: ISAAC | D74: CONDE HINCAPIE | E74: 1232803224 | G74: 2017 | H74: =IF(Tabla110[[#This Row],[FECHA DE NACIMIENTO]]="","",YEAR(NOW())-Tabla110[[#This Row],[FECHA DE NACIMIENTO]]) -> 9 | I74: MINIRIDERS | J74: =VLOOKUP(I74,NH,2,0) -> E | K74: =Tabla110[[#This Row],[FECHA DE NACIMIENTO]]&J74 -> 2017E | L74: =IFERROR(VLOOKUP(K74,CATEGORIAS,2,0),"") -> MINIRIDERS 9 Y 10 AÑOS | M74: CICLON BMX | N74: 81 | O74: =IFERROR(VLOOKUP(Tabla110[[#This Row],[NIVEL DE HABILIDAD]],CATEGORIAS!$M$3:$O$13,2,FALSE),"") -> 85000
B75: 82 | C75: JACOBO | D75: ARISTIZABAL MUÑOZ | E75: 1108259157 | G75: 2017 | H75: =IF(Tabla110[[#This Row],[FECHA DE NACIMIENTO]]="","",YEAR(NOW())-Tabla110[[#This Row],[FECHA DE NACIMIENTO]]) -> 9 | I75: MINIRIDERS | J75: =VLOOKUP(I75,NH,2,0) -> E | K75: =Tabla110[[#This Row],[FECHA DE NACIMIENTO]]&J75 -> 2017E | L75: =IFERROR(VLOOKUP(K75,CATEGORIAS,2,0),"") -> MINIRIDERS 9 Y 10 AÑOS | M75: CICLON BMX | N75: 82 | O75: =IFERROR(VLOOKUP(Tabla110[[#This Row],[NIVEL DE HABILIDAD]],CATEGORIAS!$M$3:$O$13,2,FALSE),"") -> 85000
B76: 83 | C76: JUAN MARTÍN | D76: GIRALDO REYES | E76: 1109685223 | G76: 2018 | H76: =IF(Tabla110[[#This Row],[FECHA DE NACIMIENTO]]="","",YEAR(NOW())-Tabla110[[#This Row],[FECHA DE NACIMIENTO]]) -> 8 | I76: PRINCIPIANTES | J76: =VLOOKUP(I76,NH,2,0) -> P | K76: =Tabla110[[#This Row],[FECHA DE NACIMIENTO]]&J76 -> 2018P | L76: =IFERROR(VLOOKUP(K76,CATEGORIAS,2,0),"") -> PRINCIPIANTES 7 Y 8 AÑOS | M76: CICLON BMX | N76: 83 | O76: =IFERROR(VLOOKUP(Tabla110[[#This Row],[NIVEL DE HABILIDAD]],CATEGORIAS!$M$3:$O$13,2,FALSE),"") -> 85000
B77: 84 | C77: MATEO | D77: TRUJILLO IDARRAGA | E77: 1104841870 | G77: 2017 | H77: =IF(Tabla110[[#This Row],[FECHA DE NACIMIENTO]]="","",YEAR(NOW())-Tabla110[[#This Row],[FECHA DE NACIMIENTO]]) -> 9 | I77: MINIRIDERS | J77: =VLOOKUP(I77,NH,2,0) -> E | K77: =Tabla110[[#This Row],[FECHA DE NACIMIENTO]]&J77 -> 2017E | L77: =IFERROR(VLOOKUP(K77,CATEGORIAS,2,0),"") -> MINIRIDERS 9 Y 10 AÑOS | M77: CICLON BMX | N77: 84 | O77: =IFERROR(VLOOKUP(Tabla110[[#This Row],[NIVEL DE HABILIDAD]],CATEGORIAS!$M$3:$O$13,2,FALSE),"") -> 85000 | Q77: LEOPARDO
B78: 85 | C78: TOMAS | D78: ARANGO CAICEDO | E78: 1232807736 | G78: 2019 | H78: =IF(Tabla110[[#This Row],[FECHA DE NACIMIENTO]]="","",YEAR(NOW())-Tabla110[[#This Row],[FECHA DE NACIMIENTO]]) -> 7 | I78: MINIRIDERS | J78: =VLOOKUP(I78,NH,2,0) -> E | K78: =Tabla110[[#This Row],[FECHA DE NACIMIENTO]]&J78 -> 2019E | L78: =IFERROR(VLOOKUP(K78,CATEGORIAS,2,0),"") -> MINIRIDERS 7 Y 8 AÑOS | M78: CICLON BMX | N78: 85 | O78: =IFERROR(VLOOKUP(Tabla110[[#This Row],[NIVEL DE HABILIDAD]],CATEGORIAS!$M$3:$O$13,2,FALSE),"") -> 85000
B79: 86 | C79: MAILEN | D79: GONZALEZ SEPULVEDA | E79: 1.116.382.670 | G79: 2020 | H79: =IF(Tabla110[[#This Row],[FECHA DE NACIMIENTO]]="","",YEAR(NOW())-Tabla110[[#This Row],[FECHA DE NACIMIENTO]]) -> 6 | I79: PRINCIPIANTES | J79: =VLOOKUP(I79,NH,2,0) -> P | K79: =Tabla110[[#This Row],[FECHA DE NACIMIENTO]]&J79 -> 2020P | L79: =IFERROR(VLOOKUP(K79,CATEGORIAS,2,0),"") -> PRINCIPIANTES 6 AÑOS Y MENOS | M79: YUMBIKE | N79: 86 | O79: =IFERROR(VLOOKUP(Tabla110[[#This Row],[NIVEL DE HABILIDAD]],CATEGORIAS!$M$3:$O$13,2,FALSE),"") -> 85000
B80: 87 | C80: GUADALUPE | D80: CORTES | E80: 1144111488 | F80: 43837 | G80: 2020 | H80: =IF(Tabla110[[#This Row],[FECHA DE NACIMIENTO]]="","",YEAR(NOW())-Tabla110[[#This Row],[FECHA DE NACIMIENTO]]) -> 6 | I80: MINIRIDERS | J80: =VLOOKUP(I80,NH,2,0) -> E | K80: =Tabla110[[#This Row],[FECHA DE NACIMIENTO]]&J80 -> 2020E | L80: =IFERROR(VLOOKUP(K80,CATEGORIAS,2,0),"") -> MINIRIDERS 6 AÑOS | M80: PRO RIDERS | N80: 87 | O80: =IFERROR(VLOOKUP(Tabla110[[#This Row],[NIVEL DE HABILIDAD]],CATEGORIAS!$M$3:$O$13,2,FALSE),"") -> 85000
B81: 88 | C81: MATTHEW YAHEL | D81: VARELA | E81: 1232812973 | F81: 44011 | G81: 2020 | H81: =IF(Tabla110[[#This Row],[FECHA DE NACIMIENTO]]="","",YEAR(NOW())-Tabla110[[#This Row],[FECHA DE NACIMIENTO]]) -> 6 | I81: MINIRIDERS | J81: =VLOOKUP(I81,NH,2,0) -> E | K81: =Tabla110[[#This Row],[FECHA DE NACIMIENTO]]&J81 -> 2020E | L81: =IFERROR(VLOOKUP(K81,CATEGORIAS,2,0),"") -> MINIRIDERS 6 AÑOS | M81: PRO RIDERS | N81: 88 | O81: =IFERROR(VLOOKUP(Tabla110[[#This Row],[NIVEL DE HABILIDAD]],CATEGORIAS!$M$3:$O$13,2,FALSE),"") -> 85000
B82: 89 | C82: MAXIMO | D82: GALLARDO | E82: 1232817079 | G82: 2021 | H82: =IF(Tabla110[[#This Row],[FECHA DE NACIMIENTO]]="","",YEAR(NOW())-Tabla110[[#This Row],[FECHA DE NACIMIENTO]]) -> 5 | I82: STRIDERS | J82: =VLOOKUP(I82,NH,2,0) -> S | K82: =Tabla110[[#This Row],[FECHA DE NACIMIENTO]]&J82 -> 2021S | L82: =IFERROR(VLOOKUP(K82,CATEGORIAS,2,0),"") -> STRIDERS 5 AÑOS | M82: PRO RIDERS | N82: 89 | O82: =IFERROR(VLOOKUP(Tabla110[[#This Row],[NIVEL DE HABILIDAD]],CATEGORIAS!$M$3:$O$13,2,FALSE),"") -> 85000 | Q82: LA FLECHA LUPITA
B83: 90 | C83: GERONIMO | D83: MOLINA | E83: 1150695921 | G83: 2020 | H83: =IF(Tabla110[[#This Row],[FECHA DE NACIMIENTO]]="","",YEAR(NOW())-Tabla110[[#This Row],[FECHA DE NACIMIENTO]]) -> 6 | I83: MINIRIDERS | J83: =VLOOKUP(I83,NH,2,0) -> E | K83: =Tabla110[[#This Row],[FECHA DE NACIMIENTO]]&J83 -> 2020E | L83: =IFERROR(VLOOKUP(K83,CATEGORIAS,2,0),"") -> MINIRIDERS 6 AÑOS | M83: PRO RIDERS | N83: 90 | O83: =IFERROR(VLOOKUP(Tabla110[[#This Row],[NIVEL DE HABILIDAD]],CATEGORIAS!$M$3:$O$13,2,FALSE),"") -> 85000
B84: 91 | C84: JOSÉ DAVID | D84: GUZMAN | E84: 1232813514 | G84: 2020 | H84: =IF(Tabla110[[#This Row],[FECHA DE NACIMIENTO]]="","",YEAR(NOW())-Tabla110[[#This Row],[FECHA DE NACIMIENTO]]) -> 6 | I84: MINIRIDERS | J84: =VLOOKUP(I84,NH,2,0) -> E | K84: =Tabla110[[#This Row],[FECHA DE NACIMIENTO]]&J84 -> 2020E | L84: =IFERROR(VLOOKUP(K84,CATEGORIAS,2,0),"") -> MINIRIDERS 6 AÑOS | M84: PRO RIDERS | N84: 91 | O84: =IFERROR(VLOOKUP(Tabla110[[#This Row],[NIVEL DE HABILIDAD]],CATEGORIAS!$M$3:$O$13,2,FALSE),"") -> 85000
B85: 92 | C85: THIAGO | D85: VARELA | E85: 1111488099 | G85: 2020 | H85: =IF(Tabla110[[#This Row],[FECHA DE NACIMIENTO]]="","",YEAR(NOW())-Tabla110[[#This Row],[FECHA DE NACIMIENTO]]) -> 6 | I85: MINIRIDERS | J85: =VLOOKUP(I85,NH,2,0) -> E | K85: =Tabla110[[#This Row],[FECHA DE NACIMIENTO]]&J85 -> 2020E | L85: =IFERROR(VLOOKUP(K85,CATEGORIAS,2,0),"") -> MINIRIDERS 6 AÑOS | M85: PRO RIDERS | N85: 92 | O85: =IFERROR(VLOOKUP(Tabla110[[#This Row],[NIVEL DE HABILIDAD]],CATEGORIAS!$M$3:$O$13,2,FALSE),"") -> 85000
B86: 93 | C86: EMILIANO | D86: PEREZ | E86: 1232816153 | G86: 2021 | H86: =IF(Tabla110[[#This Row],[FECHA DE NACIMIENTO]]="","",YEAR(NOW())-Tabla110[[#This Row],[FECHA DE NACIMIENTO]]) -> 5 | I86: STRIDERS | J86: =VLOOKUP(I86,NH,2,0) -> S | K86: =Tabla110[[#This Row],[FECHA DE NACIMIENTO]]&J86 -> 2021S | L86: =IFERROR(VLOOKUP(K86,CATEGORIAS,2,0),"") -> STRIDERS 5 AÑOS | M86: PRO RIDERS | N86: 93 | O86: =IFERROR(VLOOKUP(Tabla110[[#This Row],[NIVEL DE HABILIDAD]],CATEGORIAS!$M$3:$O$13,2,FALSE),"") -> 85000
B87: 94 | C87: GABRIEL | D87: TRUJILLO | E87: 1232816122 | G87: 2021 | H87: =IF(Tabla110[[#This Row],[FECHA DE NACIMIENTO]]="","",YEAR(NOW())-Tabla110[[#This Row],[FECHA DE NACIMIENTO]]) -> 5 | I87: STRIDERS | J87: =VLOOKUP(I87,NH,2,0) -> S | K87: =Tabla110[[#This Row],[FECHA DE NACIMIENTO]]&J87 -> 2021S | L87: =IFERROR(VLOOKUP(K87,CATEGORIAS,2,0),"") -> STRIDERS 5 AÑOS | M87: PRO RIDERS | N87: 94 | O87: =IFERROR(VLOOKUP(Tabla110[[#This Row],[NIVEL DE HABILIDAD]],CATEGORIAS!$M$3:$O$13,2,FALSE),"") -> 85000
B88: 95 | C88: VALENTINO | D88: LÓPEZ | E88: 1232814442 | F88: 44151 | G88: 2020 | H88: =IF(Tabla110[[#This Row],[FECHA DE NACIMIENTO]]="","",YEAR(NOW())-Tabla110[[#This Row],[FECHA DE NACIMIENTO]]) -> 6 | I88: MINIRIDERS | J88: =VLOOKUP(I88,NH,2,0) -> E | K88: =Tabla110[[#This Row],[FECHA DE NACIMIENTO]]&J88 -> 2020E | L88: =IFERROR(VLOOKUP(K88,CATEGORIAS,2,0),"") -> MINIRIDERS 6 AÑOS | M88: PRO RIDERS | N88: 95 | O88: =IFERROR(VLOOKUP(Tabla110[[#This Row],[NIVEL DE HABILIDAD]],CATEGORIAS!$M$3:$O$13,2,FALSE),"") -> 85000
B89: 96 | C89: JULIETA | D89: TACUMA | E89: 1232813006 | G89: 2020 | H89: =IF(Tabla110[[#This Row],[FECHA DE NACIMIENTO]]="","",YEAR(NOW())-Tabla110[[#This Row],[FECHA DE NACIMIENTO]]) -> 6 | I89: MINIRIDERS | J89: =VLOOKUP(I89,NH,2,0) -> E | K89: =Tabla110[[#This Row],[FECHA DE NACIMIENTO]]&J89 -> 2020E | L89: =IFERROR(VLOOKUP(K89,CATEGORIAS,2,0),"") -> MINIRIDERS 6 AÑOS | M89: PRO RIDERS | N89: 96 | O89: =IFERROR(VLOOKUP(Tabla110[[#This Row],[NIVEL DE HABILIDAD]],CATEGORIAS!$M$3:$O$13,2,FALSE),"") -> 85000
B90: 97 | C90: JUAN MARTÍN | D90: MUÑOZ | E90: 1109566887 | F90: 43468 | G90: 2019 | H90: =IF(Tabla110[[#This Row],[FECHA DE NACIMIENTO]]="","",YEAR(NOW())-Tabla110[[#This Row],[FECHA DE NACIMIENTO]]) -> 7 | I90: PRINCIPIANTES | J90: =VLOOKUP(I90,NH,2,0) -> P | K90: =Tabla110[[#This Row],[FECHA DE NACIMIENTO]]&J90 -> 2019P | L90: =IFERROR(VLOOKUP(K90,CATEGORIAS,2,0),"") -> PRINCIPIANTES 7 Y 8 AÑOS | M90: PRO RIDERS | N90: 97 | O90: =IFERROR(VLOOKUP(Tabla110[[#This Row],[NIVEL DE HABILIDAD]],CATEGORIAS!$M$3:$O$13,2,FALSE),"") -> 85000
B91: 98 | C91: ALEJANDRO | D91: BENITEZ | E91: 1232810736 | F91: 43811 | G91: 2019 | H91: =IF(Tabla110[[#This Row],[FECHA DE NACIMIENTO]]="","",YEAR(NOW())-Tabla110[[#This Row],[FECHA DE NACIMIENTO]]) -> 7 | I91: PRINCIPIANTES | J91: =VLOOKUP(I91,NH,2,0) -> P | K91: =Tabla110[[#This Row],[FECHA DE NACIMIENTO]]&J91 -> 2019P | L91: =IFERROR(VLOOKUP(K91,CATEGORIAS,2,0),"") -> PRINCIPIANTES 7 Y 8 AÑOS | M91: PRO RIDERS | N91: 98 | O91: =IFERROR(VLOOKUP(Tabla110[[#This Row],[NIVEL DE HABILIDAD]],CATEGORIAS!$M$3:$O$13,2,FALSE),"") -> 85000 | Q91: LA GATA VELOZ
B92: 99 | C92: MARTÍN | D92: VALENCIA GRAFFE | E92: 1109567753 | F92: 43733 | G92: 2019 | H92: =IF(Tabla110[[#This Row],[FECHA DE NACIMIENTO]]="","",YEAR(NOW())-Tabla110[[#This Row],[FECHA DE NACIMIENTO]]) -> 7 | I92: PRINCIPIANTES | J92: =VLOOKUP(I92,NH,2,0) -> P | K92: =Tabla110[[#This Row],[FECHA DE NACIMIENTO]]&J92 -> 2019P | L92: =IFERROR(VLOOKUP(K92,CATEGORIAS,2,0),"") -> PRINCIPIANTES 7 Y 8 AÑOS | M92: PRO RIDERS | N92: 99 | O92: =IFERROR(VLOOKUP(Tabla110[[#This Row],[NIVEL DE HABILIDAD]],CATEGORIAS!$M$3:$O$13,2,FALSE),"") -> 85000
B93: 100 | C93: ISAAC | D93: MEDINILLO | E93: 1108259825 | F93: 43364 | G93: 2018 | H93: =IF(Tabla110[[#This Row],[FECHA DE NACIMIENTO]]="","",YEAR(NOW())-Tabla110[[#This Row],[FECHA DE NACIMIENTO]]) -> 8 | I93: PRINCIPIANTES | J93: =VLOOKUP(I93,NH,2,0) -> P | K93: =Tabla110[[#This Row],[FECHA DE NACIMIENTO]]&J93 -> 2018P | L93: =IFERROR(VLOOKUP(K93,CATEGORIAS,2,0),"") -> PRINCIPIANTES 7 Y 8 AÑOS | M93: PRO RIDERS | N93: 100 | O93: =IFERROR(VLOOKUP(Tabla110[[#This Row],[NIVEL DE HABILIDAD]],CATEGORIAS!$M$3:$O$13,2,FALSE),"") -> 85000
B94: 101 | C94: JUAN JOSE | D94: LOPEZ | E94: 1110376811 | F94: 42425 | G94: 2016 | H94: =IF(Tabla110[[#This Row],[FECHA DE NACIMIENTO]]="","",YEAR(NOW())-Tabla110[[#This Row],[FECHA DE NACIMIENTO]]) -> 10 | I94: PRINCIPIANTES | J94: =VLOOKUP(I94,NH,2,0) -> P | K94: =Tabla110[[#This Row],[FECHA DE NACIMIENTO]]&J94 -> 2016P | L94: =IFERROR(VLOOKUP(K94,CATEGORIAS,2,0),"") -> PRINCIPIANTES 9 Y 10 AÑOS | M94: PRO RIDERS | N94: 101 | O94: =IFERROR(VLOOKUP(Tabla110[[#This Row],[NIVEL DE HABILIDAD]],CATEGORIAS!$M$3:$O$13,2,FALSE),"") -> 85000
B95: 102 | C95: JACOB | D95: CABRERA | E95: 1106524594 | F95: 43873 | G95: 2020 | H95: =IF(Tabla110[[#This Row],[FECHA DE NACIMIENTO]]="","",YEAR(NOW())-Tabla110[[#This Row],[FECHA DE NACIMIENTO]]) -> 6 | I95: PRINCIPIANTES | J95: =VLOOKUP(I95,NH,2,0) -> P | K95: =Tabla110[[#This Row],[FECHA DE NACIMIENTO]]&J95 -> 2020P | L95: =IFERROR(VLOOKUP(K95,CATEGORIAS,2,0),"") -> PRINCIPIANTES 6 AÑOS Y MENOS | M95: PRO RIDERS | N95: 102 | O95: =IFERROR(VLOOKUP(Tabla110[[#This Row],[NIVEL DE HABILIDAD]],CATEGORIAS!$M$3:$O$13,2,FALSE),"") -> 85000
B96: 103 | C96: DIEGO | D96: JIMENEZ | E96: 1149941670 | G96: 2018 | H96: =IF(Tabla110[[#This Row],[FECHA DE NACIMIENTO]]="","",YEAR(NOW())-Tabla110[[#This Row],[FECHA DE NACIMIENTO]]) -> 8 | I96: PRINCIPIANTES | J96: =VLOOKUP(I96,NH,2,0) -> P | K96: =Tabla110[[#This Row],[FECHA DE NACIMIENTO]]&J96 -> 2018P | L96: =IFERROR(VLOOKUP(K96,CATEGORIAS,2,0),"") -> PRINCIPIANTES 7 Y 8 AÑOS | M96: PRO RIDERS | N96: 103 | O96: =IFERROR(VLOOKUP(Tabla110[[#This Row],[NIVEL DE HABILIDAD]],CATEGORIAS!$M$3:$O$13,2,FALSE),"") -> 85000
B97: 104 | C97: JUAN SEBASTIÁN | D97: CHAMORRO MORENO | E97: 1112062020 | F97: 42402 | G97: 2016 | H97: =IF(Tabla110[[#This Row],[FECHA DE NACIMIENTO]]="","",YEAR(NOW())-Tabla110[[#This Row],[FECHA DE NACIMIENTO]]) -> 10 | I97: PRINCIPIANTES | J97: =VLOOKUP(I97,NH,2,0) -> P | K97: =Tabla110[[#This Row],[FECHA DE NACIMIENTO]]&J97 -> 2016P | L97: =IFERROR(VLOOKUP(K97,CATEGORIAS,2,0),"") -> PRINCIPIANTES 9 Y 10 AÑOS | M97: XTREME RACING | N97: 104 | O97: =IFERROR(VLOOKUP(Tabla110[[#This Row],[NIVEL DE HABILIDAD]],CATEGORIAS!$M$3:$O$13,2,FALSE),"") -> 85000
B98: 105 | C98: KWETH YU | D98: GUETIO ÑUSCUE | E98: 1063819176 | F98: 43856 | G98: 2020 | H98: =IF(Tabla110[[#This Row],[FECHA DE NACIMIENTO]]="","",YEAR(NOW())-Tabla110[[#This Row],[FECHA DE NACIMIENTO]]) -> 6 | I98: PRINCIPIANTES | J98: =VLOOKUP(I98,NH,2,0) -> P | K98: =Tabla110[[#This Row],[FECHA DE NACIMIENTO]]&J98 -> 2020P | L98: =IFERROR(VLOOKUP(K98,CATEGORIAS,2,0),"") -> PRINCIPIANTES 6 AÑOS Y MENOS | M98: RACING CAUCA | N98: 105 | O98: =IFERROR(VLOOKUP(Tabla110[[#This Row],[NIVEL DE HABILIDAD]],CATEGORIAS!$M$3:$O$13,2,FALSE),"") -> 85000
B99: 106 | C99: JERONIMO | D99: CAMPO CUBIDES | E99: 1166466694 | F99: 42543 | G99: 2016 | H99: =IF(Tabla110[[#This Row],[FECHA DE NACIMIENTO]]="","",YEAR(NOW())-Tabla110[[#This Row],[FECHA DE NACIMIENTO]]) -> 10 | I99: PRINCIPIANTES | J99: =VLOOKUP(I99,NH,2,0) -> P | K99: =Tabla110[[#This Row],[FECHA DE NACIMIENTO]]&J99 -> 2016P | L99: =IFERROR(VLOOKUP(K99,CATEGORIAS,2,0),"") -> PRINCIPIANTES 9 Y 10 AÑOS | M99: REAL RIDERS POPAYAN | N99: 106 | O99: =IFERROR(VLOOKUP(Tabla110[[#This Row],[NIVEL DE HABILIDAD]],CATEGORIAS!$M$3:$O$13,2,FALSE),"") -> 85000
B100: 107 | C100: MATIAS | D100: BUITRAGO COUTIN | E100: 1104844980 | G100: 2019 | H100: =IF(Tabla110[[#This Row],[FECHA DE NACIMIENTO]]="","",YEAR(NOW())-Tabla110[[#This Row],[FECHA DE NACIMIENTO]]) -> 7 | I100: MINIRIDERS | J100: =VLOOKUP(I100,NH,2,0) -> E | K100: =Tabla110[[#This Row],[FECHA DE NACIMIENTO]]&J100 -> 2019E | L100: =IFERROR(VLOOKUP(K100,CATEGORIAS,2,0),"") -> MINIRIDERS 7 Y 8 AÑOS | M100: PRO RIDERS | N100: 107 | O100: =IFERROR(VLOOKUP(Tabla110[[#This Row],[NIVEL DE HABILIDAD]],CATEGORIAS!$M$3:$O$13,2,FALSE),"") -> 85000 | Q100: EL GATO KWETH YU
...

Sheet BASE DE DATOS 2025
B1: SUPERCOPA 2025 - BASE DE DATOS
B2: ID | C2: NOMBRES | D2: APELLIDOS | E2: DOCUMENTO IDENTIDAD | F2: SEXO | G2: FECHA DE NACIMIENTO | H2: EDAD | I2: NIVEL DE HABILIDAD | J2: SNH | K2: SCAT | L2: CATEGORIA | M2: CLUB | N2: TABLERO | O2: VALOR INSCRIPCION | P2: OBSERVACIONES | Q2: NACIONALES
A3: =_xlfn.IFNA(_xlfn.XLOOKUP(Tabla1[[#This Row],[ID]],'BASE DE DATOS 2026'!$B$3:$B$554,'BASE DE DATOS 2026'!$N$3:$N$554),"") -> 10 | B3: 10 | C3: MATIAS | D3: FORERO ALDANA | E3: 1010849944 | G3: 2021 | H3: =IF(Tabla1[[#This Row],[FECHA DE NACIMIENTO]]="","",YEAR(NOW())-Tabla1[[#This Row],[FECHA DE NACIMIENTO]]) -> 5 | I3: STRIDERS | J3: =VLOOKUP(I3,NH,2,0) -> S | K3: =Tabla1[[#This Row],[FECHA DE NACIMIENTO]]&J3 -> 2021S | L3: =IFERROR(VLOOKUP(K3,CATEGORIAS,2,0),"") -> STRIDERS 5 AÑOS | M3: CHAMPIONS TEAM | N3: 10 | O3: =IFERROR(VLOOKUP(Tabla1[[#This Row],[NIVEL DE HABILIDAD]],CATEGORIAS!$M$3:$O$13,2,FALSE),"") -> 85000
A4: =_xlfn.IFNA(_xlfn.XLOOKUP(Tabla1[[#This Row],[ID]],'BASE DE DATOS 2026'!$B$3:$B$554,'BASE DE DATOS 2026'!$N$3:$N$554),"") | B4: 11 | C4: ANTONY | D4: GALICIA CLAROS | E4: 1144321051 | G4: 2021 | H4: =IF(Tabla1[[#This Row],[FECHA DE NACIMIENTO]]="","",YEAR(NOW())-Tabla1[[#This Row],[FECHA DE NACIMIENTO]]) -> 5 | I4: STRIDERS | J4: =VLOOKUP(I4,NH,2,0) -> S | K4: =Tabla1[[#This Row],[FECHA DE NACIMIENTO]]&J4 -> 2021S | L4: =IFERROR(VLOOKUP(K4,CATEGORIAS,2,0),"") -> STRIDERS 5 AÑOS | M4: BMX ATTACK | N4: 11 | O4: =IFERROR(VLOOKUP(Tabla1[[#This Row],[NIVEL DE HABILIDAD]],CATEGORIAS!$M$3:$O$13,2,FALSE),"") -> 85000
A5: =_xlfn.IFNA(_xlfn.XLOOKUP(Tabla1[[#This Row],[ID]],'BASE DE DATOS 2026'!$B$3:$B$554,'BASE DE DATOS 2026'!$N$3:$N$554),"") | B5: 12 | C5: LUCIANO | D5: LASSO STERLING | E5: 1114249418 | G5: 2020 | H5: =IF(Tabla1[[#This Row],[FECHA DE NACIMIENTO]]="","",YEAR(NOW())-Tabla1[[#This Row],[FECHA DE NACIMIENTO]]) -> 6 | I5: MINIRIDERS | J5: =VLOOKUP(I5,NH,2,0) -> E | K5: =Tabla1[[#This Row],[FECHA DE NACIMIENTO]]&J5 -> 2020E | L5: =IFERROR(VLOOKUP(K5,CATEGORIAS,2,0),"") -> MINIRIDERS 6 AÑOS | M5: BMX PALMIRA | N5: 12 | O5: =IFERROR(VLOOKUP(Tabla1[[#This Row],[NIVEL DE HABILIDAD]],CATEGORIAS!$M$3:$O$13,2,FALSE),"") -> 85000
A6: =_xlfn.IFNA(_xlfn.XLOOKUP(Tabla1[[#This Row],[ID]],'BASE DE DATOS 2026'!$B$3:$B$554,'BASE DE DATOS 2026'!$N$3:$N$554),"") -> 13 | B6: 13 | C6: CHARLOTTE VALENTINA | D6: BELALCAZAR OSORIO | E6: 1144112260 | G6: 2021 | H6: =IF(Tabla1[[#This Row],[FECHA DE NACIMIENTO]]="","",YEAR(NOW())-Tabla1[[#This Row],[FECHA DE NACIMIENTO]]) -> 5 | I6: STRIDERS | J6: =VLOOKUP(I6,NH,2,0) -> S | K6: =Tabla1[[#This Row],[FECHA DE NACIMIENTO]]&J6 -> 2021S | L6: =IFERROR(VLOOKUP(K6,CATEGORIAS,2,0),"") -> STRIDERS 5 AÑOS | M6: SHAKA RACING | N6: 13 | O6: =IFERROR(VLOOKUP(Tabla1[[#This Row],[NIVEL DE HABILIDAD]],CATEGORIAS!$M$3:$O$13,2,FALSE),"") -> 85000
A7: =_xlfn.IFNA(_xlfn.XLOOKUP(Tabla1[[#This Row],[ID]],'BASE DE DATOS 2026'!$B$3:$B$554,'BASE DE DATOS 2026'!$N$3:$N$554),"") -> 14 | B7: 14 | C7: MAXIMILIANO | D7: HOYOS TORO | E7: 1059251369 | G7: 2021 | H7: =IF(Tabla1[[#This Row],[FECHA DE NACIMIENTO]]="","",YEAR(NOW())-Tabla1[[#This Row],[FECHA DE NACIMIENTO]]) -> 5 | I7: STRIDERS | J7: =VLOOKUP(I7,NH,2,0) -> S | K7: =Tabla1[[#This Row],[FECHA DE NACIMIENTO]]&J7 -> 2021S | L7: =IFERROR(VLOOKUP(K7,CATEGORIAS,2,0),"") -> STRIDERS 5 AÑOS | M7: REAL RIDERS POPAYAN | N7: 14 | O7: =IFERROR(VLOOKUP(Tabla1[[#This Row],[NIVEL DE HABILIDAD]],CATEGORIAS!$M$3:$O$13,2,FALSE),"") -> 85000 | Q7: LA PULGUITA HOYOS
A8: =_xlfn.IFNA(_xlfn.XLOOKUP(Tabla1[[#This Row],[ID]],'BASE DE DATOS 2026'!$B$3:$B$554,'BASE DE DATOS 2026'!$N$3:$N$554),"") -> 15 | B8: 15 | C8: EZEQUIEL | D8: ALVARADO ASTORQUIZA | E8: 1059250630 | G8: 2020 | H8: =IF(Tabla1[[#This Row],[FECHA DE NACIMIENTO]]="","",YEAR(NOW())-Tabla1[[#This Row],[FECHA DE NACIMIENTO]]) -> 6 | I8: MINIRIDERS | J8: =VLOOKUP(I8,NH,2,0) -> E | K8: =Tabla1[[#This Row],[FECHA DE NACIMIENTO]]&J8 -> 2020E | L8: =IFERROR(VLOOKUP(K8,CATEGORIAS,2,0),"") -> MINIRIDERS 6 AÑOS | M8: REAL RIDERS POPAYAN | N8: 15 | O8: =IFERROR(VLOOKUP(Tabla1[[#This Row],[NIVEL DE HABILIDAD]],CATEGORIAS!$M$3:$O$13,2,FALSE),"") -> 85000
A9: =_xlfn.IFNA(_xlfn.XLOOKUP(Tabla1[[#This Row],[ID]],'BASE DE DATOS 2026'!$B$3:$B$554,'BASE DE DATOS 2026'!$N$3:$N$554),"") -> 16 | B9: 16 | C9: LIAM SANTIAGO | D9: MORENO CHITO | E9: 1059251408 | G9: 2021 | H9: =IF(Tabla1[[#This Row],[FECHA DE NACIMIENTO]]="","",YEAR(NOW())-Tabla1[[#This Row],[FECHA DE NACIMIENTO]]) -> 5 | I9: STRIDERS | J9: =VLOOKUP(I9,NH,2,0) -> S | K9: =Tabla1[[#This Row],[FECHA DE NACIMIENTO]]&J9 -> 2021S | L9: =IFERROR(VLOOKUP(K9,CATEGORIAS,2,0),"") -> STRIDERS 5 AÑOS | M9: REAL RIDERS POPAYAN | N9: 16 | O9: =IFERROR(VLOOKUP(Tabla1[[#This Row],[NIVEL DE HABILIDAD]],CATEGORIAS!$M$3:$O$13,2,FALSE),"") -> 85000 | Q9: EL MONO DEL CAUCA
A10: =_xlfn.IFNA(_xlfn.XLOOKUP(Tabla1[[#This Row],[ID]],'BASE DE DATOS 2026'!$B$3:$B$554,'BASE DE DATOS 2026'!$N$3:$N$554),"") -> 17 | B10: 17 | C10: JOSUÉ ALEXANDER | D10: MONTOYA OROZCO | E10: 1232812815 | G10: 2020 | H10: =IF(Tabla1[[#This Row],[FECHA DE NACIMIENTO]]="","",YEAR(NOW())-Tabla1[[#This Row],[FECHA DE NACIMIENTO]]) -> 6 | I10: MINIRIDERS | J10: =VLOOKUP(I10,NH,2,0) -> E | K10: =Tabla1[[#This Row],[FECHA DE NACIMIENTO]]&J10 -> 2020E | L10: =IFERROR(VLOOKUP(K10,CATEGORIAS,2,0),"") -> MINIRIDERS 6 AÑOS | M10: XTREMO BMX | N10: 17 | O10: =IFERROR(VLOOKUP(Tabla1[[#This Row],[NIVEL DE HABILIDAD]],CATEGORIAS!$M$3:$O$13,2,FALSE),"") -> 85000 | Q10: EL MONO
A11: =_xlfn.IFNA(_xlfn.XLOOKUP(Tabla1[[#This Row],[ID]],'BASE DE DATOS 2026'!$B$3:$B$554,'BASE DE DATOS 2026'!$N$3:$N$554),"") -> 18 | B11: 18 | C11: VALENTINO | D11: VALENCIA BETANCOURT | E11: 1111572364 | G11: 2021 | H11: =IF(Tabla1[[#This Row],[FECHA DE NACIMIENTO]]="","",YEAR(NOW())-Tabla1[[#This Row],[FECHA DE NACIMIENTO]]) -> 5 | I11: STRIDERS | J11: =VLOOKUP(I11,NH,2,0) -> S | K11: =Tabla1[[#This Row],[FECHA DE NACIMIENTO]]&J11 -> 2021S | L11: =IFERROR(VLOOKUP(K11,CATEGORIAS,2,0),"") -> STRIDERS 5 AÑOS | M11: XTREMO BMX | N11: 18 | O11: =IFERROR(VLOOKUP(Tabla1[[#This Row],[NIVEL DE HABILIDAD]],CATEGORIAS!$M$3:$O$13,2,FALSE),"") -> 85000
A12: =_xlfn.IFNA(_xlfn.XLOOKUP(Tabla1[[#This Row],[ID]],'BASE DE DATOS 2026'!$B$3:$B$554,'BASE DE DATOS 2026'!$N$3:$N$554),"") -> 19 | B12: 19 | C12: LIAM FELIPE | D12: QUIROZ ESCOBAR | E12: 1109569655 | G12: 2020 | H12: =IF(Tabla1[[#This Row],[FECHA DE NACIMIENTO]]="","",YEAR(NOW())-Tabla1[[#This Row],[FECHA DE NACIMIENTO]]) -> 6 | I12: MINIRIDERS | J12: =VLOOKUP(I12,NH,2,0) -> E | K12: =Tabla1[[#This Row],[FECHA DE NACIMIENTO]]&J12 -> 2020E | L12: =IFERROR(VLOOKUP(K12,CATEGORIAS,2,0),"") -> MINIRIDERS 6 AÑOS | M12: XTREMO BMX | N12: 19 | O12: =IFERROR(VLOOKUP(Tabla1[[#This Row],[NIVEL DE HABILIDAD]],CATEGORIAS!$M$3:$O$13,2,FALSE),"") -> 85000 | Q12: EL LEON QUIROZ
A13: =_xlfn.IFNA(_xlfn.XLOOKUP(Tabla1[[#This Row],[ID]],'BASE DE DATOS 2026'!$B$3:$B$554,'BASE DE DATOS 2026'!$N$3:$N$554),"") -> 20 | B13: 20 | C13: CAMILO | D13: CAMPO QUINTERO | E13: 1232810806 | G13: 2020 | H13: =IF(Tabla1[[#This Row],[FECHA DE NACIMIENTO]]="","",YEAR(NOW())-Tabla1[[#This Row],[FECHA DE NACIMIENTO]]) -> 6 | I13: MINIRIDERS | J13: =VLOOKUP(I13,NH,2,0) -> E | K13: =Tabla1[[#This Row],[FECHA DE NACIMIENTO]]&J13 -> 2020E | L13: =IFERROR(VLOOKUP(K13,CATEGORIAS,2,0),"") -> MINIRIDERS 6 AÑOS | M13: XTREMO BMX | N13: 20 | O13: =IFERROR(VLOOKUP(Tabla1[[#This Row],[NIVEL DE HABILIDAD]],CATEGORIAS!$M$3:$O$13,2,FALSE),"") -> 85000
A14: =_xlfn.IFNA(_xlfn.XLOOKUP(Tabla1[[#This Row],[ID]],'BASE DE DATOS 2026'!$B$3:$B$554,'BASE DE DATOS 2026'!$N$3:$N$554),"") -> 21 | B14: 21 | C14: MARTÍN | D14: CAMPO QUINTERO | E14: 1232810807 | G14: 2020 | H14: =IF(Tabla1[[#This Row],[FECHA DE NACIMIENTO]]="","",YEAR(NOW())-Tabla1[[#This Row],[FECHA DE NACIMIENTO]]) -> 6 | I14: MINIRIDERS | J14: =VLOOKUP(I14,NH,2,0) -> E | K14: =Tabla1[[#This Row],[FECHA DE NACIMIENTO]]&J14 -> 2020E | L14: =IFERROR(VLOOKUP(K14,CATEGORIAS,2,0),"") -> MINIRIDERS 6 AÑOS | M14: XTREMO BMX | N14: 21 | O14: =IFERROR(VLOOKUP(Tabla1[[#This Row],[NIVEL DE HABILIDAD]],CATEGORIAS!$M$3:$O$13,2,FALSE),"") -> 85000
A15: =_xlfn.IFNA(_xlfn.XLOOKUP(Tabla1[[#This Row],[ID]],'BASE DE DATOS 2026'!$B$3:$B$554,'BASE DE DATOS 2026'!$N$3:$N$554),"") -> 22 | B15: 22 | C15: SANTIAGO | D15: RAMIREZ CIFUENTES | E15: 1110379478 | G15: 2020 | H15: =IF(Tabla1[[#This Row],[FECHA DE NACIMIENTO]]="","",YEAR(NOW())-Tabla1[[#This Row],[FECHA DE NACIMIENTO]]) -> 6 | I15: MINIRIDERS | J15: =VLOOKUP(I15,NH,2,0) -> E | K15: =Tabla1[[#This Row],[FECHA DE NACIMIENTO]]&J15 -> 2020E | L15: =IFERROR(VLOOKUP(K15,CATEGORIAS,2,0),"") -> MINIRIDERS 6 AÑOS | M15: XTREMO BMX | N15: 22 | O15: =IFERROR(VLOOKUP(Tabla1[[#This Row],[NIVEL DE HABILIDAD]],CATEGORIAS!$M$3:$O$13,2,FALSE),"") -> 85000
A16: =_xlfn.IFNA(_xlfn.XLOOKUP(Tabla1[[#This Row],[ID]],'BASE DE DATOS 2026'!$B$3:$B$554,'BASE DE DATOS 2026'!$N$3:$N$554),"") -> 23 | B16: 23 | C16: JERÓNIMO | D16: PERALTA MORIANO | E16: 1109572622 | G16: 2021 | H16: =IF(Tabla1[[#This Row],[FECHA DE NACIMIENTO]]="","",YEAR(NOW())-Tabla1[[#This Row],[FECHA DE NACIMIENTO]]) -> 5 | I16: STRIDERS | J16: =VLOOKUP(I16,NH,2,0) -> S | K16: =Tabla1[[#This Row],[FECHA DE NACIMIENTO]]&J16 -> 2021S | L16: =IFERROR(VLOOKUP(K16,CATEGORIAS,2,0),"") -> STRIDERS 5 AÑOS | M16: XTREMO BMX | N16: 23 | O16: =IFERROR(VLOOKUP(Tabla1[[#This Row],[NIVEL DE HABILIDAD]],CATEGORIAS!$M$3:$O$13,2,FALSE),"") -> 85000
A17: =_xlfn.IFNA(_xlfn.XLOOKUP(Tabla1[[#This Row],[ID]],'BASE DE DATOS 2026'!$B$3:$B$554,'BASE DE DATOS 2026'!$N$3:$N$554),"") | B17: 24 | C17: JUAN ANTONIO | D17: LOAIZA MEJÍA | E17: 1232812077 | G17: 2020 | H17: =IF(Tabla1[[#This Row],[FECHA DE NACIMIENTO]]="","",YEAR(NOW())-Tabla1[[#This Row],[FECHA DE NACIMIENTO]]) -> 6 | I17: MINIRIDERS | J17: =VLOOKUP(I17,NH,2,0) -> E | K17: =Tabla1[[#This Row],[FECHA DE NACIMIENTO]]&J17 -> 2020E | L17: =IFERROR(VLOOKUP(K17,CATEGORIAS,2,0),"") -> MINIRIDERS 6 AÑOS | M17: XTREMO BMX | N17: 24 | O17: =IFERROR(VLOOKUP(Tabla1[[#This Row],[NIVEL DE HABILIDAD]],CATEGORIAS!$M$3:$O$13,2,FALSE),"") -> 85000
A18: =_xlfn.IFNA(_xlfn.XLOOKUP(Tabla1[[#This Row],[ID]],'BASE DE DATOS 2026'!$B$3:$B$554,'BASE DE DATOS 2026'!$N$3:$N$554),"") -> 25 | B18: 25 | C18: VALENTINO | D18: FRANCO MUÑOZ | E18: 1109569542 | G18: 2020 | H18: =IF(Tabla1[[#This Row],[FECHA DE NACIMIENTO]]="","",YEAR(NOW())-Tabla1[[#This Row],[FECHA DE NACIMIENTO]]) -> 6 | I18: MINIRIDERS | J18: =VLOOKUP(I18,NH,2,0) -> E | K18: =Tabla1[[#This Row],[FECHA DE NACIMIENTO]]&J18 -> 2020E | L18: =IFERROR(VLOOKUP(K18,CATEGORIAS,2,0),"") -> MINIRIDERS 6 AÑOS | M18: XTREMO BMX | N18: 25 | O18: =IFERROR(VLOOKUP(Tabla1[[#This Row],[NIVEL DE HABILIDAD]],CATEGORIAS!$M$3:$O$13,2,FALSE),"") -> 85000 | Q18: TIGRE FRANCO
A19: =_xlfn.IFNA(_xlfn.XLOOKUP(Tabla1[[#This Row],[ID]],'BASE DE DATOS 2026'!$B$3:$B$554,'BASE DE DATOS 2026'!$N$3:$N$554),"") -> 26 | B19: 26 | C19: LUCCA | D19: DIAZ DEL CHIARO | E19: 1232815236 | G19: 2021 | H19: =IF(Tabla1[[#This Row],[FECHA DE NACIMIENTO]]="","",YEAR(NOW())-Tabla1[[#This Row],[FECHA DE NACIMIENTO]]) -> 5 | I19: STRIDERS | J19: =VLOOKUP(I19,NH,2,0) -> S | K19: =Tabla1[[#This Row],[FECHA DE NACIMIENTO]]&J19 -> 2021S | L19: =IFERROR(VLOOKUP(K19,CATEGORIAS,2,0),"") -> STRIDERS 5 AÑOS | M19: XTREMO BMX | N19: 26 | O19: =IFERROR(VLOOKUP(Tabla1[[#This Row],[NIVEL DE HABILIDAD]],CATEGORIAS!$M$3:$O$13,2,FALSE),"") -> 85000
A20: =_xlfn.IFNA(_xlfn.XLOOKUP(Tabla1[[#This Row],[ID]],'BASE DE DATOS 2026'!$B$3:$B$554,'BASE DE DATOS 2026'!$N$3:$N$554),"") | B20: 27 | C20: KOHEMAN CABANI | D20: ZUÑIGA BERRIO | E20: 1063819685 | G20: 2021 | H20: =IF(Tabla1[[#This Row],[FECHA DE NACIMIENTO]]="","",YEAR(NOW())-Tabla1[[#This Row],[FECHA DE NACIMIENTO]]) -> 5 | I20: STRIDERS | J20: =VLOOKUP(I20,NH,2,0) -> S | K20: =Tabla1[[#This Row],[FECHA DE NACIMIENTO]]&J20 -> 2021S | L20: =IFERROR(VLOOKUP(K20,CATEGORIAS,2,0),"") -> STRIDERS 5 AÑOS | M20: DREAM TEAM BMX CAUCA | N20: 27 | O20: =IFERROR(VLOOKUP(Tabla1[[#This Row],[NIVEL DE HABILIDAD]],CATEGORIAS!$M$3:$O$13,2,FALSE),"") -> 85000
A21: =_xlfn.IFNA(_xlfn.XLOOKUP(Tabla1[[#This Row],[ID]],'BASE DE DATOS 2026'!$B$3:$B$554,'BASE DE DATOS 2026'!$N$3:$N$554),"") -> 28 | B21: 28 | C21: MAXIMILIANO | D21: MONTENEGRO RESTREPO | E21: 1058554558 | G21: 2021 | H21: =IF(Tabla1[[#This Row],[FECHA DE NACIMIENTO]]="","",YEAR(NOW())-Tabla1[[#This Row],[FECHA DE NACIMIENTO]]) -> 5 | I21: STRIDERS | J21: =VLOOKUP(I21,NH,2,0) -> S | K21: =Tabla1[[#This Row],[FECHA DE NACIMIENTO]]&J21 -> 2021S | L21: =IFERROR(VLOOKUP(K21,CATEGORIAS,2,0),"") -> STRIDERS 5 AÑOS | M21: CHAMPIONS FACTORY | N21: 28 | O21: =IFERROR(VLOOKUP(Tabla1[[#This Row],[NIVEL DE HABILIDAD]],CATEGORIAS!$M$3:$O$13,2,FALSE),"") -> 85000 | Q21: EL TORITO DEL CAUCA
A22: =_xlfn.IFNA(_xlfn.XLOOKUP(Tabla1[[#This Row],[ID]],'BASE DE DATOS 2026'!$B$3:$B$554,'BASE DE DATOS 2026'!$N$3:$N$554),"") | B22: 29 | C22: MARTIN | D22: ESCOBAR ORTIZ | E22: 1112164681 | G22: 2020 | H22: =IF(Tabla1[[#This Row],[FECHA DE NACIMIENTO]]="","",YEAR(NOW())-Tabla1[[#This Row],[FECHA DE NACIMIENTO]]) -> 6 | I22: MINIRIDERS | J22: =VLOOKUP(I22,NH,2,0) -> E | K22: =Tabla1[[#This Row],[FECHA DE NACIMIENTO]]&J22 -> 2020E | L22: =IFERROR(VLOOKUP(K22,CATEGORIAS,2,0),"") -> MINIRIDERS 6 AÑOS | M22: BMX RIDERS BUGA | N22: 29 | O22: =IFERROR(VLOOKUP(Tabla1[[#This Row],[NIVEL DE HABILIDAD]],CATEGORIAS!$M$3:$O$13,2,FALSE),"") -> 85000
A23: =_xlfn.IFNA(_xlfn.XLOOKUP(Tabla1[[#This Row],[ID]],'BASE DE DATOS 2026'!$B$3:$B$554,'BASE DE DATOS 2026'!$N$3:$N$554),"") -> 30 | B23: 30 | C23: AGUSTIN | D23: JARAMILLO GUEVARA | E23: 1109938537 | G23: 2020 | H23: =IF(Tabla1[[#This Row],[FECHA DE NACIMIENTO]]="","",YEAR(NOW())-Tabla1[[#This Row],[FECHA DE NACIMIENTO]]) -> 6 | I23: MINIRIDERS | J23: =VLOOKUP(I23,NH,2,0) -> E | K23: =Tabla1[[#This Row],[FECHA DE NACIMIENTO]]&J23 -> 2020E | L23: =IFERROR(VLOOKUP(K23,CATEGORIAS,2,0),"") -> MINIRIDERS 6 AÑOS | M23: CICLON BMX | N23: 30 | O23: =IFERROR(VLOOKUP(Tabla1[[#This Row],[NIVEL DE HABILIDAD]],CATEGORIAS!$M$3:$O$13,2,FALSE),"") -> 85000
A24: =_xlfn.IFNA(_xlfn.XLOOKUP(Tabla1[[#This Row],[ID]],'BASE DE DATOS 2026'!$B$3:$B$554,'BASE DE DATOS 2026'!$N$3:$N$554),"") -> 31 | B24: 31 | C24: ISAAC | D24: VELASCO ARISTIZABAL | E24: 1109121860 | G24: 2020 | H24: =IF(Tabla1[[#This Row],[FECHA DE NACIMIENTO]]="","",YEAR(NOW())-Tabla1[[#This Row],[FECHA DE NACIMIENTO]]) -> 6 | I24: MINIRIDERS | J24: =VLOOKUP(I24,NH,2,0) -> E | K24: =Tabla1[[#This Row],[FECHA DE NACIMIENTO]]&J24 -> 2020E | L24: =IFERROR(VLOOKUP(K24,CATEGORIAS,2,0),"") -> MINIRIDERS 6 AÑOS | M24: CICLON BMX | N24: 31 | O24: =IFERROR(VLOOKUP(Tabla1[[#This Row],[NIVEL DE HABILIDAD]],CATEGORIAS!$M$3:$O$13,2,FALSE),"") -> 85000
A25: =_xlfn.IFNA(_xlfn.XLOOKUP(Tabla1[[#This Row],[ID]],'BASE DE DATOS 2026'!$B$3:$B$554,'BASE DE DATOS 2026'!$N$3:$N$554),"") | B25: 32 | C25: JUAN SALVADOR | D25: YARA VERGARA | E25: 1105936574 | G25: 2021 | H25: =IF(Tabla1[[#This Row],[FECHA DE NACIMIENTO]]="","",YEAR(NOW())-Tabla1[[#This Row],[FECHA DE NACIMIENTO]]) -> 5 | I25: STRIDERS | J25: =VLOOKUP(I25,NH,2,0) -> S | K25: =Tabla1[[#This Row],[FECHA DE NACIMIENTO]]&J25 -> 2021S | L25: =IFERROR(VLOOKUP(K25,CATEGORIAS,2,0),"") -> STRIDERS 5 AÑOS | M25: CICLON BMX | N25: 32 | O25: =IFERROR(VLOOKUP(Tabla1[[#This Row],[NIVEL DE HABILIDAD]],CATEGORIAS!$M$3:$O$13,2,FALSE),"") -> 85000
A26: =_xlfn.IFNA(_xlfn.XLOOKUP(Tabla1[[#This Row],[ID]],'BASE DE DATOS 2026'!$B$3:$B$554,'BASE DE DATOS 2026'!$N$3:$N$554),"") | B26: 33 | C26: MARÍA JOSÉ | D26: MORALES HINCAPIE | E26: 1232818158 | G26: 2021 | H26: =IF(Tabla1[[#This Row],[FECHA DE NACIMIENTO]]="","",YEAR(NOW())-Tabla1[[#This Row],[FECHA DE NACIMIENTO]]) -> 5 | I26: STRIDERS | J26: =VLOOKUP(I26,NH,2,0) -> S | K26: =Tabla1[[#This Row],[FECHA DE NACIMIENTO]]&J26 -> 2021S | L26: =IFERROR(VLOOKUP(K26,CATEGORIAS,2,0),"") -> STRIDERS 5 AÑOS | M26: CICLON BMX | N26: 33 | O26: =IFERROR(VLOOKUP(Tabla1[[#This Row],[NIVEL DE HABILIDAD]],CATEGORIAS!$M$3:$O$13,2,FALSE),"") -> 85000
A27: =_xlfn.IFNA(_xlfn.XLOOKUP(Tabla1[[#This Row],[ID]],'BASE DE DATOS 2026'!$B$3:$B$554,'BASE DE DATOS 2026'!$N$3:$N$554),"") | B27: 34 | C27: MARÍA JOSÉ | D27: MOJICA PEREZ | E27: 1106524664 | G27: 2020 | H27: =IF(Tabla1[[#This Row],[FECHA DE NACIMIENTO]]="","",YEAR(NOW())-Tabla1[[#This Row],[FECHA DE NACIMIENTO]]) -> 6 | I27: MINIRIDERS | J27: =VLOOKUP(I27,NH,2,0) -> E | K27: =Tabla1[[#This Row],[FECHA DE NACIMIENTO]]&J27 -> 2020E | L27: =IFERROR(VLOOKUP(K27,CATEGORIAS,2,0),"") -> MINIRIDERS 6 AÑOS | M27: YUMBIKE | N27: 34 | O27: =IFERROR(VLOOKUP(Tabla1[[#This Row],[NIVEL DE HABILIDAD]],CATEGORIAS!$M$3:$O$13,2,FALSE),"") -> 85000 | Q27: MAJITO
A28: =_xlfn.IFNA(_xlfn.XLOOKUP(Tabla1[[#This Row],[ID]],'BASE DE DATOS 2026'!$B$3:$B$554,'BASE DE DATOS 2026'!$N$3:$N$554),"") | B28: 35 | C28: MARTÍN | D28: SOTO VELASCO | E28: 1108572247 | G28: 2020 | H28: =IF(Tabla1[[#This Row],[FECHA DE NACIMIENTO]]="","",YEAR(NOW())-Tabla1[[#This Row],[FECHA DE NACIMIENTO]]) -> 6 | I28: MINIRIDERS | J28: =VLOOKUP(I28,NH,2,0) -> E | K28: =Tabla1[[#This Row],[FECHA DE NACIMIENTO]]&J28 -> 2020E | L28: =IFERROR(VLOOKUP(K28,CATEGORIAS,2,0),"") -> MINIRIDERS 6 AÑOS | M28: CICLON BMX | N28: 35 | O28: =IFERROR(VLOOKUP(Tabla1[[#This Row],[NIVEL DE HABILIDAD]],CATEGORIAS!$M$3:$O$13,2,FALSE),"") -> 85000
A29: =_xlfn.IFNA(_xlfn.XLOOKUP(Tabla1[[#This Row],[ID]],'BASE DE DATOS 2026'!$B$3:$B$554,'BASE DE DATOS 2026'!$N$3:$N$554),"") -> 36 | B29: 36 | C29: MAXIMILIANO | D29: VELASCO ARISTIZABAL | E29: 1109121861 | G29: 2020 | H29: =IF(Tabla1[[#This Row],[FECHA DE NACIMIENTO]]="","",YEAR(NOW())-Tabla1[[#This Row],[FECHA DE NACIMIENTO]]) -> 6 | I29: MINIRIDERS | J29: =VLOOKUP(I29,NH,2,0) -> E | K29: =Tabla1[[#This Row],[FECHA DE NACIMIENTO]]&J29 -> 2020E | L29: =IFERROR(VLOOKUP(K29,CATEGORIAS,2,0),"") -> MINIRIDERS 6 AÑOS | M29: CICLON BMX | N29: 36 | O29: =IFERROR(VLOOKUP(Tabla1[[#This Row],[NIVEL DE HABILIDAD]],CATEGORIAS!$M$3:$O$13,2,FALSE),"") -> 85000
A30: =_xlfn.IFNA(_xlfn.XLOOKUP(Tabla1[[#This Row],[ID]],'BASE DE DATOS 2026'!$B$3:$B$554,'BASE DE DATOS 2026'!$N$3:$N$554),"") -> 37 | B30: 37 | C30: LIAM ESTIVEN | D30: GRAJALES VARGAS | E30: 1114012296 | G30: 2018 | H30: =IF(Tabla1[[#This Row],[FECHA DE NACIMIENTO]]="","",YEAR(NOW())-Tabla1[[#This Row],[FECHA DE NACIMIENTO]]) -> 8 | I30: PRINCIPIANTES | J30: =VLOOKUP(I30,NH,2,0) -> P | K30: =Tabla1[[#This Row],[FECHA DE NACIMIENTO]]&J30 -> 2018P | L30: =IFERROR(VLOOKUP(K30,CATEGORIAS,2,0),"") -> PRINCIPIANTES 7 Y 8 AÑOS | M30: BMX ATTACK | N30: 37 | O30: =IFERROR(VLOOKUP(Tabla1[[#This Row],[NIVEL DE HABILIDAD]],CATEGORIAS!$M$3:$O$13,2,FALSE),"") -> 85000
A31: =_xlfn.IFNA(_xlfn.XLOOKUP(Tabla1[[#This Row],[ID]],'BASE DE DATOS 2026'!$B$3:$B$554,'BASE DE DATOS 2026'!$N$3:$N$554),"") -> 38 | B31: 38 | C31: LUCIANA | D31: ACEVEDO OBANDO | E31: 1114249166 | G31: 2019 | H31: =IF(Tabla1[[#This Row],[FECHA DE NACIMIENTO]]="","",YEAR(NOW())-Tabla1[[#This Row],[FECHA DE NACIMIENTO]]) -> 7 | I31: PRINCIPIANTES | J31: =VLOOKUP(I31,NH,2,0) -> P | K31: =Tabla1[[#This Row],[FECHA DE NACIMIENTO]]&J31 -> 2019P | L31: =IFERROR(VLOOKUP(K31,CATEGORIAS,2,0),"") -> PRINCIPIANTES 7 Y 8 AÑOS | M31: BMX ATTACK | N31: 38 | O31: =IFERROR(VLOOKUP(Tabla1[[#This Row],[NIVEL DE HABILIDAD]],CATEGORIAS!$M$3:$O$13,2,FALSE),"") -> 85000
A32: =_xlfn.IFNA(_xlfn.XLOOKUP(Tabla1[[#This Row],[ID]],'BASE DE DATOS 2026'!$B$3:$B$554,'BASE DE DATOS 2026'!$N$3:$N$554),"") -> 39 | B32: 39 | C32: EITHIAN | D32: BERMUDEZ | E32: 1114249319 | G32: 2020 | H32: =IF(Tabla1[[#This Row],[FECHA DE NACIMIENTO]]="","",YEAR(NOW())-Tabla1[[#This Row],[FECHA DE NACIMIENTO]]) -> 6 | I32: MINIRIDERS | J32: =VLOOKUP(I32,NH,2,0) -> E | K32: =Tabla1[[#This Row],[FECHA DE NACIMIENTO]]&J32 -> 2020E | L32: =IFERROR(VLOOKUP(K32,CATEGORIAS,2,0),"") -> MINIRIDERS 6 AÑOS | M32: BMX ATTACK | N32: 39 | O32: =IFERROR(VLOOKUP(Tabla1[[#This Row],[NIVEL DE HABILIDAD]],CATEGORIAS!$M$3:$O$13,2,FALSE),"") -> 85000
A33: =_xlfn.IFNA(_xlfn.XLOOKUP(Tabla1[[#This Row],[ID]],'BASE DE DATOS 2026'!$B$3:$B$554,'BASE DE DATOS 2026'!$N$3:$N$554),"") | B33: 40 | C33: MARCUS | D33: CALERO | E33: 1114320217 | G33: 2019 | H33: =IF(Tabla1[[#This Row],[FECHA DE NACIMIENTO]]="","",YEAR(NOW())-Tabla1[[#This Row],[FECHA DE NACIMIENTO]]) -> 7 | I33: MINIRIDERS | J33: =VLOOKUP(I33,NH,2,0) -> E | K33: =Tabla1[[#This Row],[FECHA DE NACIMIENTO]]&J33 -> 2019E | L33: =IFERROR(VLOOKUP(K33,CATEGORIAS,2,0),"") -> MINIRIDERS 7 Y 8 AÑOS | M33: BMX ATTACK | N33: 40 | O33: =IFERROR(VLOOKUP(Tabla1[[#This Row],[NIVEL DE HABILIDAD]],CATEGORIAS!$M$3:$O$13,2,FALSE),"") -> 85000
A34: =_xlfn.IFNA(_xlfn.XLOOKUP(Tabla1[[#This Row],[ID]],'BASE DE DATOS 2026'!$B$3:$B$554,'BASE DE DATOS 2026'!$N$3:$N$554),"") -> 41 | B34: 41 | C34: MARIA PAULA | D34: CHILITO FAJARDO | E34: 1061546676 | G34: 2019 | H34: =IF(Tabla1[[#This Row],[FECHA DE NACIMIENTO]]="","",YEAR(NOW())-Tabla1[[#This Row],[FECHA DE NACIMIENTO]]) -> 7 | I34: PRINCIPIANTES | J34: =VLOOKUP(I34,NH,2,0) -> P | K34: =Tabla1[[#This Row],[FECHA DE NACIMIENTO]]&J34 -> 2019P | L34: =IFERROR(VLOOKUP(K34,CATEGORIAS,2,0),"") -> PRINCIPIANTES 7 Y 8 AÑOS | M34: DREAM TEAM BMX CAUCA | N34: 41 | O34: =IFERROR(VLOOKUP(Tabla1[[#This Row],[NIVEL DE HABILIDAD]],CATEGORIAS!$M$3:$O$13,2,FALSE),"") -> 85000
A35: =_xlfn.IFNA(_xlfn.XLOOKUP(Tabla1[[#This Row],[ID]],'BASE DE DATOS 2026'!$B$3:$B$554,'BASE DE DATOS 2026'!$N$3:$N$554),"") -> 42 | B35: 42 | C35: DYLAN SANTIAGO | D35: CAMPO SUAREZ | E35: 1104837479 | G35: 2015 | H35: =IF(Tabla1[[#This Row],[FECHA DE NACIMIENTO]]="","",YEAR(NOW())-Tabla1[[#This Row],[FECHA DE NACIMIENTO]]) -> 11 | I35: PRINCIPIANTES | J35: =VLOOKUP(I35,NH,2,0) -> P | K35: =Tabla1[[#This Row],[FECHA DE NACIMIENTO]]&J35 -> 2015P | L35: =IFERROR(VLOOKUP(K35,CATEGORIAS,2,0),"") -> PRINCIPIANTES 11 Y 12 AÑOS | M35: MANUBRIOS DE ORO | N35: 42 | O35: =IFERROR(VLOOKUP(Tabla1[[#This Row],[NIVEL DE HABILIDAD]],CATEGORIAS!$M$3:$O$13,2,FALSE),"") -> 85000
A36: =_xlfn.IFNA(_xlfn.XLOOKUP(Tabla1[[#This Row],[ID]],'BASE DE DATOS 2026'!$B$3:$B$554,'BASE DE DATOS 2026'!$N$3:$N$554),"") | B36: 43 | C36: EMANUEL | D36: MORENO | E36: 1151968614 | G36: 2018 | H36: =IF(Tabla1[[#This Row],[FECHA DE NACIMIENTO]]="","",YEAR(NOW())-Tabla1[[#This Row],[FECHA DE NACIMIENTO]]) -> 8 | I36: MINIRIDERS | J36: =VLOOKUP(I36,NH,2,0) -> E | K36: =Tabla1[[#This Row],[FECHA DE NACIMIENTO]]&J36 -> 2018E | L36: =IFERROR(VLOOKUP(K36,CATEGORIAS,2,0),"") -> MINIRIDERS 7 Y 8 AÑOS | M36: SANTAMARIA RACING | N36: 43 | O36: =IFERROR(VLOOKUP(Tabla1[[#This Row],[NIVEL DE HABILIDAD]],CATEGORIAS!$M$3:$O$13,2,FALSE),"") -> 85000
A37: =_xlfn.IFNA(_xlfn.XLOOKUP(Tabla1[[#This Row],[ID]],'BASE DE DATOS 2026'!$B$3:$B$554,'BASE DE DATOS 2026'!$N$3:$N$554),"") | B37: 44 | C37: MARIANO | D37: AREIZA GRAJALES | E37: 1112060927 | G37: 2015 | H37: =IF(Tabla1[[#This Row],[FECHA DE NACIMIENTO]]="","",YEAR(NOW())-Tabla1[[#This Row],[FECHA DE NACIMIENTO]]) -> 11 | I37: PRINCIPIANTES | J37: =VLOOKUP(I37,NH,2,0) -> P | K37: =Tabla1[[#This Row],[FECHA DE NACIMIENTO]]&J37 -> 2015P | L37: =IFERROR(VLOOKUP(K37,CATEGORIAS,2,0),"") -> PRINCIPIANTES 11 Y 12 AÑOS | M37: SANTAMARIA RACING | N37: 44 | O37: =IFERROR(VLOOKUP(Tabla1[[#This Row],[NIVEL DE HABILIDAD]],CATEGORIAS!$M$3:$O$13,2,FALSE),"") -> 85000
A38: =_xlfn.IFNA(_xlfn.XLOOKUP(Tabla1[[#This Row],[ID]],'BASE DE DATOS 2026'!$B$3:$B$554,'BASE DE DATOS 2026'!$N$3:$N$554),"") -> 45 | B38: 45 | C38: EMILIANO | D38: ERAZO | E38: 1150692727 | G38: 2015 | H38: =IF(Tabla1[[#This Row],[FECHA DE NACIMIENTO]]="","",YEAR(NOW())-Tabla1[[#This Row],[FECHA DE NACIMIENTO]]) -> 11 | I38: PRINCIPIANTES | J38: =VLOOKUP(I38,NH,2,0) -> P | K38: =Tabla1[[#This Row],[FECHA DE NACIMIENTO]]&J38 -> 2015P | L38: =IFERROR(VLOOKUP(K38,CATEGORIAS,2,0),"") -> PRINCIPIANTES 11 Y 12 AÑOS | M38: SANTAMARIA RACING | N38: 45 | O38: =IFERROR(VLOOKUP(Tabla1[[#This Row],[NIVEL DE HABILIDAD]],CATEGORIAS!$M$3:$O$13,2,FALSE),"") -> 85000
A39: =_xlfn.IFNA(_xlfn.XLOOKUP(Tabla1[[#This Row],[ID]],'BASE DE DATOS 2026'!$B$3:$B$554,'BASE DE DATOS 2026'!$N$3:$N$554),"") -> 46 | B39: 46 | C39: JACOBO | D39: VELASCO ASTAIZA | E39: 1058554342 | G39: 2020 | H39: =IF(Tabla1[[#This Row],[FECHA DE NACIMIENTO]]="","",YEAR(NOW())-Tabla1[[#This Row],[FECHA DE NACIMIENTO]]) -> 6 | I39: PRINCIPIANTES | J39: =VLOOKUP(I39,NH,2,0) -> P | K39: =Tabla1[[#This Row],[FECHA DE NACIMIENTO]]&J39 -> 2020P | L39: =IFERROR(VLOOKUP(K39,CATEGORIAS,2,0),"") -> PRINCIPIANTES 6 AÑOS Y MENOS | M39: REAL RIDERS POPAYAN | N39: 46 | O39: =IFERROR(VLOOKUP(Tabla1[[#This Row],[NIVEL DE HABILIDAD]],CATEGORIAS!$M$3:$O$13,2,FALSE),"") -> 85000
... A42: =_xlfn.IFNA(_xlfn.XLOOKUP(Tabla1[[#This Row],[ID]],'BASE DE DATOS 2026'!$B$3:$B$554,'BASE DE DATOS 2026'!$N$3:$N$554),"") -> 49 | B42: 49 | C42: JERONIMO | D42: VIVAS COCUY | E42: 1114558215 | G42: 2020 | H42: =IF(Tabla1[[#This Row],[FECHA DE NACIMIENTO]]="","",YEAR(NOW())-Tabla1[[#This Row],[FECHA DE NACIMIENTO]]) -> 6 | I42: PRINCIPIANTES | J42: =VLOOKUP(I42,NH,2,0) -> P | K42: =Tabla1[[#This Row],[FECHA DE NACIMIENTO]]&J42 -> 2020P | L42: =IFERROR(VLOOKUP(K42,CATEGORIAS,2,0),"") -> PRINCIPIANTES 6 AÑOS Y MENOS | M42: BMX PALMIRA | N42: 49 | O42: =IFERROR(VLOOKUP(Tabla1[[#This Row],[NIVEL DE HABILIDAD]],CATEGORIAS!$M$3:$O$13,2,FALSE),"") -> 85000
A43: =_xlfn.IFNA(_xlfn.XLOOKUP(Tabla1[[#This Row],[ID]],'BASE DE DATOS 2026'!$B$3:$B$554,'BASE DE DATOS 2026'!$N$3:$N$554),"") -> 50 | B43: 50 | C43: JOEL SANTIAGO | D43: JOVEN ERAZO | E43: 1114555506 | G43: 2018 | H43: =IF(Tabla1[[#This Row],[FECHA DE NACIMIENTO]]="","",YEAR(NOW())-Tabla1[[#This Row],[FECHA DE NACIMIENTO]]) -> 8 | I43: PRINCIPIANTES | J43: =VLOOKUP(I43,NH,2,0) -> P | K43: =Tabla1[[#This Row],[FECHA DE NACIMIENTO]]&J43 -> 2018P | L43: =IFERROR(VLOOKUP(K43,CATEGORIAS,2,0),"") -> PRINCIPIANTES 7 Y 8 AÑOS | M43: BMX PALMIRA | N43: 50 | O43: =IFERROR(VLOOKUP(Tabla1[[#This Row],[NIVEL DE HABILIDAD]],CATEGORIAS!$M$3:$O$13,2,FALSE),"") -> 85000 | Q43: LA PIRAÑA DEL VALLE
A44: =_xlfn.IFNA(_xlfn.XLOOKUP(Tabla1[[#This Row],[ID]],'BASE DE DATOS 2026'!$B$3:$B$554,'BASE DE DATOS 2026'!$N$3:$N$554),"") | B44: 51 | C44: SEBASTIAN | D44: VELASQUEZ GALLEGO | E44: 1107870160 | G44: 2019 | H44: =IF(Tabla1[[#This Row],[FECHA DE NACIMIENTO]]="","",YEAR(NOW())-Tabla1[[#This Row],[FECHA DE NACIMIENTO]]) -> 7 | I44: PRINCIPIANTES | J44: =VLOOKUP(I44,NH,2,0) -> P | K44: =Tabla1[[#This Row],[FECHA DE NACIMIENTO]]&J44 -> 2019P | L44: =IFERROR(VLOOKUP(K44,CATEGORIAS,2,0),"") -> PRINCIPIANTES 7 Y 8 AÑOS | M44: XTREMO BMX | N44: 51 | O44: =IFERROR(VLOOKUP(Tabla1[[#This Row],[NIVEL DE HABILIDAD]],CATEGORIAS!$M$3:$O$13,2,FALSE),"") -> 85000 | Q44: EL PUMA
A45: =_xlfn.IFNA(_xlfn.XLOOKUP(Tabla1[[#This Row],[ID]],'BASE DE DATOS 2026'!$B$3:$B$554,'BASE DE DATOS 2026'!$N$3:$N$554),"") | B45: 52 | C45: FRANCO | D45: GIRALDO GARCÍA | E45: 1109937001 | G45: 2018 | H45: =IF(Tabla1[[#This Row],[FECHA DE NACIMIENTO]]="","",YEAR(NOW())-Tabla1[[#This Row],[FECHA DE NACIMIENTO]]) -> 8 | I45: MINIRIDERS | J45: =VLOOKUP(I45,NH,2,0) -> E | K45: =Tabla1[[#This Row],[FECHA DE NACIMIENTO]]&J45 -> 2018E | L45: =IFERROR(VLOOKUP(K45,CATEGORIAS,2,0),"") -> MINIRIDERS 7 Y 8 AÑOS | M45: XTREMO BMX | N45: 52 | O45: =IFERROR(VLOOKUP(Tabla1[[#This Row],[NIVEL DE HABILIDAD]],CATEGORIAS!$M$3:$O$13,2,FALSE),"") -> 85000
A46: =_xlfn.IFNA(_xlfn.XLOOKUP(Tabla1[[#This Row],[ID]],'BASE DE DATOS 2026'!$B$3:$B$554,'BASE DE DATOS 2026'!$N$3:$N$554),"") -> 53 | B46: 53 | C46: EMMANUEL | D46: ROMERO MEDINA | E46: 1104842612 | G46: 2018 | H46: =IF(Tabla1[[#This Row],[FECHA DE NACIMIENTO]]="","",YEAR(NOW())-Tabla1[[#This Row],[FECHA DE NACIMIENTO]]) -> 8 | I46: PRINCIPIANTES | J46: =VLOOKUP(I46,NH,2,0) -> P | K46: =Tabla1[[#This Row],[FECHA DE NACIMIENTO]]&J46 -> 2018P | L46: =IFERROR(VLOOKUP(K46,CATEGORIAS,2,0),"") -> PRINCIPIANTES 7 Y 8 AÑOS | M46: XTREMO BMX | N46: 53 | O46: =IFERROR(VLOOKUP(Tabla1[[#This Row],[NIVEL DE HABILIDAD]],CATEGORIAS!$M$3:$O$13,2,FALSE),"") -> 85000 | Q46: LA MARAVILLA
A47: =_xlfn.IFNA(_xlfn.XLOOKUP(Tabla1[[#This Row],[ID]],'BASE DE DATOS 2026'!$B$3:$B$554,'BASE DE DATOS 2026'!$N$3:$N$554),"") -> 54 | B47: 54 | C47: GERONIMO | D47: RODRÍGUEZ VALLEJO | E47: 1109568418 | G47: 2019 | H47: =IF(Tabla1[[#This Row],[FECHA DE NACIMIENTO]]="","",YEAR(NOW())-Tabla1[[#This Row],[FECHA DE NACIMIENTO]]) -> 7 | I47: PRINCIPIANTES | J47: =VLOOKUP(I47,NH,2,0) -> P | K47: =Tabla1[[#This Row],[FECHA DE NACIMIENTO]]&J47 -> 2019P | L47: =IFERROR(VLOOKUP(K47,CATEGORIAS,2,0),"") -> PRINCIPIANTES 7 Y 8 AÑOS | M47: XTREMO BMX | N47: 54 | O47: =IFERROR(VLOOKUP(Tabla1[[#This Row],[NIVEL DE HABILIDAD]],CATEGORIAS!$M$3:$O$13,2,FALSE),"") -> 85000 | Q47: EL TORITO
A48: =_xlfn.IFNA(_xlfn.XLOOKUP(Tabla1[[#This Row],[ID]],'BASE DE DATOS 2026'!$B$3:$B$554,'BASE DE DATOS 2026'!$N$3:$N$554),"") | B48: 55 | C48: THOMAS VICENTE | D48: RODRIGUEZ PENAGOS | E48: 1013693603 | G48: 2018 | H48: =IF(Tabla1[[#This Row],[FECHA DE NACIMIENTO]]="","",YEAR(NOW())-Tabla1[[#This Row],[FECHA DE NACIMIENTO]]) -> 8 | I48: PRINCIPIANTES | J48: =VLOOKUP(I48,NH,2,0) -> P | K48: =Tabla1[[#This Row],[FECHA DE NACIMIENTO]]&J48 -> 2018P | L48: =IFERROR(VLOOKUP(K48,CATEGORIAS,2,0),"") -> PRINCIPIANTES 7 Y 8 AÑOS | M48: HECHO EN COLOMBIA | N48: 55 | O48: =IFERROR(VLOOKUP(Tabla1[[#This Row],[NIVEL DE HABILIDAD]],CATEGORIAS!$M$3:$O$13,2,FALSE),"") -> 85000
A49: =_xlfn.IFNA(_xlfn.XLOOKUP(Tabla1[[#This Row],[ID]],'BASE DE DATOS 2026'!$B$3:$B$554,'BASE DE DATOS 2026'!$N$3:$N$554),"") -> 56 | B49: 56 | C49: MARTÍN | D49: VARGAS PÉREZ, | E49: 1109560767 | G49: 2016 | H49: =IF(Tabla1[[#This Row],[FECHA DE NACIMIENTO]]="","",YEAR(NOW())-Tabla1[[#This Row],[FECHA DE NACIMIENTO]]) -> 10 | I49: MINIRIDERS | J49: =VLOOKUP(I49,NH,2,0) -> E | K49: =Tabla1[[#This Row],[FECHA DE NACIMIENTO]]&J49 -> 2016E | L49: =IFERROR(VLOOKUP(K49,CATEGORIAS,2,0),"") -> MINIRIDERS 9 Y 10 AÑOS | M49: XTREMO BMX | N49: 56 | O49: =IFERROR(VLOOKUP(Tabla1[[#This Row],[NIVEL DE HABILIDAD]],CATEGORIAS!$M$3:$O$13,2,FALSE),"") -> 85000
A50: =_xlfn.IFNA(_xlfn.XLOOKUP(Tabla1[[#This Row],[ID]],'BASE DE DATOS 2026'!$B$3:$B$554,'BASE DE DATOS 2026'!$N$3:$N$554),"") -> 57 | B50: 57 | H50: =IF(Tabla1[[#This Row],[FECHA DE NACIMIENTO]]="","",YEAR(NOW())-Tabla1[[#This Row],[FECHA DE NACIMIENTO]]) | J50: =VLOOKUP(I50,NH,2,0) -> #N/A | K50: =Tabla1[[#This Row],[FECHA DE NACIMIENTO]]&J50 -> #N/A | L50: =IFERROR(VLOOKUP(K50,CATEGORIAS,2,0),"") | O50: =IFERROR(VLOOKUP(Tabla1[[#This Row],[NIVEL DE HABILIDAD]],CATEGORIAS!$M$3:$O$13,2,FALSE),"")
A51: =_xlfn.IFNA(_xlfn.XLOOKUP(Tabla1[[#This Row],[ID]],'BASE DE DATOS 2026'!$B$3:$B$554,'BASE DE DATOS 2026'!$N$3:$N$554),"") | B51: 58 | C51: JUAN JOSE | D51: TOVAR MONTILLA | E51: 1110057718 | G51: 2016 | H51: =IF(Tabla1[[#This Row],[FECHA DE NACIMIENTO]]="","",YEAR(NOW())-Tabla1[[#This Row],[FECHA DE NACIMIENTO]]) -> 10 | I51: MINIRIDERS | J51: =VLOOKUP(I51,NH,2,0) -> E | K51: =Tabla1[[#This Row],[FECHA DE NACIMIENTO]]&J51 -> 2016E | L51: =IFERROR(VLOOKUP(K51,CATEGORIAS,2,0),"") -> MINIRIDERS 9 Y 10 AÑOS | M51: XTREMO BMX | N51: 58 | O51: =IFERROR(VLOOKUP(Tabla1[[#This Row],[NIVEL DE HABILIDAD]],CATEGORIAS!$M$3:$O$13,2,FALSE),"") -> 85000
A52: =_xlfn.IFNA(_xlfn.XLOOKUP(Tabla1[[#This Row],[ID]],'BASE DE DATOS 2026'!$B$3:$B$554,'BASE DE DATOS 2026'!$N$3:$N$554),"") | B52: 59 | C52: JUAN ESTEBAN | D52: SALAMANCA DAVILA | E52: 1014898864 | G52: 2018 | H52: =IF(Tabla1[[#This Row],[FECHA DE NACIMIENTO]]="","",YEAR(NOW())-Tabla1[[#This Row],[FECHA DE NACIMIENTO]]) -> 8 | I52: MINIRIDERS | J52: =VLOOKUP(I52,NH,2,0) -> E | K52: =Tabla1[[#This Row],[FECHA DE NACIMIENTO]]&J52 -> 2018E | L52: =IFERROR(VLOOKUP(K52,CATEGORIAS,2,0),"") -> MINIRIDERS 7 Y 8 AÑOS | M52: XTREMO BMX | N52: 59 | O52: =IFERROR(VLOOKUP(Tabla1[[#This Row],[NIVEL DE HABILIDAD]],CATEGORIAS!$M$3:$O$13,2,FALSE),"") -> 85000
A53: =_xlfn.IFNA(_xlfn.XLOOKUP(Tabla1[[#This Row],[ID]],'BASE DE DATOS 2026'!$B$3:$B$554,'BASE DE DATOS 2026'!$N$3:$N$554),"") | B53: 60 | C53: MATHEW | D53: HERNANDEZ VARGAS | E53: 1150695054 | G53: 2018 | H53: =IF(Tabla1[[#This Row],[FECHA DE NACIMIENTO]]="","",YEAR(NOW())-Tabla1[[#This Row],[FECHA DE NACIMIENTO]]) -> 8 | I53: MINIRIDERS | J53: =VLOOKUP(I53,NH,2,0) -> E | K53: =Tabla1[[#This Row],[FECHA DE NACIMIENTO]]&J53 -> 2018E | L53: =IFERROR(VLOOKUP(K53,CATEGORIAS,2,0),"") -> MINIRIDERS 7 Y 8 AÑOS | M53: XTREMO BMX | N53: 60 | O53: =IFERROR(VLOOKUP(Tabla1[[#This Row],[NIVEL DE HABILIDAD]],CATEGORIAS!$M$3:$O$13,2,FALSE),"") -> 85000 | Q53: EL HALCON
A54: =_xlfn.IFNA(_xlfn.XLOOKUP(Tabla1[[#This Row],[ID]],'BASE DE DATOS 2026'!$B$3:$B$554,'BASE DE DATOS 2026'!$N$3:$N$554),"") | B54: 61 | C54: JUAN DAVID | D54: CUARAN | E54: 1232804828 | G54: 2018 | H54: =IF(Tabla1[[#This Row],[FECHA DE NACIMIENTO]]="","",YEAR(NOW())-Tabla1[[#This Row],[FECHA DE NACIMIENTO]]) -> 8 | I54: MINIRIDERS | J54: =VLOOKUP(I54,NH,2,0) -> E | K54: =Tabla1[[#This Row],[FECHA DE NACIMIENTO]]&J54 -> 2018E | L54: =IFERROR(VLOOKUP(K54,CATEGORIAS,2,0),"") -> MINIRIDERS 7 Y 8 AÑOS | M54: XTREMO BMX | N54: 61 | O54: =IFERROR(VLOOKUP(Tabla1[[#This Row],[NIVEL DE HABILIDAD]],CATEGORIAS!$M$3:$O$13,2,FALSE),"") -> 85000
A55: =_xlfn.IFNA(_xlfn.XLOOKUP(Tabla1[[#This Row],[ID]],'BASE DE DATOS 2026'!$B$3:$B$554,'BASE DE DATOS 2026'!$N$3:$N$554),"") -> 62 | B55: 62 | C55: LIAYAN STIVEN | D55: RIOS ROMERO | E55: 1114013078 | G55: 2019 | H55: =IF(Tabla1[[#This Row],[FECHA DE NACIMIENTO]]="","",YEAR(NOW())-Tabla1[[#This Row],[FECHA DE NACIMIENTO]]) -> 7 | I55: PRINCIPIANTES | J55: =VLOOKUP(I55,NH,2,0) -> P | K55: =Tabla1[[#This Row],[FECHA DE NACIMIENTO]]&J55 -> 2019P | L55: =IFERROR(VLOOKUP(K55,CATEGORIAS,2,0),"") -> PRINCIPIANTES 7 Y 8 AÑOS | M55: XTREMO BMX | N55: 62 | O55: =IFERROR(VLOOKUP(Tabla1[[#This Row],[NIVEL DE HABILIDAD]],CATEGORIAS!$M$3:$O$13,2,FALSE),"") -> 85000
A56: =_xlfn.IFNA(_xlfn.XLOOKUP(Tabla1[[#This Row],[ID]],'BASE DE DATOS 2026'!$B$3:$B$554,'BASE DE DATOS 2026'!$N$3:$N$554),"") | B56: 63 | C56: ADRIAN | D56: OJEDA | G56: 2020 | H56: =IF(Tabla1[[#This Row],[FECHA DE NACIMIENTO]]="","",YEAR(NOW())-Tabla1[[#This Row],[FECHA DE NACIMIENTO]]) -> 6 | I56: STRIDERS | J56: =VLOOKUP(I56,NH,2,0) -> S | K56: =Tabla1[[#This Row],[FECHA DE NACIMIENTO]]&J56 -> 2020S | L56: =IFERROR(VLOOKUP(K56,CATEGORIAS,2,0),"") | M56: INDEPENDIENTE | O56: =IFERROR(VLOOKUP(Tabla1[[#This Row],[NIVEL DE HABILIDAD]],CATEGORIAS!$M$3:$O$13,2,FALSE),"") -> 85000
A57: =_xlfn.IFNA(_xlfn.XLOOKUP(Tabla1[[#This Row],[ID]],'BASE DE DATOS 2026'!$B$3:$B$554,'BASE DE DATOS 2026'!$N$3:$N$554),"") | B57: 64 | C57: MARTHIN | D57: LOSADA MARQUEZ | E57: 1109120826 | G57: 2015 | H57: =IF(Tabla1[[#This Row],[FECHA DE NACIMIENTO]]="","",YEAR(NOW())-Tabla1[[#This Row],[FECHA DE NACIMIENTO]]) -> 11 | I57: PRINCIPIANTES | J57: =VLOOKUP(I57,NH,2,0) -> P | K57: =Tabla1[[#This Row],[FECHA DE NACIMIENTO]]&J57 -> 2015P | L57: =IFERROR(VLOOKUP(K57,CATEGORIAS,2,0),"") -> PRINCIPIANTES 11 Y 12 AÑOS | M57: IMDERTY | N57: 64 | O57: =IFERROR(VLOOKUP(Tabla1[[#This Row],[NIVEL DE HABILIDAD]],CATEGORIAS!$M$3:$O$13,2,FALSE),"") -> 85000
A58: =_xlfn.IFNA(_xlfn.XLOOKUP(Tabla1[[#This Row],[ID]],'BASE DE DATOS 2026'!$B$3:$B$554,'BASE DE DATOS 2026'!$N$3:$N$554),"") | B58: 65 | C58: JHONJEY | D58: HIGUITA SALAZAR | E58: 1116380338 | G58: 2016 | H58: =IF(Tabla1[[#This Row],[FECHA DE NACIMIENTO]]="","",YEAR(NOW())-Tabla1[[#This Row],[FECHA DE NACIMIENTO]]) -> 10 | I58: MINIRIDERS | J58: =VLOOKUP(I58,NH,2,0) -> E | K58: =Tabla1[[#This Row],[FECHA DE NACIMIENTO]]&J58 -> 2016E | L58: =IFERROR(VLOOKUP(K58,CATEGORIAS,2,0),"") -> MINIRIDERS 9 Y 10 AÑOS | M58: IMDERTY | N58: 65 | O58: =IFERROR(VLOOKUP(Tabla1[[#This Row],[NIVEL DE HABILIDAD]],CATEGORIAS!$M$3:$O$13,2,FALSE),"") -> 85000
A59: =_xlfn.IFNA(_xlfn.XLOOKUP(Tabla1[[#This Row],[ID]],'BASE DE DATOS 2026'!$B$3:$B$554,'BASE DE DATOS 2026'!$N$3:$N$554),"") | B59: 66 | C59: JORGE EMMANUEL | D59: MARQUEZ GAVIRIA | E59: 1112630859 | G59: 2015 | H59: =IF(Tabla1[[#This Row],[FECHA DE NACIMIENTO]]="","",YEAR(NOW())-Tabla1[[#This Row],[FECHA DE NACIMIENTO]]) -> 11 | I59: PRINCIPIANTES | J59: =VLOOKUP(I59,NH,2,0) -> P | K59: =Tabla1[[#This Row],[FECHA DE NACIMIENTO]]&J59 -> 2015P | L59: =IFERROR(VLOOKUP(K59,CATEGORIAS,2,0),"") -> PRINCIPIANTES 11 Y 12 AÑOS | M59: IMDERTY | N59: 66 | O59: =IFERROR(VLOOKUP(Tabla1[[#This Row],[NIVEL DE HABILIDAD]],CATEGORIAS!$M$3:$O$13,2,FALSE),"") -> 85000
A60: =_xlfn.IFNA(_xlfn.XLOOKUP(Tabla1[[#This Row],[ID]],'BASE DE DATOS 2026'!$B$3:$B$554,'BASE DE DATOS 2026'!$N$3:$N$554),"") -> 67 | B60: 67 | C60: EMMANUEL | D60: RIVERA JARAMILLO | E60: 1232793740 | G60: 2015 | H60: =IF(Tabla1[[#This Row],[FECHA DE NACIMIENTO]]="","",YEAR(NOW())-Tabla1[[#This Row],[FECHA DE NACIMIENTO]]) -> 11 | I60: PRINCIPIANTES | J60: =VLOOKUP(I60,NH,2,0) -> P | K60: =Tabla1[[#This Row],[FECHA DE NACIMIENTO]]&J60 -> 2015P | L60: =IFERROR(VLOOKUP(K60,CATEGORIAS,2,0),"") -> PRINCIPIANTES 11 Y 12 AÑOS | M60: IMDERTY | N60: 67 | O60: =IFERROR(VLOOKUP(Tabla1[[#This Row],[NIVEL DE HABILIDAD]],CATEGORIAS!$M$3:$O$13,2,FALSE),"") -> 85000
A61: =_xlfn.IFNA(_xlfn.XLOOKUP(Tabla1[[#This Row],[ID]],'BASE DE DATOS 2026'!$B$3:$B$554,'BASE DE DATOS 2026'!$N$3:$N$554),"") -> 68 | B61: 68 | C61: THIAGO ITZAE | D61: LUNA GARCIA | E61: 1116379565 | G61: 2015 | H61: =IF(Tabla1[[#This Row],[FECHA DE NACIMIENTO]]="","",YEAR(NOW())-Tabla1[[#This Row],[FECHA DE NACIMIENTO]]) -> 11 | I61: PRINCIPIANTES | J61: =VLOOKUP(I61,NH,2,0) -> P | K61: =Tabla1[[#This Row],[FECHA DE NACIMIENTO]]&J61 -> 2015P | L61: =IFERROR(VLOOKUP(K61,CATEGORIAS,2,0),"") -> PRINCIPIANTES 11 Y 12 AÑOS | M61: IMDERTY | N61: 68 | O61: =IFERROR(VLOOKUP(Tabla1[[#This Row],[NIVEL DE HABILIDAD]],CATEGORIAS!$M$3:$O$13,2,FALSE),"") -> 85000 | Q61: LA BESTIA MARQUEZ
A62: =_xlfn.IFNA(_xlfn.XLOOKUP(Tabla1[[#This Row],[ID]],'BASE DE DATOS 2026'!$B$3:$B$554,'BASE DE DATOS 2026'!$N$3:$N$554),"") -> 69 | B62: 69 | C62: EMILIANO | D62: BELALCAZAR | E62: 1061824772 | G62: 2018 | H62: =IF(Tabla1[[#This Row],[FECHA DE NACIMIENTO]]="","",YEAR(NOW())-Tabla1[[#This Row],[FECHA DE NACIMIENTO]]) -> 8 | I62: MINIRIDERS | J62: =VLOOKUP(I62,NH,2,0) -> E | K62: =Tabla1[[#This Row],[FECHA DE NACIMIENTO]]&J62 -> 2018E | L62: =IFERROR(VLOOKUP(K62,CATEGORIAS,2,0),"") -> MINIRIDERS 7 Y 8 AÑOS | M62: DREAM TEAM BMX CAUCA | N62: 69 | O62: =IFERROR(VLOOKUP(Tabla1[[#This Row],[NIVEL DE HABILIDAD]],CATEGORIAS!$M$3:$O$13,2,FALSE),"") -> 85000 | Q62: LA MAQUINA RIVERA
A63: =_xlfn.IFNA(_xlfn.XLOOKUP(Tabla1[[#This Row],[ID]],'BASE DE DATOS 2026'!$B$3:$B$554,'BASE DE DATOS 2026'!$N$3:$N$554),"") -> 70 | B63: 70 | C63: MIGUEL ANGEL | D63: CARDOZO ARCOS | E63: 1029626480 | G63: 2019 | H63: =IF(Tabla1[[#This Row],[FECHA DE NACIMIENTO]]="","",YEAR(NOW())-Tabla1[[#This Row],[FECHA DE NACIMIENTO]]) -> 7 | I63: PRINCIPIANTES | J63: =VLOOKUP(I63,NH,2,0) -> P | K63: =Tabla1[[#This Row],[FECHA DE NACIMIENTO]]&J63 -> 2019P | L63: =IFERROR(VLOOKUP(K63,CATEGORIAS,2,0),"") -> PRINCIPIANTES 7 Y 8 AÑOS | M63: DREAM TEAM BMX CAUCA | N63: 70 | O63: =IFERROR(VLOOKUP(Tabla1[[#This Row],[NIVEL DE HABILIDAD]],CATEGORIAS!$M$3:$O$13,2,FALSE),"") -> 85000 | Q63: EL GUEPARDO
A64: =_xlfn.IFNA(_xlfn.XLOOKUP(Tabla1[[#This Row],[ID]],'BASE DE DATOS 2026'!$B$3:$B$554,'BASE DE DATOS 2026'!$N$3:$N$554),"") -> 71 | B64: 71 | C64: JOSE NIGUEL | D64: GURRUTE BOLAÑOS | E64: 1058553703 | G64: 2018 | H64: =IF(Tabla1[[#This Row],[FECHA DE NACIMIENTO]]="","",YEAR(NOW())-Tabla1[[#This Row],[FECHA DE NACIMIENTO]]) -> 8 | I64: MINIRIDERS | J64: =VLOOKUP(I64,NH,2,0) -> E | K64: =Tabla1[[#This Row],[FECHA DE NACIMIENTO]]&J64 -> 2018E | L64: =IFERROR(VLOOKUP(K64,CATEGORIAS,2,0),"") -> MINIRIDERS 7 Y 8 AÑOS | M64: DREAM TEAM BMX CAUCA | N64: 71 | O64: =IFERROR(VLOOKUP(Tabla1[[#This Row],[NIVEL DE HABILIDAD]],CATEGORIAS!$M$3:$O$13,2,FALSE),"") -> 85000
A65: =_xlfn.IFNA(_xlfn.XLOOKUP(Tabla1[[#This Row],[ID]],'BASE DE DATOS 2026'!$B$3:$B$554,'BASE DE DATOS 2026'!$N$3:$N$554),"") -> 72 | B65: 72 | C65: JOAQUIN | D65: ROSAS DORADO | E65: 1140214441 | G65: 2021 | H65: =IF(Tabla1[[#This Row],[FECHA DE NACIMIENTO]]="","",YEAR(NOW())-Tabla1[[#This Row],[FECHA DE NACIMIENTO]]) -> 5 | I65: STRIDERS | J65: =VLOOKUP(I65,NH,2,0) -> S | K65: =Tabla1[[#This Row],[FECHA DE NACIMIENTO]]&J65 -> 2021S | L65: =IFERROR(VLOOKUP(K65,CATEGORIAS,2,0),"") -> STRIDERS 5 AÑOS | M65: XTREMO BMX | N65: 72 | O65: =IFERROR(VLOOKUP(Tabla1[[#This Row],[NIVEL DE HABILIDAD]],CATEGORIAS!$M$3:$O$13,2,FALSE),"") -> 85000
A66: =_xlfn.IFNA(_xlfn.XLOOKUP(Tabla1[[#This Row],[ID]],'BASE DE DATOS 2026'!$B$3:$B$554,'BASE DE DATOS 2026'!$N$3:$N$554),"") -> 73 | B66: 73 | C66: ANGEL ANDRES | D66: MUÑOZ RAMIREZ | E66: 1109563342 | G66: 2017 | H66: =IF(Tabla1[[#This Row],[FECHA DE NACIMIENTO]]="","",YEAR(NOW())-Tabla1[[#This Row],[FECHA DE NACIMIENTO]]) -> 9 | I66: PRINCIPIANTES | J66: =VLOOKUP(I66,NH,2,0) -> P | K66: =Tabla1[[#This Row],[FECHA DE NACIMIENTO]]&J66 -> 2017P | L66: =IFERROR(VLOOKUP(K66,CATEGORIAS,2,0),"") -> PRINCIPIANTES 9 Y 10 AÑOS | M66: HECHO EN COLOMBIA | N66: 73 | O66: =IFERROR(VLOOKUP(Tabla1[[#This Row],[NIVEL DE HABILIDAD]],CATEGORIAS!$M$3:$O$13,2,FALSE),"") -> 85000
A67: =_xlfn.IFNA(_xlfn.XLOOKUP(Tabla1[[#This Row],[ID]],'BASE DE DATOS 2026'!$B$3:$B$554,'BASE DE DATOS 2026'!$N$3:$N$554),"") -> 74 | B67: 74 | C67: JOAQUIN ALEJANDRO | D67: SANDOVAL ROJAS | E67: 1150694085 | G67: 2017 | H67: =IF(Tabla1[[#This Row],[FECHA DE NACIMIENTO]]="","",YEAR(NOW())-Tabla1[[#This Row],[FECHA DE NACIMIENTO]]) -> 9 | I67: PRINCIPIANTES | J67: =VLOOKUP(I67,NH,2,0) -> P | K67: =Tabla1[[#This Row],[FECHA DE NACIMIENTO]]&J67 -> 2017P | L67: =IFERROR(VLOOKUP(K67,CATEGORIAS,2,0),"") -> PRINCIPIANTES 9 Y 10 AÑOS | M67: HECHO EN COLOMBIA | N67: 74 | O67: =IFERROR(VLOOKUP(Tabla1[[#This Row],[NIVEL DE HABILIDAD]],CATEGORIAS!$M$3:$O$13,2,FALSE),"") -> 85000
A68: =_xlfn.IFNA(_xlfn.XLOOKUP(Tabla1[[#This Row],[ID]],'BASE DE DATOS 2026'!$B$3:$B$554,'BASE DE DATOS 2026'!$N$3:$N$554),"") -> 75 | B68: 75 | C68: MARTIN | D68: MUÑOZ ERAZO | E68: 11077870096 | G68: 2018 | H68: =IF(Tabla1[[#This Row],[FECHA DE NACIMIENTO]]="","",YEAR(NOW())-Tabla1[[#This Row],[FECHA DE NACIMIENTO]]) -> 8 | I68: PRINCIPIANTES | J68: =VLOOKUP(I68,NH,2,0) -> P | K68: =Tabla1[[#This Row],[FECHA DE NACIMIENTO]]&J68 -> 2018P | L68: =IFERROR(VLOOKUP(K68,CATEGORIAS,2,0),"") -> PRINCIPIANTES 7 Y 8 AÑOS | M68: HECHO EN COLOMBIA | N68: 75 | O68: =IFERROR(VLOOKUP(Tabla1[[#This Row],[NIVEL DE HABILIDAD]],CATEGORIAS!$M$3:$O$13,2,FALSE),"") -> 85000 | Q68: QUIQUILLO
A69: =_xlfn.IFNA(_xlfn.XLOOKUP(Tabla1[[#This Row],[ID]],'BASE DE DATOS 2026'!$B$3:$B$554,'BASE DE DATOS 2026'!$N$3:$N$554),"") -> 76 | B69: 76 | C69: JACOB | D69: VELAZCO DIAZ | E69: 1058940876 | G69: 2019 | H69: =IF(Tabla1[[#This Row],[FECHA DE NACIMIENTO]]="","",YEAR(NOW())-Tabla1[[#This Row],[FECHA DE NACIMIENTO]]) -> 7 | I69: PRINCIPIANTES | J69: =VLOOKUP(I69,NH,2,0) -> P | K69: =Tabla1[[#This Row],[FECHA DE NACIMIENTO]]&J69 -> 2019P | L69: =IFERROR(VLOOKUP(K69,CATEGORIAS,2,0),"") -> PRINCIPIANTES 7 Y 8 AÑOS | M69: CHAMPIONS FACTORY | N69: 76 | O69: =IFERROR(VLOOKUP(Tabla1[[#This Row],[NIVEL DE HABILIDAD]],CATEGORIAS!$M$3:$O$13,2,FALSE),"") -> 85000
A70: =_xlfn.IFNA(_xlfn.XLOOKUP(Tabla1[[#This Row],[ID]],'BASE DE DATOS 2026'!$B$3:$B$554,'BASE DE DATOS 2026'!$N$3:$N$554),"") | B70: 77 | C70: LUIS ALEJANDRO | D70: PARDO VALENCIA | E70: 1061827367 | G70: 2020 | H70: =IF(Tabla1[[#This Row],[FECHA DE NACIMIENTO]]="","",YEAR(NOW())-Tabla1[[#This Row],[FECHA DE NACIMIENTO]]) -> 6 | I70: PRINCIPIANTES | J70: =VLOOKUP(I70,NH,2,0) -> P | K70: =Tabla1[[#This Row],[FECHA DE NACIMIENTO]]&J70 -> 2020P | L70: =IFERROR(VLOOKUP(K70,CATEGORIAS,2,0),"") -> PRINCIPIANTES 6 AÑOS Y MENOS | M70: CHAMPIONS FACTORY | N70: 77 | O70: =IFERROR(VLOOKUP(Tabla1[[#This Row],[NIVEL DE HABILIDAD]],CATEGORIAS!$M$3:$O$13,2,FALSE),"") -> 85000 | Q70: PAPICHULO
A71: =_xlfn.IFNA(_xlfn.XLOOKUP(Tabla1[[#This Row],[ID]],'BASE DE DATOS 2026'!$B$3:$B$554,'BASE DE DATOS 2026'!$N$3:$N$554),"") -> 78 | B71: 78 | C71: MATEO | D71: ARROYAVE ACOSTA | E71: 1232802768 | G71: 2017 | H71: =IF(Tabla1[[#This Row],[FECHA DE NACIMIENTO]]="","",YEAR(NOW())-Tabla1[[#This Row],[FECHA DE NACIMIENTO]]) -> 9 | I71: MINIRIDERS | J71: =VLOOKUP(I71,NH,2,0) -> E | K71: =Tabla1[[#This Row],[FECHA DE NACIMIENTO]]&J71 -> 2017E | L71: =IFERROR(VLOOKUP(K71,CATEGORIAS,2,0),"") -> MINIRIDERS 9 Y 10 AÑOS | M71: BMX RIDERS BUGA | N71: 78 | O71: =IFERROR(VLOOKUP(Tabla1[[#This Row],[NIVEL DE HABILIDAD]],CATEGORIAS!$M$3:$O$13,2,FALSE),"") -> 85000
A72: =_xlfn.IFNA(_xlfn.XLOOKUP(Tabla1[[#This Row],[ID]],'BASE DE DATOS 2026'!$B$3:$B$554,'BASE DE DATOS 2026'!$N$3:$N$554),"") -> 79 | B72: 79 | C72: NICOLAS | D72: ARROYAVE ACOSTA | E72: 1232809992 | G72: 2019 | H72: =IF(Tabla1[[#This Row],[FECHA DE NACIMIENTO]]="","",YEAR(NOW())-Tabla1[[#This Row],[FECHA DE NACIMIENTO]]) -> 7 | I72: MINIRIDERS | J72: =VLOOKUP(I72,NH,2,0) -> E | K72: =Tabla1[[#This Row],[FECHA DE NACIMIENTO]]&J72 -> 2019E | L72: =IFERROR(VLOOKUP(K72,CATEGORIAS,2,0),"") -> MINIRIDERS 7 Y 8 AÑOS | M72: BMX RIDERS BUGA | N72: 79 | O72: =IFERROR(VLOOKUP(Tabla1[[#This Row],[NIVEL DE HABILIDAD]],CATEGORIAS!$M$3:$O$13,2,FALSE),"") -> 85000
A73: =_xlfn.IFNA(_xlfn.XLOOKUP(Tabla1[[#This Row],[ID]],'BASE DE DATOS 2026'!$B$3:$B$554,'BASE DE DATOS 2026'!$N$3:$N$554),"") | B73: 80 | C73: DANTE | D73: LOZANO GONZALES | E73: 1112067267 | G73: 2019 | H73: =IF(Tabla1[[#This Row],[FECHA DE NACIMIENTO]]="","",YEAR(NOW())-Tabla1[[#This Row],[FECHA DE NACIMIENTO]]) -> 7 | I73: MINIRIDERS | J73: =VLOOKUP(I73,NH,2,0) -> E | K73: =Tabla1[[#This Row],[FECHA DE NACIMIENTO]]&J73 -> 2019E | L73: =IFERROR(VLOOKUP(K73,CATEGORIAS,2,0),"") -> MINIRIDERS 7 Y 8 AÑOS | M73: CICLON BMX | N73: 80 | O73: =IFERROR(VLOOKUP(Tabla1[[#This Row],[NIVEL DE HABILIDAD]],CATEGORIAS!$M$3:$O$13,2,FALSE),"") -> 85000
A74: =_xlfn.IFNA(_xlfn.XLOOKUP(Tabla1[[#This Row],[ID]],'BASE DE DATOS 2026'!$B$3:$B$554,'BASE DE DATOS 2026'!$N$3:$N$554),"") | B74: 81 | C74: ISAAC | D74: CONDE HINCAPIE | E74: 1232803224 | G74: 2017 | H74: =IF(Tabla1[[#This Row],[FECHA DE NACIMIENTO]]="","",YEAR(NOW())-Tabla1[[#This Row],[FECHA DE NACIMIENTO]]) -> 9 | I74: MINIRIDERS | J74: =VLOOKUP(I74,NH,2,0) -> E | K74: =Tabla1[[#This Row],[FECHA DE NACIMIENTO]]&J74 -> 2017E | L74: =IFERROR(VLOOKUP(K74,CATEGORIAS,2,0),"") -> MINIRIDERS 9 Y 10 AÑOS | M74: CICLON BMX | N74: 81 | O74: =IFERROR(VLOOKUP(Tabla1[[#This Row],[NIVEL DE HABILIDAD]],CATEGORIAS!$M$3:$O$13,2,FALSE),"") -> 85000
A75: =_xlfn.IFNA(_xlfn.XLOOKUP(Tabla1[[#This Row],[ID]],'BASE DE DATOS 2026'!$B$3:$B$554,'BASE DE DATOS 2026'!$N$3:$N$554),"") | B75: 82 | C75: JACOBO | D75: ARISTIZABAL MUÑOZ | E75: 1108259157 | G75: 2017 | H75: =IF(Tabla1[[#This Row],[FECHA DE NACIMIENTO]]="","",YEAR(NOW())-Tabla1[[#This Row],[FECHA DE NACIMIENTO]]) -> 9 | I75: MINIRIDERS | J75: =VLOOKUP(I75,NH,2,0) -> E | K75: =Tabla1[[#This Row],[FECHA DE NACIMIENTO]]&J75 -> 2017E | L75: =IFERROR(VLOOKUP(K75,CATEGORIAS,2,0),"") -> MINIRIDERS 9 Y 10 AÑOS | M75: CICLON BMX | N75: 82 | O75: =IFERROR(VLOOKUP(Tabla1[[#This Row],[NIVEL DE HABILIDAD]],CATEGORIAS!$M$3:$O$13,2,FALSE),"") -> 85000
A76: =_xlfn.IFNA(_xlfn.XLOOKUP(Tabla1[[#This Row],[ID]],'BASE DE DATOS 2026'!$B$3:$B$554,'BASE DE DATOS 2026'!$N$3:$N$554),"") | B76: 83 | C76: JUAN MARTÍN | D76: GIRALDO REYES | E76: 1109685223 | G76: 2018 | H76: =IF(Tabla1[[#This Row],[FECHA DE NACIMIENTO]]="","",YEAR(NOW())-Tabla1[[#This Row],[FECHA DE NACIMIENTO]]) -> 8 | I76: PRINCIPIANTES | J76: =VLOOKUP(I76,NH,2,0) -> P | K76: =Tabla1[[#This Row],[FECHA DE NACIMIENTO]]&J76 -> 2018P | L76: =IFERROR(VLOOKUP(K76,CATEGORIAS,2,0),"") -> PRINCIPIANTES 7 Y 8 AÑOS | M76: CICLON BMX | N76: 83 | O76: =IFERROR(VLOOKUP(Tabla1[[#This Row],[NIVEL DE HABILIDAD]],CATEGORIAS!$M$3:$O$13,2,FALSE),"") -> 85000
A77: =_xlfn.IFNA(_xlfn.XLOOKUP(Tabla1[[#This Row],[ID]],'BASE DE DATOS 2026'!$B$3:$B$554,'BASE DE DATOS 2026'!$N$3:$N$554),"") | B77: 84 | C77: MATEO | D77: TRUJILLO IDARRAGA | E77: 1104841870 | G77: 2017 | H77: =IF(Tabla1[[#This Row],[FECHA DE NACIMIENTO]]="","",YEAR(NOW())-Tabla1[[#This Row],[FECHA DE NACIMIENTO]]) -> 9 | I77: MINIRIDERS | J77: =VLOOKUP(I77,NH,2,0) -> E | K77: =Tabla1[[#This Row],[FECHA DE NACIMIENTO]]&J77 -> 2017E | L77: =IFERROR(VLOOKUP(K77,CATEGORIAS,2,0),"") -> MINIRIDERS 9 Y 10 AÑOS | M77: CICLON BMX | N77: 84 | O77: =IFERROR(VLOOKUP(Tabla1[[#This Row],[NIVEL DE HABILIDAD]],CATEGORIAS!$M$3:$O$13,2,FALSE),"") -> 85000 | Q77: LEOPARDO
A78: =_xlfn.IFNA(_xlfn.XLOOKUP(Tabla1[[#This Row],[ID]],'BASE DE DATOS 2026'!$B$3:$B$554,'BASE DE DATOS 2026'!$N$3:$N$554),"") | B78: 85 | C78: TOMAS | D78: ARANGO CAICEDO | E78: 1232807736 | G78: 2019 | H78: =IF(Tabla1[[#This Row],[FECHA DE NACIMIENTO]]="","",YEAR(NOW())-Tabla1[[#This Row],[FECHA DE NACIMIENTO]]) -> 7 | I78: MINIRIDERS | J78: =VLOOKUP(I78,NH,2,0) -> E | K78: =Tabla1[[#This Row],[FECHA DE NACIMIENTO]]&J78 -> 2019E | L78: =IFERROR(VLOOKUP(K78,CATEGORIAS,2,0),"") -> MINIRIDERS 7 Y 8 AÑOS | M78: CICLON BMX | N78: 85 | O78: =IFERROR(VLOOKUP(Tabla1[[#This Row],[NIVEL DE HABILIDAD]],CATEGORIAS!$M$3:$O$13,2,FALSE),"") -> 85000
A79: =_xlfn.IFNA(_xlfn.XLOOKUP(Tabla1[[#This Row],[ID]],'BASE DE DATOS 2026'!$B$3:$B$554,'BASE DE DATOS 2026'!$N$3:$N$554),"") | B79: 86 | C79: MAILEN | D79: GONZALEZ SEPULVEDA | E79: 1.116.382.670 | G79: 2020 | H79: =IF(Tabla1[[#This Row],[FECHA DE NACIMIENTO]]="","",YEAR(NOW())-Tabla1[[#This Row],[FECHA DE NACIMIENTO]]) -> 6 | I79: PRINCIPIANTES | J79: =VLOOKUP(I79,NH,2,0) -> P | K79: =Tabla1[[#This Row],[FECHA DE NACIMIENTO]]&J79 -> 2020P | L79: =IFERROR(VLOOKUP(K79,CATEGORIAS,2,0),"") -> PRINCIPIANTES 6 AÑOS Y MENOS | M79: YUMBIKE | N79: 86 | O79: =IFERROR(VLOOKUP(Tabla1[[#This Row],[NIVEL DE HABILIDAD]],CATEGORIAS!$M$3:$O$13,2,FALSE),"") -> 85000
A80: =_xlfn.IFNA(_xlfn.XLOOKUP(Tabla1[[#This Row],[ID]],'BASE DE DATOS 2026'!$B$3:$B$554,'BASE DE DATOS 2026'!$N$3:$N$554),"") -> 87 | B80: 87 | C80: GUADALUPE | D80: CORTES | E80: 1144111488 | G80: 2020 | H80: =IF(Tabla1[[#This Row],[FECHA DE NACIMIENTO]]="","",YEAR(NOW())-Tabla1[[#This Row],[FECHA DE NACIMIENTO]]) -> 6 | I80: MINIRIDERS | J80: =VLOOKUP(I80,NH,2,0) -> E | K80: =Tabla1[[#This Row],[FECHA DE NACIMIENTO]]&J80 -> 2020E | L80: =IFERROR(VLOOKUP(K80,CATEGORIAS,2,0),"") -> MINIRIDERS 6 AÑOS | M80: PRO RIDERS | N80: 87 | O80: =IFERROR(VLOOKUP(Tabla1[[#This Row],[NIVEL DE HABILIDAD]],CATEGORIAS!$M$3:$O$13,2,FALSE),"") -> 85000
A81: =_xlfn.IFNA(_xlfn.XLOOKUP(Tabla1[[#This Row],[ID]],'BASE DE DATOS 2026'!$B$3:$B$554,'BASE DE DATOS 2026'!$N$3:$N$554),"") -> 88 | B81: 88 | C81: MATTHEW YAHEL | D81: VARELA | E81: 1232812973 | G81: 2020 | H81: =IF(Tabla1[[#This Row],[FECHA DE NACIMIENTO]]="","",YEAR(NOW())-Tabla1[[#This Row],[FECHA DE NACIMIENTO]]) -> 6 | I81: MINIRIDERS | J81: =VLOOKUP(I81,NH,2,0) -> E | K81: =Tabla1[[#This Row],[FECHA DE NACIMIENTO]]&J81 -> 2020E | L81: =IFERROR(VLOOKUP(K81,CATEGORIAS,2,0),"") -> MINIRIDERS 6 AÑOS | M81: PRO RIDERS | N81: 88 | O81: =IFERROR(VLOOKUP(Tabla1[[#This Row],[NIVEL DE HABILIDAD]],CATEGORIAS!$M$3:$O$13,2,FALSE),"") -> 85000
A82: =_xlfn.IFNA(_xlfn.XLOOKUP(Tabla1[[#This Row],[ID]],'BASE DE DATOS 2026'!$B$3:$B$554,'BASE DE DATOS 2026'!$N$3:$N$554),"") | B82: 89 | C82: MAXIMO | D82: GALLARDO | E82: 1232817079 | G82: 2021 | H82: =IF(Tabla1[[#This Row],[FECHA DE NACIMIENTO]]="","",YEAR(NOW())-Tabla1[[#This Row],[FECHA DE NACIMIENTO]]) -> 5 | I82: STRIDERS | J82: =VLOOKUP(I82,NH,2,0) -> S | K82: =Tabla1[[#This Row],[FECHA DE NACIMIENTO]]&J82 -> 2021S | L82: =IFERROR(VLOOKUP(K82,CATEGORIAS,2,0),"") -> STRIDERS 5 AÑOS | M82: PRO RIDERS | N82: 89 | O82: =IFERROR(VLOOKUP(Tabla1[[#This Row],[NIVEL DE HABILIDAD]],CATEGORIAS!$M$3:$O$13,2,FALSE),"") -> 85000 | Q82: LA FLECHA LUPITA
A83: =_xlfn.IFNA(_xlfn.XLOOKUP(Tabla1[[#This Row],[ID]],'BASE DE DATOS 2026'!$B$3:$B$554,'BASE DE DATOS 2026'!$N$3:$N$554),"") | B83: 90 | C83: GERONIMO | D83: MOLINA | E83: 1150695921 | G83: 2020 | H83: =IF(Tabla1[[#This Row],[FECHA DE NACIMIENTO]]="","",YEAR(NOW())-Tabla1[[#This Row],[FECHA DE NACIMIENTO]]) -> 6 | I83: MINIRIDERS | J83: =VLOOKUP(I83,NH,2,0) -> E | K83: =Tabla1[[#This Row],[FECHA DE NACIMIENTO]]&J83 -> 2020E | L83: =IFERROR(VLOOKUP(K83,CATEGORIAS,2,0),"") -> MINIRIDERS 6 AÑOS | M83: PRO RIDERS | N83: 90 | O83: =IFERROR(VLOOKUP(Tabla1[[#This Row],[NIVEL DE HABILIDAD]],CATEGORIAS!$M$3:$O$13,2,FALSE),"") -> 85000
A84: =_xlfn.IFNA(_xlfn.XLOOKUP(Tabla1[[#This Row],[ID]],'BASE DE DATOS 2026'!$B$3:$B$554,'BASE DE DATOS 2026'!$N$3:$N$554),"") | B84: 91 | C84: JOSÉ DAVID | D84: GUZMAN | E84: 1232813514 | G84: 2020 | H84: =IF(Tabla1[[#This Row],[FECHA DE NACIMIENTO]]="","",YEAR(NOW())-Tabla1[[#This Row],[FECHA DE NACIMIENTO]]) -> 6 | I84: MINIRIDERS | J84: =VLOOKUP(I84,NH,2,0) -> E | K84: =Tabla1[[#This Row],[FECHA DE NACIMIENTO]]&J84 -> 2020E | L84: =IFERROR(VLOOKUP(K84,CATEGORIAS,2,0),"") -> MINIRIDERS 6 AÑOS | M84: PRO RIDERS | N84: 91 | O84: =IFERROR(VLOOKUP(Tabla1[[#This Row],[NIVEL DE HABILIDAD]],CATEGORIAS!$M$3:$O$13,2,FALSE),"") -> 85000
A85: =_xlfn.IFNA(_xlfn.XLOOKUP(Tabla1[[#This Row],[ID]],'BASE DE DATOS 2026'!$B$3:$B$554,'BASE DE DATOS 2026'!$N$3:$N$554),"") | B85: 92 | C85: THIAGO | D85: VARELA | E85: 1111488099 | G85: 2020 | H85: =IF(Tabla1[[#This Row],[FECHA DE NACIMIENTO]]="","",YEAR(NOW())-Tabla1[[#This Row],[FECHA DE NACIMIENTO]]) -> 6 | I85: MINIRIDERS | J85: =VLOOKUP(I85,NH,2,0) -> E | K85: =Tabla1[[#This Row],[FECHA DE NACIMIENTO]]&J85 -> 2020E | L85: =IFERROR(VLOOKUP(K85,CATEGORIAS,2,0),"") -> MINIRIDERS 6 AÑOS | M85: PRO RIDERS | N85: 92 | O85: =IFERROR(VLOOKUP(Tabla1[[#This Row],[NIVEL DE HABILIDAD]],CATEGORIAS!$M$3:$O$13,2,FALSE),"") -> 85000
A86: =_xlfn.IFNA(_xlfn.XLOOKUP(Tabla1[[#This Row],[ID]],'BASE DE DATOS 2026'!$B$3:$B$554,'BASE DE DATOS 2026'!$N$3:$N$554),"") | B86: 93 | C86: EMILIANO | D86: PEREZ | E86: 1232816153 | G86: 2021 | H86: =IF(Tabla1[[#This Row],[FECHA DE NACIMIENTO]]="","",YEAR(NOW())-Tabla1[[#This Row],[FECHA DE NACIMIENTO]]) -> 5 | I86: STRIDERS | J86: =VLOOKUP(I86,NH,2,0) -> S | K86: =Tabla1[[#This Row],[FECHA DE NACIMIENTO]]&J86 -> 2021S | L86: =IFERROR(VLOOKUP(K86,CATEGORIAS,2,0),"") -> STRIDERS 5 AÑOS | M86: PRO RIDERS | N86: 93 | O86: =IFERROR(VLOOKUP(Tabla1[[#This Row],[NIVEL DE HABILIDAD]],CATEGORIAS!$M$3:$O$13,2,FALSE),"") -> 85000
A87: =_xlfn.IFNA(_xlfn.XLOOKUP(Tabla1[[#This Row],[ID]],'BASE DE DATOS 2026'!$B$3:$B$554,'BASE DE DATOS 2026'!$N$3:$N$554),"") -> 94 | B87: 94 | C87: GABRIEL | D87: TRUJILLO | E87: 1232816122 | G87: 2021 | H87: =IF(Tabla1[[#This Row],[FECHA DE NACIMIENTO]]="","",YEAR(NOW())-Tabla1[[#This Row],[FECHA DE NACIMIENTO]]) -> 5 | I87: STRIDERS | J87: =VLOOKUP(I87,NH,2,0) -> S | K87: =Tabla1[[#This Row],[FECHA DE NACIMIENTO]]&J87 -> 2021S | L87: =IFERROR(VLOOKUP(K87,CATEGORIAS,2,0),"") -> STRIDERS 5 AÑOS | M87: PRO RIDERS | N87: 94 | O87: =IFERROR(VLOOKUP(Tabla1[[#This Row],[NIVEL DE HABILIDAD]],CATEGORIAS!$M$3:$O$13,2,FALSE),"") -> 85000
A88: =_xlfn.IFNA(_xlfn.XLOOKUP(Tabla1[[#This Row],[ID]],'BASE DE DATOS 2026'!$B$3:$B$554,'BASE DE DATOS 2026'!$N$3:$N$554),"") -> 95 | B88: 95 | C88: VALENTINO | D88: LÓPEZ | E88: 1232814442 | G88: 2020 | H88: =IF(Tabla1[[#This Row],[FECHA DE NACIMIENTO]]="","",YEAR(NOW())-Tabla1[[#This Row],[FECHA DE NACIMIENTO]]) -> 6 | I88: MINIRIDERS | J88: =VLOOKUP(I88,NH,2,0) -> E | K88: =Tabla1[[#This Row],[FECHA DE NACIMIENTO]]&J88 -> 2020E | L88: =IFERROR(VLOOKUP(K88,CATEGORIAS,2,0),"") -> MINIRIDERS 6 AÑOS | M88: PRO RIDERS | N88: 95 | O88: =IFERROR(VLOOKUP(Tabla1[[#This Row],[NIVEL DE HABILIDAD]],CATEGORIAS!$M$3:$O$13,2,FALSE),"") -> 85000
A89: =_xlfn.IFNA(_xlfn.XLOOKUP(Tabla1[[#This Row],[ID]],'BASE DE DATOS 2026'!$B$3:$B$554,'BASE DE DATOS 2026'!$N$3:$N$554),"") | B89: 96 | C89: JULIETA | D89: TACUMA | E89: 1232813006 | G89: 2020 | H89: =IF(Tabla1[[#This Row],[FECHA DE NACIMIENTO]]="","",YEAR(NOW())-Tabla1[[#This Row],[FECHA DE NACIMIENTO]]) -> 6 | I89: MINIRIDERS | J89: =VLOOKUP(I89,NH,2,0) -> E | K89: =Tabla1[[#This Row],[FECHA DE NACIMIENTO]]&J89 -> 2020E | L89: =IFERROR(VLOOKUP(K89,CATEGORIAS,2,0),"") -> MINIRIDERS 6 AÑOS | M89: PRO RIDERS | N89: 96 | O89: =IFERROR(VLOOKUP(Tabla1[[#This Row],[NIVEL DE HABILIDAD]],CATEGORIAS!$M$3:$O$13,2,FALSE),"") -> 85000
A90: =_xlfn.IFNA(_xlfn.XLOOKUP(Tabla1[[#This Row],[ID]],'BASE DE DATOS 2026'!$B$3:$B$554,'BASE DE DATOS 2026'!$N$3:$N$554),"") -> 97 | B90: 97 | C90: JUAN MARTÍN | D90: MUÑOZ | E90: 1109566887 | G90: 2019 | H90: =IF(Tabla1[[#This Row],[FECHA DE NACIMIENTO]]="","",YEAR(NOW())-Tabla1[[#This Row],[FECHA DE NACIMIENTO]]) -> 7 | I90: PRINCIPIANTES | J90: =VLOOKUP(I90,NH,2,0) -> P | K90: =Tabla1[[#This Row],[FECHA DE NACIMIENTO]]&J90 -> 2019P | L90: =IFERROR(VLOOKUP(K90,CATEGORIAS,2,0),"") -> PRINCIPIANTES 7 Y 8 AÑOS | M90: PRO RIDERS | N90: 97 | O90: =IFERROR(VLOOKUP(Tabla1[[#This Row],[NIVEL DE HABILIDAD]],CATEGORIAS!$M$3:$O$13,2,FALSE),"") -> 85000
A91: =_xlfn.IFNA(_xlfn.XLOOKUP(Tabla1[[#This Row],[ID]],'BASE DE DATOS 2026'!$B$3:$B$554,'BASE DE DATOS 2026'!$N$3:$N$554),"") -> 98 | B91: 98 | C91: ALEJANDRO | D91: BENITEZ | E91: 1232810736 | G91: 2019 | H91: =IF(Tabla1[[#This Row],[FECHA DE NACIMIENTO]]="","",YEAR(NOW())-Tabla1[[#This Row],[FECHA DE NACIMIENTO]]) -> 7 | I91: PRINCIPIANTES | J91: =VLOOKUP(I91,NH,2,0) -> P | K91: =Tabla1[[#This Row],[FECHA DE NACIMIENTO]]&J91 -> 2019P | L91: =IFERROR(VLOOKUP(K91,CATEGORIAS,2,0),"") -> PRINCIPIANTES 7 Y 8 AÑOS | M91: PRO RIDERS | N91: 98 | O91: =IFERROR(VLOOKUP(Tabla1[[#This Row],[NIVEL DE HABILIDAD]],CATEGORIAS!$M$3:$O$13,2,FALSE),"") -> 85000 | Q91: LA GATA VELOZ
A92: =_xlfn.IFNA(_xlfn.XLOOKUP(Tabla1[[#This Row],[ID]],'BASE DE DATOS 2026'!$B$3:$B$554,'BASE DE DATOS 2026'!$N$3:$N$554),"") -> 99 | B92: 99 | C92: MARTÍN | D92: VALENCIA GRAFFE | E92: 1109567753 | G92: 2019 | H92: =IF(Tabla1[[#This Row],[FECHA DE NACIMIENTO]]="","",YEAR(NOW())-Tabla1[[#This Row],[FECHA DE NACIMIENTO]]) -> 7 | I92: PRINCIPIANTES | J92: =VLOOKUP(I92,NH,2,0) -> P | K92: =Tabla1[[#This Row],[FECHA DE NACIMIENTO]]&J92 -> 2019P | L92: =IFERROR(VLOOKUP(K92,CATEGORIAS,2,0),"") -> PRINCIPIANTES 7 Y 8 AÑOS | M92: PRO RIDERS | N92: 99 | O92: =IFERROR(VLOOKUP(Tabla1[[#This Row],[NIVEL DE HABILIDAD]],CATEGORIAS!$M$3:$O$13,2,FALSE),"") -> 85000
A93: =_xlfn.IFNA(_xlfn.XLOOKUP(Tabla1[[#This Row],[ID]],'BASE DE DATOS 2026'!$B$3:$B$554,'BASE DE DATOS 2026'!$N$3:$N$554),"") -> 100 | B93: 100 | C93: ISAAC | D93: MEDINILLO | E93: 1108259825 | G93: 2018 | H93: =IF(Tabla1[[#This Row],[FECHA DE NACIMIENTO]]="","",YEAR(NOW())-Tabla1[[#This Row],[FECHA DE NACIMIENTO]]) -> 8 | I93: PRINCIPIANTES | J93: =VLOOKUP(I93,NH,2,0) -> P | K93: =Tabla1[[#This Row],[FECHA DE NACIMIENTO]]&J93 -> 2018P | L93: =IFERROR(VLOOKUP(K93,CATEGORIAS,2,0),"") -> PRINCIPIANTES 7 Y 8 AÑOS | M93: PRO RIDERS | N93: 100 | O93: =IFERROR(VLOOKUP(Tabla1[[#This Row],[NIVEL DE HABILIDAD]],CATEGORIAS!$M$3:$O$13,2,FALSE),"") -> 85000
A94: =_xlfn.IFNA(_xlfn.XLOOKUP(Tabla1[[#This Row],[ID]],'BASE DE DATOS 2026'!$B$3:$B$554,'BASE DE DATOS 2026'!$N$3:$N$554),"") -> 101 | B94: 101 | C94: JUAN JOSE | D94: LOPEZ | E94: 1110376811 | G94: 2016 | H94: =IF(Tabla1[[#This Row],[FECHA DE NACIMIENTO]]="","",YEAR(NOW())-Tabla1[[#This Row],[FECHA DE NACIMIENTO]]) -> 10 | I94: PRINCIPIANTES | J94: =VLOOKUP(I94,NH,2,0) -> P | K94: =Tabla1[[#This Row],[FECHA DE NACIMIENTO]]&J94 -> 2016P | L94: =IFERROR(VLOOKUP(K94,CATEGORIAS,2,0),"") -> PRINCIPIANTES 9 Y 10 AÑOS | M94: PRO RIDERS | N94: 101 | O94: =IFERROR(VLOOKUP(Tabla1[[#This Row],[NIVEL DE HABILIDAD]],CATEGORIAS!$M$3:$O$13,2,FALSE),"") -> 85000
A95: =_xlfn.IFNA(_xlfn.XLOOKUP(Tabla1[[#This Row],[ID]],'BASE DE DATOS 2026'!$B$3:$B$554,'BASE DE DATOS 2026'!$N$3:$N$554),"") -> 102 | B95: 102 | C95: JACOB | D95: CABRERA | E95: 1106524594 | G95: 2020 | H95: =IF(Tabla1[[#This Row],[FECHA DE NACIMIENTO]]="","",YEAR(NOW())-Tabla1[[#This Row],[FECHA DE NACIMIENTO]]) -> 6 | I95: PRINCIPIANTES | J95: =VLOOKUP(I95,NH,2,0) -> P | K95: =Tabla1[[#This Row],[FECHA DE NACIMIENTO]]&J95 -> 2020P | L95: =IFERROR(VLOOKUP(K95,CATEGORIAS,2,0),"") -> PRINCIPIANTES 6 AÑOS Y MENOS | M95: PRO RIDERS | N95: 102 | O95: =IFERROR(VLOOKUP(Tabla1[[#This Row],[NIVEL DE HABILIDAD]],CATEGORIAS!$M$3:$O$13,2,FALSE),"") -> 85000
A96: =_xlfn.IFNA(_xlfn.XLOOKUP(Tabla1[[#This Row],[ID]],'BASE DE DATOS 2026'!$B$3:$B$554,'BASE DE DATOS 2026'!$N$3:$N$554),"") | B96: 103 | C96: DIEGO | D96: JIMENEZ | E96: 1149941670 | G96: 2018 | H96: =IF(Tabla1[[#This Row],[FECHA DE NACIMIENTO]]="","",YEAR(NOW())-Tabla1[[#This Row],[FECHA DE NACIMIENTO]]) -> 8 | I96: PRINCIPIANTES | J96: =VLOOKUP(I96,NH,2,0) -> P | K96: =Tabla1[[#This Row],[FECHA DE NACIMIENTO]]&J96 -> 2018P | L96: =IFERROR(VLOOKUP(K96,CATEGORIAS,2,0),"") -> PRINCIPIANTES 7 Y 8 AÑOS | M96: PRO RIDERS | N96: 103 | O96: =IFERROR(VLOOKUP(Tabla1[[#This Row],[NIVEL DE HABILIDAD]],CATEGORIAS!$M$3:$O$13,2,FALSE),"") -> 85000
A97: =_xlfn.IFNA(_xlfn.XLOOKUP(Tabla1[[#This Row],[ID]],'BASE DE DATOS 2026'!$B$3:$B$554,'BASE DE DATOS 2026'!$N$3:$N$554),"") -> 104 | B97: 104 | C97: JUAN SEBASTIÁN | D97: CHAMORRO MORENO | E97: 1112062020 | G97: 2016 | H97: =IF(Tabla1[[#This Row],[FECHA DE NACIMIENTO]]="","",YEAR(NOW())-Tabla1[[#This Row],[FECHA DE NACIMIENTO]]) -> 10 | I97: PRINCIPIANTES | J97: =VLOOKUP(I97,NH,2,0) -> P | K97: =Tabla1[[#This Row],[FECHA DE NACIMIENTO]]&J97 -> 2016P | L97: =IFERROR(VLOOKUP(K97,CATEGORIAS,2,0),"") -> PRINCIPIANTES 9 Y 10 AÑOS | M97: XTREME RACING | N97: 104 | O97: =IFERROR(VLOOKUP(Tabla1[[#This Row],[NIVEL DE HABILIDAD]],CATEGORIAS!$M$3:$O$13,2,FALSE),"") -> 85000
A98: =_xlfn.IFNA(_xlfn.XLOOKUP(Tabla1[[#This Row],[ID]],'BASE DE DATOS 2026'!$B$3:$B$554,'BASE DE DATOS 2026'!$N$3:$N$554),"") -> 105 | B98: 105 | C98: KWETH YU | D98: GUETIO ÑUSCUE | E98: 1063819176 | G98: 2020 | H98: =IF(Tabla1[[#This Row],[FECHA DE NACIMIENTO]]="","",YEAR(NOW())-Tabla1[[#This Row],[FECHA DE NACIMIENTO]]) -> 6 | I98: PRINCIPIANTES | J98: =VLOOKUP(I98,NH,2,0) -> P | K98: =Tabla1[[#This Row],[FECHA DE NACIMIENTO]]&J98 -> 2020P | L98: =IFERROR(VLOOKUP(K98,CATEGORIAS,2,0),"") -> PRINCIPIANTES 6 AÑOS Y MENOS | M98: RACING CAUCA | N98: 105 | O98: =IFERROR(VLOOKUP(Tabla1[[#This Row],[NIVEL DE HABILIDAD]],CATEGORIAS!$M$3:$O$13,2,FALSE),"") -> 85000
A99: =_xlfn.IFNA(_xlfn.XLOOKUP(Tabla1[[#This Row],[ID]],'BASE DE DATOS 2026'!$B$3:$B$554,'BASE DE DATOS 2026'!$N$3:$N$554),"") -> 106 | B99: 106 | C99: JERONIMO | D99: CAMPO CUBIDES | E99: 1166466694 | G99: 2016 | H99: =IF(Tabla1[[#This Row],[FECHA DE NACIMIENTO]]="","",YEAR(NOW())-Tabla1[[#This Row],[FECHA DE NACIMIENTO]]) -> 10 | I99: PRINCIPIANTES | J99: =VLOOKUP(I99,NH,2,0) -> P | K99: =Tabla1[[#This Row],[FECHA DE NACIMIENTO]]&J99 -> 2016P | L99: =IFERROR(VLOOKUP(K99,CATEGORIAS,2,0),"") -> PRINCIPIANTES 9 Y 10 AÑOS | M99: REAL RIDERS POPAYAN | N99: 106 | O99: =IFERROR(VLOOKUP(Tabla1[[#This Row],[NIVEL DE HABILIDAD]],CATEGORIAS!$M$3:$O$13,2,FALSE),"") -> 85000
A100: =_xlfn.IFNA(_xlfn.XLOOKUP(Tabla1[[#This Row],[ID]],'BASE DE DATOS 2026'!$B$3:$B$554,'BASE DE DATOS 2026'!$N$3:$N$554),"") | B100: 107 | C100: MATIAS | D100: BUITRAGO COUTIN | E100: 1104844980 | G100: 2019 | H100: =IF(Tabla1[[#This Row],[FECHA DE NACIMIENTO]]="","",YEAR(NOW())-Tabla1[[#This Row],[FECHA DE NACIMIENTO]]) -> 7 | I100: MINIRIDERS | J100: =VLOOKUP(I100,NH,2,0) -> E | K100: =Tabla1[[#This Row],[FECHA DE NACIMIENTO]]&J100 -> 2019E | L100: =IFERROR(VLOOKUP(K100,CATEGORIAS,2,0),"") -> MINIRIDERS 7 Y 8 AÑOS | M100: PRO RIDERS | N100: 107 | O100: =IFERROR(VLOOKUP(Tabla1[[#This Row],[NIVEL DE HABILIDAD]],CATEGORIAS!$M$3:$O$13,2,FALSE),"") -> 85000 | Q100: EL GATO KWETH YU
A101: =_xlfn.IFNA(_xlfn.XLOOKUP(Tabla1[[#This Row],[ID]],'BASE DE DATOS 2026'!$B$3:$B$554,'BASE DE DATOS 2026'!$N$3:$N$554),"") | B101: 108 | C101: MARTIN ALEJANDRO | D101: VALENCIA GUZMAN | E101: 1232811325 | G101: 2020 | H101: =IF(Tabla1[[#This Row],[FECHA DE NACIMIENTO]]="","",YEAR(NOW())-Tabla1[[#This Row],[FECHA DE NACIMIENTO]]) -> 6 | I101: MINIRIDERS | J101: =VLOOKUP(I101,NH,2,0) -> E | K101: =Tabla1[[#This Row],[FECHA DE NACIMIENTO]]&J101 -> 2020E | L101: =IFERROR(VLOOKUP(K101,CATEGORIAS,2,0),"") -> MINIRIDERS 6 AÑOS | M101: XTREMO BMX | N101: 108 | O101: =IFERROR(VLOOKUP(Tabla1[[#This Row],[NIVEL DE HABILIDAD]],CATEGORIAS!$M$3:$O$13,2,FALSE),"") -> 85000
A102: =_xlfn.IFNA(_xlfn.XLOOKUP(Tabla1[[#This Row],[ID]],'BASE DE DATOS 2026'!$B$3:$B$554,'BASE DE DATOS 2026'!$N$3:$N$554),"") | B102: 109 | C102: NICOLAS | D102: MORENO JARAMILLO | E102: 1.241.989.012 | G102: 2022 | H102: =IF(Tabla1[[#This Row],[FECHA DE NACIMIENTO]]="","",YEAR(NOW())-Tabla1[[#This Row],[FECHA DE NACIMIENTO]]) -> 4 | I102: STRIDERS | J102: =VLOOKUP(I102,NH,2,0) -> S | K102: =Tabla1[[#This Row],[FECHA DE NACIMIENTO]]&J102 -> 2022S | L102: =IFERROR(VLOOKUP(K102,CATEGORIAS,2,0),"") -> STRIDERS 4 AÑOS | M102: DREAM TEAM BMX CAUCA | N102: 109 | O102: =IFERROR(VLOOKUP(Tabla1[[#This Row],[NIVEL DE HABILIDAD]],CATEGORIAS!$M$3:$O$13,2,FALSE),"") -> 85000
...

Sheet INSCRIPCIONES
A1: SUPER COPA 2026 - SUPER CAMPEONATO
B2: CLUB:
B3: DELEGADO: | L3: =COUNTIF('INSCRIPCIONES NUEVOS'!$K$7:$K$63,"ST*")+COUNTIF('INSCRIPCIONES NUEVOS'!$K$7:$K$63,"MI*") -> 0
B4: TELEFONO: | G4: FECHA: | H4: 46200 | L4: =SUBTOTAL(103,'INSCRIPCIONES NUEVOS'!$D$7:$D$63)-L3 -> 0
L5: =SUM(L3:L4) -> 0
A6: ID | B6: PLACA | C6: NOMBRES | D6: APELLIDOS | E6: FECHA NACIMIENTO | F6: SEX | G6: CLUB | H6: CATEGORIA | I6: TABLERO No | J6: VALOR INSCRIPCION | K6: OBSERVACIONES | L6: APODO
A7: =IF(INSCRIPCIONES!$B7="","",SUBTOTAL(103,$B$7:B7)) | C7: =IFERROR(VLOOKUP(INSCRIPCIONES!$B7,BASE2026,2,FALSE),"") | D7: =IFERROR(VLOOKUP(INSCRIPCIONES!$B7,BASE2026,3,FALSE),"") | E7: =IFERROR(VLOOKUP(INSCRIPCIONES!$B7,BASE2026,6,0),"") | F7: =IFERROR(VLOOKUP(INSCRIPCIONES!$B7,BASE2026,5,0),"") | G7: =IFERROR(VLOOKUP(INSCRIPCIONES!$B7,BASE2026,12,FALSE),"") | H7: =IFERROR(VLOOKUP(INSCRIPCIONES!$B7,BASE2026,11,FALSE),"") | I7: =IFERROR(VLOOKUP(INSCRIPCIONES!$B7,BASE2026,13,FALSE),"") | J7: =IF(B7="","",IF(INSCRIPCIONES!$K7="DESCUENTO FAMILIA",65000,85000)) | L7: =_xlfn.IFNA(VLOOKUP(INSCRIPCIONES!$B7,'BASE DE DATOS 2026'!$B$3:$Q$650,16,FALSE),"")
A8: =IF(INSCRIPCIONES!$B8="","",SUBTOTAL(103,$B$7:B8)) | C8: =IFERROR(VLOOKUP(INSCRIPCIONES!$B8,BASE2026,2,FALSE),"") | D8: =IFERROR(VLOOKUP(INSCRIPCIONES!$B8,BASE2026,3,FALSE),"") | E8: =IFERROR(VLOOKUP(INSCRIPCIONES!$B8,BASE2026,6,0),"") | F8: =IFERROR(VLOOKUP(INSCRIPCIONES!$B8,BASE2026,5,0),"") | G8: =IFERROR(VLOOKUP(INSCRIPCIONES!$B8,BASE2026,12,FALSE),"") | H8: =IFERROR(VLOOKUP(INSCRIPCIONES!$B8,BASE2026,11,FALSE),"") | I8: =IFERROR(VLOOKUP(INSCRIPCIONES!$B8,BASE2026,13,FALSE),"") | J8: =IF(B8="","",IF(INSCRIPCIONES!$K8="DESCUENTO FAMILIA",65000,85000)) | L8: =_xlfn.IFNA(VLOOKUP(INSCRIPCIONES!$B8,'BASE DE DATOS 2026'!$B$3:$Q$650,16,FALSE),"")
A9: =IF(INSCRIPCIONES!$B9="","",SUBTOTAL(103,$B$7:B9)) | C9: =IFERROR(VLOOKUP(INSCRIPCIONES!$B9,BASE2026,2,FALSE),"") | D9: =IFERROR(VLOOKUP(INSCRIPCIONES!$B9,BASE2026,3,FALSE),"") | E9: =IFERROR(VLOOKUP(INSCRIPCIONES!$B9,BASE2026,6,0),"") | F9: =IFERROR(VLOOKUP(INSCRIPCIONES!$B9,BASE2026,5,0),"") | G9: =IFERROR(VLOOKUP(INSCRIPCIONES!$B9,BASE2026,12,FALSE),"") | H9: =IFERROR(VLOOKUP(INSCRIPCIONES!$B9,BASE2026,11,FALSE),"") | I9: =IFERROR(VLOOKUP(INSCRIPCIONES!$B9,BASE2026,13,FALSE),"") | J9: =IF(B9="","",IF(INSCRIPCIONES!$K9="DESCUENTO FAMILIA",65000,85000)) | L9: =_xlfn.IFNA(VLOOKUP(INSCRIPCIONES!$B9,'BASE DE DATOS 2026'!$B$3:$Q$650,16,FALSE),"")
A10: =IF(INSCRIPCIONES!$B10="","",SUBTOTAL(103,$B$7:B10)) | C10: =IFERROR(VLOOKUP(INSCRIPCIONES!$B10,BASE2026,2,FALSE),"") | D10: =IFERROR(VLOOKUP(INSCRIPCIONES!$B10,BASE2026,3,FALSE),"") | E10: =IFERROR(VLOOKUP(INSCRIPCIONES!$B10,BASE2026,6,0),"") | F10: =IFERROR(VLOOKUP(INSCRIPCIONES!$B10,BASE2026,5,0),"") | G10: =IFERROR(VLOOKUP(INSCRIPCIONES!$B10,BASE2026,12,FALSE),"") | H10: =IFERROR(VLOOKUP(INSCRIPCIONES!$B10,BASE2026,11,FALSE),"") | I10: =IFERROR(VLOOKUP(INSCRIPCIONES!$B10,BASE2026,13,FALSE),"") | J10: =IF(B10="","",IF(INSCRIPCIONES!$K10="DESCUENTO FAMILIA",65000,85000)) | L10: =_xlfn.IFNA(VLOOKUP(INSCRIPCIONES!$B10,'BASE DE DATOS 2026'!$B$3:$Q$650,16,FALSE),"")
A11: =IF(INSCRIPCIONES!$B11="","",SUBTOTAL(103,$B$7:B11)) | C11: =IFERROR(VLOOKUP(INSCRIPCIONES!$B11,BASE2026,2,FALSE),"") | D11: =IFERROR(VLOOKUP(INSCRIPCIONES!$B11,BASE2026,3,FALSE),"") | E11: =IFERROR(VLOOKUP(INSCRIPCIONES!$B11,BASE2026,6,0),"") | F11: =IFERROR(VLOOKUP(INSCRIPCIONES!$B11,BASE2026,5,0),"") | G11: =IFERROR(VLOOKUP(INSCRIPCIONES!$B11,BASE2026,12,FALSE),"") | H11: =IFERROR(VLOOKUP(INSCRIPCIONES!$B11,BASE2026,11,FALSE),"") | I11: =IFERROR(VLOOKUP(INSCRIPCIONES!$B11,BASE2026,13,FALSE),"") | J11: =IF(B11="","",IF(INSCRIPCIONES!$K11="DESCUENTO FAMILIA",65000,85000)) | L11: =_xlfn.IFNA(VLOOKUP(INSCRIPCIONES!$B11,'BASE DE DATOS 2026'!$B$3:$Q$650,16,FALSE),"")
A12: =IF(INSCRIPCIONES!$B12="","",SUBTOTAL(103,$B$7:B12)) | C12: =IFERROR(VLOOKUP(INSCRIPCIONES!$B12,BASE2026,2,FALSE),"") | D12: =IFERROR(VLOOKUP(INSCRIPCIONES!$B12,BASE2026,3,FALSE),"") | E12: =IFERROR(VLOOKUP(INSCRIPCIONES!$B12,BASE2026,6,0),"") | F12: =IFERROR(VLOOKUP(INSCRIPCIONES!$B12,BASE2026,5,0),"") | G12: =IFERROR(VLOOKUP(INSCRIPCIONES!$B12,BASE2026,12,FALSE),"") | H12: =IFERROR(VLOOKUP(INSCRIPCIONES!$B12,BASE2026,11,FALSE),"") | I12: =IFERROR(VLOOKUP(INSCRIPCIONES!$B12,BASE2026,13,FALSE),"") | J12: =IF(B12="","",IF(INSCRIPCIONES!$K12="DESCUENTO FAMILIA",65000,85000)) | L12: =_xlfn.IFNA(VLOOKUP(INSCRIPCIONES!$B12,'BASE DE DATOS 2026'!$B$3:$Q$650,16,FALSE),"")
A13: =IF(INSCRIPCIONES!$B13="","",SUBTOTAL(103,$B$7:B13)) | C13: =IFERROR(VLOOKUP(INSCRIPCIONES!$B13,BASE2026,2,FALSE),"") | D13: =IFERROR(VLOOKUP(INSCRIPCIONES!$B13,BASE2026,3,FALSE),"") | E13: =IFERROR(VLOOKUP(INSCRIPCIONES!$B13,BASE2026,6,0),"") | F13: =IFERROR(VLOOKUP(INSCRIPCIONES!$B13,BASE2026,5,0),"") | G13: =IFERROR(VLOOKUP(INSCRIPCIONES!$B13,BASE2026,12,FALSE),"") | H13: =IFERROR(VLOOKUP(INSCRIPCIONES!$B13,BASE2026,11,FALSE),"") | I13: =IFERROR(VLOOKUP(INSCRIPCIONES!$B13,BASE2026,13,FALSE),"") | J13: =IF(B13="","",IF(INSCRIPCIONES!$K13="DESCUENTO FAMILIA",65000,85000)) | L13: =_xlfn.IFNA(VLOOKUP(INSCRIPCIONES!$B13,'BASE DE DATOS 2026'!$B$3:$Q$650,16,FALSE),"")
A14: =IF(INSCRIPCIONES!$B14="","",SUBTOTAL(103,$B$7:B14)) | C14: =IFERROR(VLOOKUP(INSCRIPCIONES!$B14,BASE2026,2,FALSE),"") | D14: =IFERROR(VLOOKUP(INSCRIPCIONES!$B14,BASE2026,3,FALSE),"") | E14: =IFERROR(VLOOKUP(INSCRIPCIONES!$B14,BASE2026,6,0),"") | F14: =IFERROR(VLOOKUP(INSCRIPCIONES!$B14,BASE2026,5,0),"") | G14: =IFERROR(VLOOKUP(INSCRIPCIONES!$B14,BASE2026,12,FALSE),"") | H14: =IFERROR(VLOOKUP(INSCRIPCIONES!$B14,BASE2026,11,FALSE),"") | I14: =IFERROR(VLOOKUP(INSCRIPCIONES!$B14,BASE2026,13,FALSE),"") | J14: =IF(B14="","",IF(INSCRIPCIONES!$K14="DESCUENTO FAMILIA",65000,85000)) | L14: =_xlfn.IFNA(VLOOKUP(INSCRIPCIONES!$B14,'BASE DE DATOS 2026'!$B$3:$Q$650,16,FALSE),"")
A15: =IF(INSCRIPCIONES!$B15="","",SUBTOTAL(103,$B$7:B15)) | C15: =IFERROR(VLOOKUP(INSCRIPCIONES!$B15,BASE2026,2,FALSE),"") | D15: =IFERROR(VLOOKUP(INSCRIPCIONES!$B15,BASE2026,3,FALSE),"") | E15: =IFERROR(VLOOKUP(INSCRIPCIONES!$B15,BASE2026,6,0),"") | F15: =IFERROR(VLOOKUP(INSCRIPCIONES!$B15,BASE2026,5,0),"") | G15: =IFERROR(VLOOKUP(INSCRIPCIONES!$B15,BASE2026,12,FALSE),"") | H15: =IFERROR(VLOOKUP(INSCRIPCIONES!$B15,BASE2026,11,FALSE),"") | I15: =IFERROR(VLOOKUP(INSCRIPCIONES!$B15,BASE2026,13,FALSE),"") | J15: =IF(B15="","",IF(INSCRIPCIONES!$K15="DESCUENTO FAMILIA",65000,85000)) | L15: =_xlfn.IFNA(VLOOKUP(INSCRIPCIONES!$B15,'BASE DE DATOS 2026'!$B$3:$Q$650,16,FALSE),"")
A16: =IF(INSCRIPCIONES!$B16="","",SUBTOTAL(103,$B$7:B16)) | C16: =IFERROR(VLOOKUP(INSCRIPCIONES!$B16,BASE2026,2,FALSE),"") | D16: =IFERROR(VLOOKUP(INSCRIPCIONES!$B16,BASE2026,3,FALSE),"") | E16: =IFERROR(VLOOKUP(INSCRIPCIONES!$B16,BASE2026,6,0),"") | F16: =IFERROR(VLOOKUP(INSCRIPCIONES!$B16,BASE2026,5,0),"") | G16: =IFERROR(VLOOKUP(INSCRIPCIONES!$B16,BASE2026,12,FALSE),"") | H16: =IFERROR(VLOOKUP(INSCRIPCIONES!$B16,BASE2026,11,FALSE),"") | I16: =IFERROR(VLOOKUP(INSCRIPCIONES!$B16,BASE2026,13,FALSE),"") | J16: =IF(B16="","",IF(INSCRIPCIONES!$K16="DESCUENTO FAMILIA",65000,85000)) | L16: =_xlfn.IFNA(VLOOKUP(INSCRIPCIONES!$B16,'BASE DE DATOS 2026'!$B$3:$Q$650,16,FALSE),"")
A17: =IF(INSCRIPCIONES!$B17="","",SUBTOTAL(103,$B$7:B17)) | C17: =IFERROR(VLOOKUP(INSCRIPCIONES!$B17,BASE2026,2,FALSE),"") | D17: =IFERROR(VLOOKUP(INSCRIPCIONES!$B17,BASE2026,3,FALSE),"") | E17: =IFERROR(VLOOKUP(INSCRIPCIONES!$B17,BASE2026,6,0),"") | F17: =IFERROR(VLOOKUP(INSCRIPCIONES!$B17,BASE2026,5,0),"") | G17: =IFERROR(VLOOKUP(INSCRIPCIONES!$B17,BASE2026,12,FALSE),"") | H17: =IFERROR(VLOOKUP(INSCRIPCIONES!$B17,BASE2026,11,FALSE),"") | I17: =IFERROR(VLOOKUP(INSCRIPCIONES!$B17,BASE2026,13,FALSE),"") | J17: =IF(B17="","",IF(INSCRIPCIONES!$K17="DESCUENTO FAMILIA",65000,85000)) | L17: =_xlfn.IFNA(VLOOKUP(INSCRIPCIONES!$B17,'BASE DE DATOS 2026'!$B$3:$Q$650,16,FALSE),"")
A18: =IF(INSCRIPCIONES!$B18="","",SUBTOTAL(103,$B$7:B18)) | C18: =IFERROR(VLOOKUP(INSCRIPCIONES!$B18,BASE2026,2,FALSE),"") | D18: =IFERROR(VLOOKUP(INSCRIPCIONES!$B18,BASE2026,3,FALSE),"") | E18: =IFERROR(VLOOKUP(INSCRIPCIONES!$B18,BASE2026,6,0),"") | F18: =IFERROR(VLOOKUP(INSCRIPCIONES!$B18,BASE2026,5,0),"") | G18: =IFERROR(VLOOKUP(INSCRIPCIONES!$B18,BASE2026,12,FALSE),"") | H18: =IFERROR(VLOOKUP(INSCRIPCIONES!$B18,BASE2026,11,FALSE),"") | I18: =IFERROR(VLOOKUP(INSCRIPCIONES!$B18,BASE2026,13,FALSE),"") | J18: =IF(B18="","",IF(INSCRIPCIONES!$K18="DESCUENTO FAMILIA",65000,85000)) | L18: =_xlfn.IFNA(VLOOKUP(INSCRIPCIONES!$B18,'BASE DE DATOS 2026'!$B$3:$Q$650,16,FALSE),"")
... A349: =IF(INSCRIPCIONES!$B349="","",SUBTOTAL(103,$B$7:B349)) | C349: =IFERROR(VLOOKUP(INSCRIPCIONES!$B349,BASE2026,2,FALSE),"") | D349: =IFERROR(VLOOKUP(INSCRIPCIONES!$B349,BASE2026,3,FALSE),"") | E349: =IFERROR(VLOOKUP(INSCRIPCIONES!$B349,BASE2026,6,0),"") | F349: =IFERROR(VLOOKUP(INSCRIPCIONES!$B349,BASE2026,5,0),"") | G349: =IFERROR(VLOOKUP(INSCRIPCIONES!$B349,BASE2026,12,FALSE),"") | H349: =IFERROR(VLOOKUP(INSCRIPCIONES!$B349,BASE2026,11,FALSE),"") | I349: =IFERROR(VLOOKUP(INSCRIPCIONES!$B349,BASE2026,13,FALSE),"") | J349: =IF(B349="","",IF(INSCRIPCIONES!$K349="DESCUENTO FAMILIA",65000,85000)) | L349: =_xlfn.IFNA(VLOOKUP(INSCRIPCIONES!$B349,'BASE DE DATOS 2026'!$B$3:$Q$650,16,FALSE),"")
C350: =IFERROR(VLOOKUP(INSCRIPCIONES!$B350,BASE2026,2,FALSE),"") | D350: =IFERROR(VLOOKUP(INSCRIPCIONES!$B350,BASE2026,3,FALSE),"") | E350: =IFERROR(VLOOKUP(INSCRIPCIONES!$B350,BASE2026,6,0),"") | F350: =IFERROR(VLOOKUP(INSCRIPCIONES!$B350,BASE2026,5,0),"") | G350: =IFERROR(VLOOKUP(INSCRIPCIONES!$B350,BASE2026,12,FALSE),"") | H350: =IFERROR(VLOOKUP(INSCRIPCIONES!$B350,BASE2026,11,FALSE),"") | I350: =IFERROR(VLOOKUP(INSCRIPCIONES!$B350,BASE2026,13,FALSE),"") | J350: =IF(B350="","",IF(INSCRIPCIONES!$K350="DESCUENTO FAMILIA",65000,85000)) | L350: =_xlfn.IFNA(VLOOKUP(INSCRIPCIONES!$B350,'BASE DE DATOS 2026'!$B$3:$Q$650,16,FALSE),"")
C351: =IFERROR(VLOOKUP(INSCRIPCIONES!$B351,BASE2026,2,FALSE),"") | D351: =IFERROR(VLOOKUP(INSCRIPCIONES!$B351,BASE2026,3,FALSE),"") | E351: =IFERROR(VLOOKUP(INSCRIPCIONES!$B351,BASE2026,6,0),"") | F351: =IFERROR(VLOOKUP(INSCRIPCIONES!$B351,BASE2026,5,0),"") | G351: =IFERROR(VLOOKUP(INSCRIPCIONES!$B351,BASE2026,12,FALSE),"") | H351: =IFERROR(VLOOKUP(INSCRIPCIONES!$B351,BASE2026,11,FALSE),"") | I351: =IFERROR(VLOOKUP(INSCRIPCIONES!$B351,BASE2026,13,FALSE),"") | J351: =IF(B351="","",IF(INSCRIPCIONES!$K351="DESCUENTO FAMILIA",65000,85000)) | L351: =_xlfn.IFNA(VLOOKUP(INSCRIPCIONES!$B351,'BASE DE DATOS 2026'!$B$3:$Q$650,16,FALSE),"")
C352: =IFERROR(VLOOKUP(INSCRIPCIONES!$B352,BASE2026,2,FALSE),"") | D352: =IFERROR(VLOOKUP(INSCRIPCIONES!$B352,BASE2026,3,FALSE),"") | E352: =IFERROR(VLOOKUP(INSCRIPCIONES!$B352,BASE2026,6,0),"") | F352: =IFERROR(VLOOKUP(INSCRIPCIONES!$B352,BASE2026,5,0),"") | G352: =IFERROR(VLOOKUP(INSCRIPCIONES!$B352,BASE2026,12,FALSE),"") | H352: =IFERROR(VLOOKUP(INSCRIPCIONES!$B352,BASE2026,11,FALSE),"") | I352: =IFERROR(VLOOKUP(INSCRIPCIONES!$B352,BASE2026,13,FALSE),"") | J352: =IF(B352="","",IF(INSCRIPCIONES!$K352="DESCUENTO FAMILIA",65000,85000)) | L352: =_xlfn.IFNA(VLOOKUP(INSCRIPCIONES!$B352,'BASE DE DATOS 2026'!$B$3:$Q$650,16,FALSE),"")
C353: =IFERROR(VLOOKUP(INSCRIPCIONES!$B353,BASE2026,2,FALSE),"") | D353: =IFERROR(VLOOKUP(INSCRIPCIONES!$B353,BASE2026,3,FALSE),"") | E353: =IFERROR(VLOOKUP(INSCRIPCIONES!$B353,BASE2026,6,0),"") | F353: =IFERROR(VLOOKUP(INSCRIPCIONES!$B353,BASE2026,5,0),"") | G353: =IFERROR(VLOOKUP(INSCRIPCIONES!$B353,BASE2026,12,FALSE),"") | H353: =IFERROR(VLOOKUP(INSCRIPCIONES!$B353,BASE2026,11,FALSE),"") | I353: =IFERROR(VLOOKUP(INSCRIPCIONES!$B353,BASE2026,13,FALSE),"") | J353: =IF(B353="","",IF(INSCRIPCIONES!$K353="DESCUENTO FAMILIA",65000,85000)) | L353: =_xlfn.IFNA(VLOOKUP(INSCRIPCIONES!$B353,'BASE DE DATOS 2026'!$B$3:$Q$650,16,FALSE),"")
C354: =IFERROR(VLOOKUP(INSCRIPCIONES!$B354,BASE2026,2,FALSE),"") | D354: =IFERROR(VLOOKUP(INSCRIPCIONES!$B354,BASE2026,3,FALSE),"") | E354: =IFERROR(VLOOKUP(INSCRIPCIONES!$B354,BASE2026,6,0),"") | F354: =IFERROR(VLOOKUP(INSCRIPCIONES!$B354,BASE2026,5,0),"") | G354: =IFERROR(VLOOKUP(INSCRIPCIONES!$B354,BASE2026,12,FALSE),"") | H354: =IFERROR(VLOOKUP(INSCRIPCIONES!$B354,BASE2026,11,FALSE),"") | I354: =IFERROR(VLOOKUP(INSCRIPCIONES!$B354,BASE2026,13,FALSE),"") | J354: =IF(B354="","",IF(INSCRIPCIONES!$K354="DESCUENTO FAMILIA",65000,85000)) | L354: =_xlfn.IFNA(VLOOKUP(INSCRIPCIONES!$B354,'BASE DE DATOS 2026'!$B$3:$Q$650,16,FALSE),"")
C355: =IFERROR(VLOOKUP(INSCRIPCIONES!$B355,BASE2026,2,FALSE),"") | D355: =IFERROR(VLOOKUP(INSCRIPCIONES!$B355,BASE2026,3,FALSE),"") | E355: =IFERROR(VLOOKUP(INSCRIPCIONES!$B355,BASE2026,6,0),"") | F355: =IFERROR(VLOOKUP(INSCRIPCIONES!$B355,BASE2026,5,0),"") | G355: =IFERROR(VLOOKUP(INSCRIPCIONES!$B355,BASE2026,12,FALSE),"") | H355: =IFERROR(VLOOKUP(INSCRIPCIONES!$B355,BASE2026,11,FALSE),"") | I355: =IFERROR(VLOOKUP(INSCRIPCIONES!$B355,BASE2026,13,FALSE),"") | J355: =IF(B355="","",IF(INSCRIPCIONES!$K355="DESCUENTO FAMILIA",65000,85000)) | L355: =_xlfn.IFNA(VLOOKUP(INSCRIPCIONES!$B355,'BASE DE DATOS 2026'!$B$3:$Q$650,16,FALSE),"")
C356: =IFERROR(VLOOKUP(INSCRIPCIONES!$B356,BASE2026,2,FALSE),"") | D356: =IFERROR(VLOOKUP(INSCRIPCIONES!$B356,BASE2026,3,FALSE),"") | E356: =IFERROR(VLOOKUP(INSCRIPCIONES!$B356,BASE2026,6,0),"") | F356: =IFERROR(VLOOKUP(INSCRIPCIONES!$B356,BASE2026,5,0),"") | G356: =IFERROR(VLOOKUP(INSCRIPCIONES!$B356,BASE2026,12,FALSE),"") | H356: =IFERROR(VLOOKUP(INSCRIPCIONES!$B356,BASE2026,11,FALSE),"") | I356: =IFERROR(VLOOKUP(INSCRIPCIONES!$B356,BASE2026,13,FALSE),"") | J356: =IF(B356="","",IF(INSCRIPCIONES!$K356="DESCUENTO FAMILIA",65000,85000)) | L356: =_xlfn.IFNA(VLOOKUP(INSCRIPCIONES!$B356,'BASE DE DATOS 2026'!$B$3:$Q$650,16,FALSE),"")
C357: =IFERROR(VLOOKUP(INSCRIPCIONES!$B357,BASE2026,2,FALSE),"") | D357: =IFERROR(VLOOKUP(INSCRIPCIONES!$B357,BASE2026,3,FALSE),"") | E357: =IFERROR(VLOOKUP(INSCRIPCIONES!$B357,BASE2026,6,0),"") | F357: =IFERROR(VLOOKUP(INSCRIPCIONES!$B357,BASE2026,5,0),"") | G357: =IFERROR(VLOOKUP(INSCRIPCIONES!$B357,BASE2026,12,FALSE),"") | H357: =IFERROR(VLOOKUP(INSCRIPCIONES!$B357,BASE2026,11,FALSE),"") | I357: =IFERROR(VLOOKUP(INSCRIPCIONES!$B357,BASE2026,13,FALSE),"") | J357: =IF(B357="","",IF(INSCRIPCIONES!$K357="DESCUENTO FAMILIA",65000,85000)) | L357: =_xlfn.IFNA(VLOOKUP(INSCRIPCIONES!$B357,'BASE DE DATOS 2026'!$B$3:$Q$650,16,FALSE),"")
C358: =IFERROR(VLOOKUP(INSCRIPCIONES!$B358,BASE2026,2,FALSE),"") | D358: =IFERROR(VLOOKUP(INSCRIPCIONES!$B358,BASE2026,3,FALSE),"") | E358: =IFERROR(VLOOKUP(INSCRIPCIONES!$B358,BASE2026,6,0),"") | F358: =IFERROR(VLOOKUP(INSCRIPCIONES!$B358,BASE2026,5,0),"") | G358: =IFERROR(VLOOKUP(INSCRIPCIONES!$B358,BASE2026,12,FALSE),"") | H358: =IFERROR(VLOOKUP(INSCRIPCIONES!$B358,BASE2026,11,FALSE),"") | I358: =IFERROR(VLOOKUP(INSCRIPCIONES!$B358,BASE2026,13,FALSE),"") | J358: =IF(B358="","",IF(INSCRIPCIONES!$K358="DESCUENTO FAMILIA",65000,85000)) | L358: =_xlfn.IFNA(VLOOKUP(INSCRIPCIONES!$B358,'BASE DE DATOS 2026'!$B$3:$Q$650,16,FALSE),"")
C359: =IFERROR(VLOOKUP(INSCRIPCIONES!$B359,BASE2026,2,FALSE),"") | D359: =IFERROR(VLOOKUP(INSCRIPCIONES!$B359,BASE2026,3,FALSE),"") | E359: =IFERROR(VLOOKUP(INSCRIPCIONES!$B359,BASE2026,6,0),"") | F359: =IFERROR(VLOOKUP(INSCRIPCIONES!$B359,BASE2026,5,0),"") | G359: =IFERROR(VLOOKUP(INSCRIPCIONES!$B359,BASE2026,12,FALSE),"") | H359: =IFERROR(VLOOKUP(INSCRIPCIONES!$B359,BASE2026,11,FALSE),"") | I359: =IFERROR(VLOOKUP(INSCRIPCIONES!$B359,BASE2026,13,FALSE),"") | J359: =IF(B359="","",IF(INSCRIPCIONES!$K359="DESCUENTO FAMILIA",65000,85000)) | L359: =_xlfn.IFNA(VLOOKUP(INSCRIPCIONES!$B359,'BASE DE DATOS 2026'!$B$3:$Q$650,16,FALSE),"")
C360: =IFERROR(VLOOKUP(INSCRIPCIONES!$B360,BASE2026,2,FALSE),"") | D360: =IFERROR(VLOOKUP(INSCRIPCIONES!$B360,BASE2026,3,FALSE),"") | E360: =IFERROR(VLOOKUP(INSCRIPCIONES!$B360,BASE2026,6,0),"") | F360: =IFERROR(VLOOKUP(INSCRIPCIONES!$B360,BASE2026,5,0),"") | G360: =IFERROR(VLOOKUP(INSCRIPCIONES!$B360,BASE2026,12,FALSE),"") | H360: =IFERROR(VLOOKUP(INSCRIPCIONES!$B360,BASE2026,11,FALSE),"") | I360: =IFERROR(VLOOKUP(INSCRIPCIONES!$B360,BASE2026,13,FALSE),"") | J360: =IF(B360="","",IF(INSCRIPCIONES!$K360="DESCUENTO FAMILIA",65000,85000)) | L360: =_xlfn.IFNA(VLOOKUP(INSCRIPCIONES!$B360,'BASE DE DATOS 2026'!$B$3:$Q$650,16,FALSE),"")
C361: =IFERROR(VLOOKUP(INSCRIPCIONES!$B361,BASE2026,2,FALSE),"") | D361: =IFERROR(VLOOKUP(INSCRIPCIONES!$B361,BASE2026,3,FALSE),"") | E361: =IFERROR(VLOOKUP(INSCRIPCIONES!$B361,BASE2026,6,0),"") | F361: =IFERROR(VLOOKUP(INSCRIPCIONES!$B361,BASE2026,5,0),"") | G361: =IFERROR(VLOOKUP(INSCRIPCIONES!$B361,BASE2026,12,FALSE),"") | H361: =IFERROR(VLOOKUP(INSCRIPCIONES!$B361,BASE2026,11,FALSE),"") | I361: =IFERROR(VLOOKUP(INSCRIPCIONES!$B361,BASE2026,13,FALSE),"") | J361: =IF(B361="","",IF(INSCRIPCIONES!$K361="DESCUENTO FAMILIA",65000,85000)) | L361: =_xlfn.IFNA(VLOOKUP(INSCRIPCIONES!$B361,'BASE DE DATOS 2026'!$B$3:$Q$650,16,FALSE),"")
... C372: =IFERROR(VLOOKUP(INSCRIPCIONES!$B372,BASE2026,2,FALSE),"") | D372: =IFERROR(VLOOKUP(INSCRIPCIONES!$B372,BASE2026,3,FALSE),"") | E372: =IFERROR(VLOOKUP(INSCRIPCIONES!$B372,BASE2026,6,0),"") | F372: =IFERROR(VLOOKUP(INSCRIPCIONES!$B372,BASE2026,5,0),"") | G372: =IFERROR(VLOOKUP(INSCRIPCIONES!$B372,BASE2026,12,FALSE),"") | H372: =IFERROR(VLOOKUP(INSCRIPCIONES!$B372,BASE2026,11,FALSE),"") | I372: =IFERROR(VLOOKUP(INSCRIPCIONES!$B372,BASE2026,13,FALSE),"") | J372: =IF(B372="","",IF(INSCRIPCIONES!$K372="DESCUENTO FAMILIA",65000,85000)) | L372: =_xlfn.IFNA(VLOOKUP(INSCRIPCIONES!$B372,'BASE DE DATOS 2026'!$B$3:$Q$650,16,FALSE),"")

Sheet INSCRIPCIONES NUEVOS
C1: =INSCRIPCIONES!A1 -> SUPER COPA 2026 - SUPER CAMPEONATO
C2: CLUB:
C3: DELEGADO: | L3: =COUNTIF('INSCRIPCIONES NUEVOS'!$K$7:$K$63,"ST*")+COUNTIF('INSCRIPCIONES NUEVOS'!$K$7:$K$63,"MI*") -> 0
C4: TELEFONO: | E4: FECHA: | F4: =+INSCRIPCIONES!H4 -> 46200 | L4: =SUBTOTAL(103,'INSCRIPCIONES NUEVOS'!$D$7:$D$63)-L3 -> 0
L5: =SUM(L3:L4) -> 0
A6: ID | B6: TABLERO | C6: NOMBRES | D6: APELLIDOS | E6: # DOCUMENTO IDENTIDAD | F6: FECHA DE NACIMIENTO (dd-mm-aa) | G6: EDAD | H6: NIVEL DE HABILIDAD | I6: SNH | J6: SCAT | K6: CATEGORIA | L6: CLUB | M6: VALOR INSCRIPCION | N6: OBSERVACIONES | O6: APODO
A7: =IF(C7<>"",SUBTOTAL(103,$C$7:C7),"") | G7: =IF(F7="","",YEAR(NOW())-YEAR(F7)) | I7: =IFERROR(VLOOKUP(H7,NIVELES,2,0),"") | J7: =YEAR(F7)&I7 -> 1900 | K7: =IFERROR(VLOOKUP(J7,CATEGORIAS,2,0),"") | M7: =IF('INSCRIPCIONES NUEVOS'!$C7<>"",IF('INSCRIPCIONES NUEVOS'!$B7="",115000,105000),"") | R7: =+UPPER(TRIM('INSCRIPCIONES NUEVOS'!$C7)) | S7: =+UPPER(TRIM('INSCRIPCIONES NUEVOS'!$D7)) | U7: =UPPER(TRIM('INSCRIPCIONES NUEVOS'!$L7))
A8: =IF(C8<>"",SUBTOTAL(103,$C$7:C8),"") | G8: =IF(F8="","",YEAR(NOW())-YEAR(F8)) | I8: =IFERROR(VLOOKUP(H8,NIVELES,2,0),"") | J8: =YEAR(F8)&I8 -> 1900 | K8: =IFERROR(VLOOKUP(J8,CATEGORIAS,2,0),"") | M8: =IF('INSCRIPCIONES NUEVOS'!$C8<>"",IF('INSCRIPCIONES NUEVOS'!$B8="",115000,105000),"") | R8: =+UPPER(TRIM('INSCRIPCIONES NUEVOS'!$C8)) | S8: =+UPPER(TRIM('INSCRIPCIONES NUEVOS'!$D8)) | U8: =UPPER(TRIM('INSCRIPCIONES NUEVOS'!$L8))
A9: =IF(C9<>"",SUBTOTAL(103,$C$7:C9),"") | G9: =IF(F9="","",YEAR(NOW())-YEAR(F9)) | I9: =IFERROR(VLOOKUP(H9,NIVELES,2,0),"") | J9: =YEAR(F9)&I9 -> 1900 | K9: =IFERROR(VLOOKUP(J9,CATEGORIAS,2,0),"") | M9: =IF('INSCRIPCIONES NUEVOS'!$C9<>"",IF('INSCRIPCIONES NUEVOS'!$B9="",115000,105000),"") | R9: =+UPPER(TRIM('INSCRIPCIONES NUEVOS'!$C9)) | S9: =+UPPER(TRIM('INSCRIPCIONES NUEVOS'!$D9)) | U9: =UPPER(TRIM('INSCRIPCIONES NUEVOS'!$L9))
A10: =IF(C10<>"",SUBTOTAL(103,$C$7:C10),"") | G10: =IF(F10="","",YEAR(NOW())-YEAR(F10)) | I10: =IFERROR(VLOOKUP(H10,NIVELES,2,0),"") | J10: =YEAR(F10)&I10 -> 1900 | K10: =IFERROR(VLOOKUP(J10,CATEGORIAS,2,0),"") | M10: =IF('INSCRIPCIONES NUEVOS'!$C10<>"",IF('INSCRIPCIONES NUEVOS'!$B10="",115000,105000),"") | R10: =+UPPER(TRIM('INSCRIPCIONES NUEVOS'!$C10)) | S10: =+UPPER(TRIM('INSCRIPCIONES NUEVOS'!$D10)) | U10: =UPPER(TRIM('INSCRIPCIONES NUEVOS'!$L10))
A11: =IF(C11<>"",SUBTOTAL(103,$C$7:C11),"") | G11: =IF(F11="","",YEAR(NOW())-YEAR(F11)) | I11: =IFERROR(VLOOKUP(H11,NIVELES,2,0),"") | J11: =YEAR(F11)&I11 -> 1900 | K11: =IFERROR(VLOOKUP(J11,CATEGORIAS,2,0),"") | M11: =IF('INSCRIPCIONES NUEVOS'!$C11<>"",IF('INSCRIPCIONES NUEVOS'!$B11="",115000,105000),"") | R11: =+UPPER(TRIM('INSCRIPCIONES NUEVOS'!$C11)) | S11: =+UPPER(TRIM('INSCRIPCIONES NUEVOS'!$D11)) | U11: =UPPER(TRIM('INSCRIPCIONES NUEVOS'!$L11))
A12: =IF(C12<>"",SUBTOTAL(103,$C$7:C12),"") | G12: =IF(F12="","",YEAR(NOW())-YEAR(F12)) | I12: =IFERROR(VLOOKUP(H12,NIVELES,2,0),"") | J12: =YEAR(F12)&I12 -> 1900 | K12: =IFERROR(VLOOKUP(J12,CATEGORIAS,2,0),"") | M12: =IF('INSCRIPCIONES NUEVOS'!$C12<>"",IF('INSCRIPCIONES NUEVOS'!$B12="",115000,105000),"") | R12: =+UPPER(TRIM('INSCRIPCIONES NUEVOS'!$C12)) | S12: =+UPPER(TRIM('INSCRIPCIONES NUEVOS'!$D12)) | U12: =UPPER(TRIM('INSCRIPCIONES NUEVOS'!$L12))
A13: =IF(C13<>"",SUBTOTAL(103,$C$7:C13),"") | G13: =IF(F13="","",YEAR(NOW())-YEAR(F13)) | I13: =IFERROR(VLOOKUP(H13,NIVELES,2,0),"") | J13: =YEAR(F13)&I13 -> 1900 | K13: =IFERROR(VLOOKUP(J13,CATEGORIAS,2,0),"") | M13: =IF('INSCRIPCIONES NUEVOS'!$C13<>"",IF('INSCRIPCIONES NUEVOS'!$B13="",115000,105000),"") | R13: =+UPPER(TRIM('INSCRIPCIONES NUEVOS'!$C13)) | S13: =+UPPER(TRIM('INSCRIPCIONES NUEVOS'!$D13)) | U13: =UPPER(TRIM('INSCRIPCIONES NUEVOS'!$L13))
A14: =IF(C14<>"",SUBTOTAL(103,$C$7:C14),"") | G14: =IF(F14="","",YEAR(NOW())-YEAR(F14)) | I14: =IFERROR(VLOOKUP(H14,NIVELES,2,0),"") | J14: =YEAR(F14)&I14 -> 1900 | K14: =IFERROR(VLOOKUP(J14,CATEGORIAS,2,0),"") | M14: =IF('INSCRIPCIONES NUEVOS'!$C14<>"",IF('INSCRIPCIONES NUEVOS'!$B14="",115000,105000),"") | R14: =+UPPER(TRIM('INSCRIPCIONES NUEVOS'!$C14)) | S14: =+UPPER(TRIM('INSCRIPCIONES NUEVOS'!$D14)) | U14: =UPPER(TRIM('INSCRIPCIONES NUEVOS'!$L14))
A15: =IF(C15<>"",SUBTOTAL(103,$C$7:C15),"") | G15: =IF(F15="","",YEAR(NOW())-YEAR(F15)) | I15: =IFERROR(VLOOKUP(H15,NIVELES,2,0),"") | J15: =YEAR(F15)&I15 -> 1900 | K15: =IFERROR(VLOOKUP(J15,CATEGORIAS,2,0),"") | M15: =IF('INSCRIPCIONES NUEVOS'!$C15<>"",IF('INSCRIPCIONES NUEVOS'!$B15="",115000,105000),"") | R15: =+UPPER(TRIM('INSCRIPCIONES NUEVOS'!$C15)) | S15: =+UPPER(TRIM('INSCRIPCIONES NUEVOS'!$D15)) | U15: =UPPER(TRIM('INSCRIPCIONES NUEVOS'!$L15))
A16: =IF(C16<>"",SUBTOTAL(103,$C$7:C16),"") | G16: =IF(F16="","",YEAR(NOW())-YEAR(F16)) | I16: =IFERROR(VLOOKUP(H16,NIVELES,2,0),"") | J16: =YEAR(F16)&I16 -> 1900 | K16: =IFERROR(VLOOKUP(J16,CATEGORIAS,2,0),"") | M16: =IF('INSCRIPCIONES NUEVOS'!$C16<>"",IF('INSCRIPCIONES NUEVOS'!$B16="",115000,105000),"") | R16: =+UPPER(TRIM('INSCRIPCIONES NUEVOS'!$C16)) | S16: =+UPPER(TRIM('INSCRIPCIONES NUEVOS'!$D16)) | U16: =UPPER(TRIM('INSCRIPCIONES NUEVOS'!$L16))
A17: =IF(C17<>"",SUBTOTAL(103,$C$7:C17),"") | G17: =IF(F17="","",YEAR(NOW())-YEAR(F17)) | I17: =IFERROR(VLOOKUP(H17,NIVELES,2,0),"") | J17: =YEAR(F17)&I17 -> 1900 | K17: =IFERROR(VLOOKUP(J17,CATEGORIAS,2,0),"") | M17: =IF('INSCRIPCIONES NUEVOS'!$C17<>"",IF('INSCRIPCIONES NUEVOS'!$B17="",115000,105000),"") | R17: =+UPPER(TRIM('INSCRIPCIONES NUEVOS'!$C17)) | S17: =+UPPER(TRIM('INSCRIPCIONES NUEVOS'!$D17)) | U17: =UPPER(TRIM('INSCRIPCIONES NUEVOS'!$L17))
A18: =IF(C18<>"",SUBTOTAL(103,$C$7:C18),"") | G18: =IF(F18="","",YEAR(NOW())-YEAR(F18)) | I18: =IFERROR(VLOOKUP(H18,NIVELES,2,0),"") | J18: =YEAR(F18)&I18 -> 1900 | K18: =IFERROR(VLOOKUP(J18,CATEGORIAS,2,0),"") | M18: =IF('INSCRIPCIONES NUEVOS'!$C18<>"",IF('INSCRIPCIONES NUEVOS'!$B18="",115000,105000),"") | R18: =+UPPER(TRIM('INSCRIPCIONES NUEVOS'!$C18)) | S18: =+UPPER(TRIM('INSCRIPCIONES NUEVOS'!$D18)) | U18: =UPPER(TRIM('INSCRIPCIONES NUEVOS'!$L18))
... A46: =IF(C46<>"",SUBTOTAL(103,$C$7:C46),"") | G46: =IF(F46="","",YEAR(NOW())-YEAR(F46)) | I46: =IFERROR(VLOOKUP(H46,NIVELES,2,0),"") | J46: =YEAR(F46)&I46 -> 1900 | K46: =IFERROR(VLOOKUP(J46,CATEGORIAS,2,0),"") | M46: =IF('INSCRIPCIONES NUEVOS'!$C46<>"",IF('INSCRIPCIONES NUEVOS'!$B46="",115000,105000),"") | R46: =+UPPER(TRIM('INSCRIPCIONES NUEVOS'!$C46)) | S46: =+UPPER(TRIM('INSCRIPCIONES NUEVOS'!$D46)) | U46: =UPPER(TRIM('INSCRIPCIONES NUEVOS'!$L46))
A47: =IF(C47<>"",SUBTOTAL(103,$C$7:C47),"") | G47: =IF(F47="","",YEAR(NOW())-YEAR(F47)) | I47: =IFERROR(VLOOKUP(H47,NIVELES,2,0),"") | J47: =YEAR(F47)&I47 -> 1900 | K47: =IFERROR(VLOOKUP(J47,CATEGORIAS,2,0),"") | M47: =IF('INSCRIPCIONES NUEVOS'!$C47<>"",IF('INSCRIPCIONES NUEVOS'!$B47="",115000,105000),"") | O47: =_xlfn.IFNA(VLOOKUP('INSCRIPCIONES NUEVOS'!$B47,'BASE DE DATOS 2025'!$N$3:$R$652,4,FALSE),"") | R47: =+UPPER(TRIM('INSCRIPCIONES NUEVOS'!$C47)) | S47: =+UPPER(TRIM('INSCRIPCIONES NUEVOS'!$D47)) | U47: =UPPER(TRIM('INSCRIPCIONES NUEVOS'!$L47))
A48: =IF(C48<>"",SUBTOTAL(103,$C$7:C48),"") | G48: =IF(F48="","",YEAR(NOW())-YEAR(F48)) | I48: =IFERROR(VLOOKUP(H48,NIVELES,2,0),"") | J48: =YEAR(F48)&I48 -> 1900 | K48: =IFERROR(VLOOKUP(J48,CATEGORIAS,2,0),"") | M48: =IF('INSCRIPCIONES NUEVOS'!$C48<>"",IF('INSCRIPCIONES NUEVOS'!$B48="",115000,105000),"") | O48: =_xlfn.IFNA(VLOOKUP('INSCRIPCIONES NUEVOS'!$B48,'BASE DE DATOS 2025'!$N$3:$R$652,4,FALSE),"") | R48: =+UPPER(TRIM('INSCRIPCIONES NUEVOS'!$C48)) | S48: =+UPPER(TRIM('INSCRIPCIONES NUEVOS'!$D48)) | U48: =UPPER(TRIM('INSCRIPCIONES NUEVOS'!$L48))
A49: =IF(C49<>"",SUBTOTAL(103,$C$7:C49),"") | G49: =IF(F49="","",YEAR(NOW())-YEAR(F49)) | I49: =IFERROR(VLOOKUP(H49,NIVELES,2,0),"") | J49: =YEAR(F49)&I49 -> 1900 | K49: =IFERROR(VLOOKUP(J49,CATEGORIAS,2,0),"") | M49: =IF('INSCRIPCIONES NUEVOS'!$C49<>"",IF('INSCRIPCIONES NUEVOS'!$B49="",115000,105000),"") | O49: =_xlfn.IFNA(VLOOKUP('INSCRIPCIONES NUEVOS'!$B49,'BASE DE DATOS 2025'!$N$3:$R$652,4,FALSE),"") | R49: =+UPPER(TRIM('INSCRIPCIONES NUEVOS'!$C49)) | S49: =+UPPER(TRIM('INSCRIPCIONES NUEVOS'!$D49)) | U49: =UPPER(TRIM('INSCRIPCIONES NUEVOS'!$L49))
A50: =IF(C50<>"",SUBTOTAL(103,$C$7:C50),"") | G50: =IF(F50="","",YEAR(NOW())-YEAR(F50)) | I50: =IFERROR(VLOOKUP(H50,NIVELES,2,0),"") | J50: =YEAR(F50)&I50 -> 1900 | K50: =IFERROR(VLOOKUP(J50,CATEGORIAS,2,0),"") | M50: =IF('INSCRIPCIONES NUEVOS'!$C50<>"",IF('INSCRIPCIONES NUEVOS'!$B50="",115000,105000),"") | O50: =_xlfn.IFNA(VLOOKUP('INSCRIPCIONES NUEVOS'!$B50,'BASE DE DATOS 2025'!$N$3:$R$652,4,FALSE),"") | R50: =+UPPER(TRIM('INSCRIPCIONES NUEVOS'!$C50)) | S50: =+UPPER(TRIM('INSCRIPCIONES NUEVOS'!$D50)) | U50: =UPPER(TRIM('INSCRIPCIONES NUEVOS'!$L50))
A51: =IF(C51<>"",SUBTOTAL(103,$C$7:C51),"") | G51: =IF(F51="","",YEAR(NOW())-YEAR(F51)) | I51: =IFERROR(VLOOKUP(H51,NIVELES,2,0),"") | J51: =YEAR(F51)&I51 -> 1900 | K51: =IFERROR(VLOOKUP(J51,CATEGORIAS,2,0),"") | M51: =IF('INSCRIPCIONES NUEVOS'!$C51<>"",IF('INSCRIPCIONES NUEVOS'!$B51="",115000,105000),"") | O51: =_xlfn.IFNA(VLOOKUP('INSCRIPCIONES NUEVOS'!$B51,'BASE DE DATOS 2025'!$N$3:$R$652,4,FALSE),"") | R51: =+UPPER(TRIM('INSCRIPCIONES NUEVOS'!$C51)) | S51: =+UPPER(TRIM('INSCRIPCIONES NUEVOS'!$D51)) | U51: =UPPER(TRIM('INSCRIPCIONES NUEVOS'!$L51))
A52: =IF(C52<>"",SUBTOTAL(103,$C$7:C52),"") | G52: =IF(F52="","",YEAR(NOW())-YEAR(F52)) | I52: =IFERROR(VLOOKUP(H52,NIVELES,2,0),"") | J52: =YEAR(F52)&I52 -> 1900 | K52: =IFERROR(VLOOKUP(J52,CATEGORIAS,2,0),"") | M52: =IF('INSCRIPCIONES NUEVOS'!$C52<>"",IF('INSCRIPCIONES NUEVOS'!$B52="",115000,105000),"") | O52: =_xlfn.IFNA(VLOOKUP('INSCRIPCIONES NUEVOS'!$B52,'BASE DE DATOS 2025'!$N$3:$R$652,4,FALSE),"") | R52: =+UPPER(TRIM('INSCRIPCIONES NUEVOS'!$C52)) | S52: =+UPPER(TRIM('INSCRIPCIONES NUEVOS'!$D52)) | U52: =UPPER(TRIM('INSCRIPCIONES NUEVOS'!$L52))
A53: =IF(C53<>"",SUBTOTAL(103,$C$7:C53),"") | G53: =IF(F53="","",YEAR(NOW())-YEAR(F53)) | I53: =IFERROR(VLOOKUP(H53,NIVELES,2,0),"") | J53: =YEAR(F53)&I53 -> 1900 | K53: =IFERROR(VLOOKUP(J53,CATEGORIAS,2,0),"") | M53: =IF('INSCRIPCIONES NUEVOS'!$C53<>"",IF('INSCRIPCIONES NUEVOS'!$B53="",115000,105000),"") | O53: =_xlfn.IFNA(VLOOKUP('INSCRIPCIONES NUEVOS'!$B53,'BASE DE DATOS 2025'!$N$3:$R$652,4,FALSE),"") | R53: =+UPPER(TRIM('INSCRIPCIONES NUEVOS'!$C53)) | S53: =+UPPER(TRIM('INSCRIPCIONES NUEVOS'!$D53)) | U53: =UPPER(TRIM('INSCRIPCIONES NUEVOS'!$L53))
A54: =IF(C54<>"",SUBTOTAL(103,$C$7:C54),"") | G54: =IF(F54="","",YEAR(NOW())-YEAR(F54)) | I54: =IFERROR(VLOOKUP(H54,NIVELES,2,0),"") | J54: =YEAR(F54)&I54 -> 1900 | K54: =IFERROR(VLOOKUP(J54,CATEGORIAS,2,0),"") | M54: =IF('INSCRIPCIONES NUEVOS'!$C54<>"",IF('INSCRIPCIONES NUEVOS'!$B54="",115000,105000),"") | O54: =_xlfn.IFNA(VLOOKUP('INSCRIPCIONES NUEVOS'!$B54,'BASE DE DATOS 2025'!$N$3:$R$652,4,FALSE),"") | R54: =+UPPER(TRIM('INSCRIPCIONES NUEVOS'!$C54)) | S54: =+UPPER(TRIM('INSCRIPCIONES NUEVOS'!$D54)) | U54: =UPPER(TRIM('INSCRIPCIONES NUEVOS'!$L54))
A55: =IF(C55<>"",SUBTOTAL(103,$C$7:C55),"") | G55: =IF(F55="","",YEAR(NOW())-YEAR(F55)) | I55: =IFERROR(VLOOKUP(H55,NIVELES,2,0),"") | J55: =YEAR(F55)&I55 -> 1900 | K55: =IFERROR(VLOOKUP(J55,CATEGORIAS,2,0),"") | M55: =IF('INSCRIPCIONES NUEVOS'!$C55<>"",IF('INSCRIPCIONES NUEVOS'!$B55="",115000,105000),"") | O55: =_xlfn.IFNA(VLOOKUP('INSCRIPCIONES NUEVOS'!$B55,'BASE DE DATOS 2025'!$N$3:$R$652,4,FALSE),"") | R55: =+UPPER(TRIM('INSCRIPCIONES NUEVOS'!$C55)) | S55: =+UPPER(TRIM('INSCRIPCIONES NUEVOS'!$D55)) | U55: =UPPER(TRIM('INSCRIPCIONES NUEVOS'!$L55))
A56: =IF(C56<>"",SUBTOTAL(103,$C$7:C56),"") | G56: =IF(F56="","",YEAR(NOW())-YEAR(F56)) | I56: =IFERROR(VLOOKUP(H56,NIVELES,2,0),"") | J56: =YEAR(F56)&I56 -> 1900 | K56: =IFERROR(VLOOKUP(J56,CATEGORIAS,2,0),"") | M56: =IF('INSCRIPCIONES NUEVOS'!$C56<>"",IF('INSCRIPCIONES NUEVOS'!$B56="",115000,105000),"") | O56: =_xlfn.IFNA(VLOOKUP('INSCRIPCIONES NUEVOS'!$B56,'BASE DE DATOS 2025'!$N$3:$R$652,4,FALSE),"") | R56: =+UPPER(TRIM('INSCRIPCIONES NUEVOS'!$C56)) | S56: =+UPPER(TRIM('INSCRIPCIONES NUEVOS'!$D56)) | U56: =UPPER(TRIM('INSCRIPCIONES NUEVOS'!$L56))
A57: =IF(C57<>"",SUBTOTAL(103,$C$7:C57),"") | G57: =IF(F57="","",YEAR(NOW())-YEAR(F57)) | I57: =IFERROR(VLOOKUP(H57,NIVELES,2,0),"") | J57: =YEAR(F57)&I57 -> 1900 | K57: =IFERROR(VLOOKUP(J57,CATEGORIAS,2,0),"") | M57: =IF('INSCRIPCIONES NUEVOS'!$C57<>"",IF('INSCRIPCIONES NUEVOS'!$B57="",115000,105000),"") | O57: =_xlfn.IFNA(VLOOKUP('INSCRIPCIONES NUEVOS'!$B57,'BASE DE DATOS 2025'!$N$3:$R$652,4,FALSE),"") | R57: =+UPPER(TRIM('INSCRIPCIONES NUEVOS'!$C57)) | S57: =+UPPER(TRIM('INSCRIPCIONES NUEVOS'!$D57)) | U57: =UPPER(TRIM('INSCRIPCIONES NUEVOS'!$L57))
A58: =IF(C58<>"",SUBTOTAL(103,$C$7:C58),"") | G58: =IF(F58="","",YEAR(NOW())-YEAR(F58)) | I58: =IFERROR(VLOOKUP(H58,NIVELES,2,0),"") | J58: =YEAR(F58)&I58 -> 1900 | K58: =IFERROR(VLOOKUP(J58,CATEGORIAS,2,0),"") | M58: =IF('INSCRIPCIONES NUEVOS'!$C58<>"",IF('INSCRIPCIONES NUEVOS'!$B58="",115000,105000),"") | O58: =_xlfn.IFNA(VLOOKUP('INSCRIPCIONES NUEVOS'!$B58,'BASE DE DATOS 2025'!$N$3:$R$652,4,FALSE),"") | R58: =+UPPER(TRIM('INSCRIPCIONES NUEVOS'!$C58)) | S58: =+UPPER(TRIM('INSCRIPCIONES NUEVOS'!$D58)) | U58: =UPPER(TRIM('INSCRIPCIONES NUEVOS'!$L58))
... A63: =IF(C63<>"",SUBTOTAL(103,$C$7:C63),"") | G63: =IF(F63="","",YEAR(NOW())-YEAR(F63)) | I63: =IFERROR(VLOOKUP(H63,NIVELES,2,0),"") | J63: =YEAR(F63)&I63 -> 1900 | K63: =IFERROR(VLOOKUP(J63,CATEGORIAS,2,0),"") | M63: =IF('INSCRIPCIONES NUEVOS'!$C63<>"",IF('INSCRIPCIONES NUEVOS'!$B63="",115000,105000),"") | O63: =_xlfn.IFNA(VLOOKUP('INSCRIPCIONES NUEVOS'!$B63,'BASE DE DATOS 2025'!$N$3:$R$652,4,FALSE),"") | R63: =+UPPER(TRIM('INSCRIPCIONES NUEVOS'!$C63)) | S63: =+UPPER(TRIM('INSCRIPCIONES NUEVOS'!$D63)) | U63: =UPPER(TRIM('INSCRIPCIONES NUEVOS'!$L63))
A64: =IF(C64<>"",SUBTOTAL(103,$C$7:C64),"") | G64: =IF(F64="","",YEAR(NOW())-YEAR(F64)) | I64: =IFERROR(VLOOKUP(H64,NIVELES,2,0),"") | J64: =YEAR(F64)&I64 -> 1900 | K64: =IFERROR(VLOOKUP(J64,CATEGORIAS,2,0),"") | M64: =IF('INSCRIPCIONES NUEVOS'!$C64<>"",IF('INSCRIPCIONES NUEVOS'!$B64="",115000,105000),"") | R64: =+UPPER(TRIM('INSCRIPCIONES NUEVOS'!$C64)) | S64: =+UPPER(TRIM('INSCRIPCIONES NUEVOS'!$D64))
A65: =IF(C65<>"",SUBTOTAL(103,$C$7:C65),"") | G65: =IF(F65="","",YEAR(NOW())-YEAR(F65)) | I65: =IFERROR(VLOOKUP(H65,NIVELES,2,0),"") | J65: =YEAR(F65)&I65 -> 1900 | K65: =IFERROR(VLOOKUP(J65,CATEGORIAS,2,0),"") | M65: =IF('INSCRIPCIONES NUEVOS'!$C65<>"",IF('INSCRIPCIONES NUEVOS'!$B65="",115000,105000),"") | R65: =+UPPER(TRIM('INSCRIPCIONES NUEVOS'!$C65)) | S65: =+UPPER(TRIM('INSCRIPCIONES NUEVOS'!$D65))
A66: =IF(C66<>"",SUBTOTAL(103,$C$7:C66),"") | G66: =IF(F66="","",YEAR(NOW())-YEAR(F66)) | I66: =IFERROR(VLOOKUP(H66,NIVELES,2,0),"") | J66: =YEAR(F66)&I66 -> 1900 | K66: =IFERROR(VLOOKUP(J66,CATEGORIAS,2,0),"") | M66: =IF('INSCRIPCIONES NUEVOS'!$C66<>"",IF('INSCRIPCIONES NUEVOS'!$B66="",115000,105000),"") | R66: =+UPPER(TRIM('INSCRIPCIONES NUEVOS'!$C66)) | S66: =+UPPER(TRIM('INSCRIPCIONES NUEVOS'!$D66))
